BEGIN:VCALENDAR
VERSION:2.0
PRODID:-//spcaLA - ECPv6.15.18//NONSGML v1.0//EN
CALSCALE:GREGORIAN
METHOD:PUBLISH
X-ORIGINAL-URL:https://spcala.com
X-WR-CALDESC:Events for spcaLA
REFRESH-INTERVAL;VALUE=DURATION:PT1H
X-Robots-Tag:noindex
X-PUBLISHED-TTL:PT1H
BEGIN:VTIMEZONE
TZID:America/Los_Angeles
BEGIN:DAYLIGHT
TZOFFSETFROM:-0800
TZOFFSETTO:-0700
TZNAME:PDT
DTSTART:20240310T100000
END:DAYLIGHT
BEGIN:STANDARD
TZOFFSETFROM:-0700
TZOFFSETTO:-0800
TZNAME:PST
DTSTART:20241103T090000
END:STANDARD
BEGIN:DAYLIGHT
TZOFFSETFROM:-0800
TZOFFSETTO:-0700
TZNAME:PDT
DTSTART:20250309T100000
END:DAYLIGHT
BEGIN:STANDARD
TZOFFSETFROM:-0700
TZOFFSETTO:-0800
TZNAME:PST
DTSTART:20251102T090000
END:STANDARD
BEGIN:DAYLIGHT
TZOFFSETFROM:-0800
TZOFFSETTO:-0700
TZNAME:PDT
DTSTART:20260308T100000
END:DAYLIGHT
BEGIN:STANDARD
TZOFFSETFROM:-0700
TZOFFSETTO:-0800
TZNAME:PST
DTSTART:20261101T090000
END:STANDARD
END:VTIMEZONE
BEGIN:VEVENT
DTSTART;VALUE=DATE:20250827
DTEND;VALUE=DATE:20250828
DTSTAMP:20260425T211217
CREATED:20250729T202956Z
LAST-MODIFIED:20250804T190351Z
UID:159229-1756252800-1756339199@spcala.com
SUMMARY:Dine & Donate: Domenico's
DESCRIPTION:Enjoy your favorite pizza\, pasta\, and salads at Domenico’s in Belmont Shore and they’ll donate 25% of your check back to spcaLA! Show this flyer for dine-in or take-out  during lunch or dinner on Wednesday\, August 27th to participate. \nMust present flyer to participate (sorry\, cannot be used with third party delivery services).
URL:https://spcala.com/event/dine-donate-domenicos/
LOCATION:Domenico’s Restaurant\, 5339 E. Second Street\, Belmont Shore\, CA\, 90803\, United States
CATEGORIES:Dine & Donate
GEO:33.7591462;-118.1315426
X-APPLE-STRUCTURED-LOCATION;VALUE=URI;X-ADDRESS=Domenico’s Restaurant 5339 E. Second Street Belmont Shore CA 90803 United States;X-APPLE-RADIUS=500;X-TITLE=5339 E. Second Street:geo:-118.1315426,33.7591462
END:VEVENT
END:VCALENDAR