BEGIN:VCALENDAR
VERSION:2.0
PRODID:-//spcaLA - ECPv6.15.18//NONSGML v1.0//EN
CALSCALE:GREGORIAN
METHOD:PUBLISH
X-WR-CALNAME:spcaLA
X-ORIGINAL-URL:https://spcala.com
X-WR-CALDESC:Events for spcaLA
REFRESH-INTERVAL;VALUE=DURATION:PT1H
X-Robots-Tag:noindex
X-PUBLISHED-TTL:PT1H
BEGIN:VTIMEZONE
TZID:America/Los_Angeles
BEGIN:DAYLIGHT
TZOFFSETFROM:-0800
TZOFFSETTO:-0700
TZNAME:PDT
DTSTART:20250309T100000
END:DAYLIGHT
BEGIN:STANDARD
TZOFFSETFROM:-0700
TZOFFSETTO:-0800
TZNAME:PST
DTSTART:20251102T090000
END:STANDARD
BEGIN:DAYLIGHT
TZOFFSETFROM:-0800
TZOFFSETTO:-0700
TZNAME:PDT
DTSTART:20260308T100000
END:DAYLIGHT
BEGIN:STANDARD
TZOFFSETFROM:-0700
TZOFFSETTO:-0800
TZNAME:PST
DTSTART:20261101T090000
END:STANDARD
BEGIN:DAYLIGHT
TZOFFSETFROM:-0800
TZOFFSETTO:-0700
TZNAME:PDT
DTSTART:20270314T100000
END:DAYLIGHT
BEGIN:STANDARD
TZOFFSETFROM:-0700
TZOFFSETTO:-0800
TZNAME:PST
DTSTART:20271107T090000
END:STANDARD
END:VTIMEZONE
BEGIN:VEVENT
DTSTART;TZID=America/Los_Angeles:20260228T110000
DTEND;TZID=America/Los_Angeles:20260228T200000
DTSTAMP:20260425T142513
CREATED:20260128T182548Z
LAST-MODIFIED:20260128T185707Z
UID:160409-1772276400-1772308800@spcala.com
SUMMARY:Dine & Donate: California Fish Grill - Culver City
DESCRIPTION:Eat to support spcaLA! \nDine at the California Fish Grill in Culver City on Saturday\, February 28th and they’ll donate 25% back to spcaLA! Participate by RSVPing\, then mention ‘spcaLA’ at check-out. For take out and delivery\, place your order online at California Fish Grill’s website by using the promo code “fund2026”.
URL:https://spcala.com/event/dine-donate-california-fish-grill-culver-city/
LOCATION:California Fish Grill\, 6150 Slauson Ave.\, Culver City\, CA
CATEGORIES:Dine & Donate
END:VEVENT
END:VCALENDAR