BEGIN:VCALENDAR
VERSION:2.0
PRODID:-//spcaLA - ECPv6.15.18//NONSGML v1.0//EN
CALSCALE:GREGORIAN
METHOD:PUBLISH
X-ORIGINAL-URL:https://spcala.com
X-WR-CALDESC:Events for spcaLA
REFRESH-INTERVAL;VALUE=DURATION:PT1H
X-Robots-Tag:noindex
X-PUBLISHED-TTL:PT1H
BEGIN:VTIMEZONE
TZID:America/Los_Angeles
BEGIN:DAYLIGHT
TZOFFSETFROM:-0800
TZOFFSETTO:-0700
TZNAME:PDT
DTSTART:20250309T100000
END:DAYLIGHT
BEGIN:STANDARD
TZOFFSETFROM:-0700
TZOFFSETTO:-0800
TZNAME:PST
DTSTART:20251102T090000
END:STANDARD
BEGIN:DAYLIGHT
TZOFFSETFROM:-0800
TZOFFSETTO:-0700
TZNAME:PDT
DTSTART:20260308T100000
END:DAYLIGHT
BEGIN:STANDARD
TZOFFSETFROM:-0700
TZOFFSETTO:-0800
TZNAME:PST
DTSTART:20261101T090000
END:STANDARD
BEGIN:DAYLIGHT
TZOFFSETFROM:-0800
TZOFFSETTO:-0700
TZNAME:PDT
DTSTART:20270314T100000
END:DAYLIGHT
BEGIN:STANDARD
TZOFFSETFROM:-0700
TZOFFSETTO:-0800
TZNAME:PST
DTSTART:20271107T090000
END:STANDARD
END:VTIMEZONE
BEGIN:VEVENT
DTSTART;TZID=America/Los_Angeles:20260325T160000
DTEND;TZID=America/Los_Angeles:20260325T210000
DTSTAMP:20260425T094833
CREATED:20260204T165032Z
LAST-MODIFIED:20260309T184936Z
UID:160443-1774454400-1774472400@spcala.com
SUMMARY:Dine & Donate: Domenico's Restaurant
DESCRIPTION:Take a bite of your favorite pizza\, pasta\, and salads at Domenico’s in Belmont Shore and help animals in need! 🍕🐾 On Wednesday\, March 25\, Domenico’s will donate 25% of your check back to spcaLA when you show this flyer. \n\nDine‑in or take‑out. Vegetarian/vegan options available. \nJust don’t forget to show this flyer to participate (and heads up—third‑party delivery services don’t apply).
URL:https://spcala.com/event/160443/
LOCATION:Domenico’s Restaurant\, 5339 E. Second Street\, Belmont Shore\, CA\, 90803\, United States
CATEGORIES:Dine & Donate
ATTACH;FMTTYPE=image/png:https://eadn-wc04-6027823.nxedge.io/wp-content/uploads/2026/02/domenicos-dine-donate-2026-FBEventCover.png
GEO:33.7591462;-118.1315426
X-APPLE-STRUCTURED-LOCATION;VALUE=URI;X-ADDRESS=Domenico’s Restaurant 5339 E. Second Street Belmont Shore CA 90803 United States;X-APPLE-RADIUS=500;X-TITLE=5339 E. Second Street:geo:-118.1315426,33.7591462
END:VEVENT
END:VCALENDAR