BEGIN:VCALENDAR
VERSION:2.0
PRODID:-//spcaLA - ECPv6.15.18//NONSGML v1.0//EN
CALSCALE:GREGORIAN
METHOD:PUBLISH
X-WR-CALNAME:spcaLA
X-ORIGINAL-URL:https://spcala.com
X-WR-CALDESC:Events for spcaLA
REFRESH-INTERVAL;VALUE=DURATION:PT1H
X-Robots-Tag:noindex
X-PUBLISHED-TTL:PT1H
BEGIN:VTIMEZONE
TZID:America/Los_Angeles
BEGIN:DAYLIGHT
TZOFFSETFROM:-0800
TZOFFSETTO:-0700
TZNAME:PDT
DTSTART:20200308T100000
END:DAYLIGHT
BEGIN:STANDARD
TZOFFSETFROM:-0700
TZOFFSETTO:-0800
TZNAME:PST
DTSTART:20201101T090000
END:STANDARD
BEGIN:DAYLIGHT
TZOFFSETFROM:-0800
TZOFFSETTO:-0700
TZNAME:PDT
DTSTART:20210314T100000
END:DAYLIGHT
BEGIN:STANDARD
TZOFFSETFROM:-0700
TZOFFSETTO:-0800
TZNAME:PST
DTSTART:20211107T090000
END:STANDARD
BEGIN:DAYLIGHT
TZOFFSETFROM:-0800
TZOFFSETTO:-0700
TZNAME:PDT
DTSTART:20220313T100000
END:DAYLIGHT
BEGIN:STANDARD
TZOFFSETFROM:-0700
TZOFFSETTO:-0800
TZNAME:PST
DTSTART:20221106T090000
END:STANDARD
BEGIN:DAYLIGHT
TZOFFSETFROM:-0800
TZOFFSETTO:-0700
TZNAME:PDT
DTSTART:20230312T100000
END:DAYLIGHT
BEGIN:STANDARD
TZOFFSETFROM:-0700
TZOFFSETTO:-0800
TZNAME:PST
DTSTART:20231105T090000
END:STANDARD
BEGIN:DAYLIGHT
TZOFFSETFROM:-0800
TZOFFSETTO:-0700
TZNAME:PDT
DTSTART:20240310T100000
END:DAYLIGHT
BEGIN:STANDARD
TZOFFSETFROM:-0700
TZOFFSETTO:-0800
TZNAME:PST
DTSTART:20241103T090000
END:STANDARD
BEGIN:DAYLIGHT
TZOFFSETFROM:-0800
TZOFFSETTO:-0700
TZNAME:PDT
DTSTART:20250309T100000
END:DAYLIGHT
BEGIN:STANDARD
TZOFFSETFROM:-0700
TZOFFSETTO:-0800
TZNAME:PST
DTSTART:20251102T090000
END:STANDARD
END:VTIMEZONE
BEGIN:VEVENT
DTSTART;TZID=America/Los_Angeles:20240220T110000
DTEND;TZID=America/Los_Angeles:20240220T230000
DTSTAMP:20260425T161030
CREATED:20240130T192723Z
LAST-MODIFIED:20240206T221454Z
UID:151553-1708426800-1708470000@spcala.com
SUMMARY:Dine & Donate: BJ's Restaurant & Brewhouse - Cerritos
DESCRIPTION:Want to help animals and enjoy a meal out? Join us for a Dine & Donate at BJ’s Restaurant & Brewhouse in Cerritos on Tuesday\, February 20th. All day long from 11am to 11pm\, show this flyer and BJ’s will donate 20% of your bill (excludes alcohol\, Happy Hour specials\, or delivery) to help the homeless pets of spcaLA. \nIncludes online and take-out orders! Online: enter 6 digit code at checkout (found on flyer). Take-out: present flyer at pick-up. \nVegetarian options available.
URL:https://spcala.com/event/dine-donate-bjs-cerritos/
LOCATION:BJ’s Restaurant & Brewhouse\, 11101 183rd Street\, Cerritos\, CA\, 90703
CATEGORIES:Dine & Donate
END:VEVENT
BEGIN:VEVENT
DTSTART;VALUE=DATE:20240212
DTEND;VALUE=DATE:20240220
DTSTAMP:20260425T161030
CREATED:20231016T185439Z
LAST-MODIFIED:20240212T195800Z
UID:150813-1707696000-1708387199@spcala.com
SUMMARY:Krispy Kreme Dozens to Support
DESCRIPTION:🍩 spcaLA is giving you the best reason to indulge in a dozen (or two) Krispy Kreme doughnuts with the Valentine’s Day Digital Dozens Fundraising Challenge & Giveaway!🍩 50% of your order will be donated back to spcaLA when you purchase via our fundraising sales page and spcaLA could win additional cash prizes. Simply buy online\, visit your local store & redeem using your code. Treat yourself or even gift them to friends and family!
URL:https://spcala.com/event/krispy-kreme-digital-fundraiser-2/
LOCATION:CA
CATEGORIES:Dine & Donate
END:VEVENT
BEGIN:VEVENT
DTSTART;TZID=America/Los_Angeles:20231228T080000
DTEND;TZID=America/Los_Angeles:20231228T220000
DTSTAMP:20260425T161030
CREATED:20231218T222711Z
LAST-MODIFIED:20231222T231503Z
UID:151276-1703750400-1703800800@spcala.com
SUMMARY:Dine & Donate: Dog Haus Long Beach
DESCRIPTION:It’s our final Dine & Donate of the year! ALL DAY LONG dine at Dog Haus Biergarten in Long Beach and they’ll donate 20% to spcaLA on Thursday\, December 28th when you show this nifty flyer. \nVegetarian options available.
URL:https://spcala.com/event/dine-donate-dog-haus-long-beach/
LOCATION:Dog Haus Biergarten\, 210 East 3rd Street\, Long Beach\, CA\, 90802\, United States
CATEGORIES:Dine & Donate
GEO:33.7703276;-118.1907189
X-APPLE-STRUCTURED-LOCATION;VALUE=URI;X-ADDRESS=Dog Haus Biergarten 210 East 3rd Street Long Beach CA 90802 United States;X-APPLE-RADIUS=500;X-TITLE=210 East 3rd Street:geo:-118.1907189,33.7703276
END:VEVENT
BEGIN:VEVENT
DTSTART;TZID=America/Los_Angeles:20231128T100000
DTEND;TZID=America/Los_Angeles:20231128T235900
DTSTAMP:20260425T161030
CREATED:20220719T182944Z
LAST-MODIFIED:20231109T224432Z
UID:119821-1701165600-1701215940@spcala.com
SUMMARY:Dine & Donate: Lazy Dog - Cerritos
DESCRIPTION:Dine at Lazy Dog Restaurant in Cerritos and they’ll donate 15% back to homeless pets! All day long on Tuesday\, November 28th\, present this flyer to your server to participate. Bring your pup and enjoy their patio or order online to-go with code 08SPCA . \nVegetarian/vegan options available. \n  \n 
URL:https://spcala.com/event/dine-donate-lazy-dog-cerritos/
LOCATION:Lazy Dog – Cerritos\, 278 Los Cerritos Center\, Cerritos\, CA\, 90703\, United States
CATEGORIES:Dine & Donate
END:VEVENT
BEGIN:VEVENT
DTSTART;TZID=America/Los_Angeles:20231111T103000
DTEND;TZID=America/Los_Angeles:20231111T223000
DTSTAMP:20260425T161030
CREATED:20221107T234033Z
LAST-MODIFIED:20231018T231127Z
UID:122222-1699698600-1699741800@spcala.com
SUMMARY:Dine & Donate: Shake Shack - Long Beach
DESCRIPTION:It’s a Dine & Donate at Shake Shack in Long Beach on Saturday\, November 11th from 10:30am-10:30pm for Donation Day! Show this flyer at the register or use code DONATE25 on the Shack App for pick up\, delivery or kiosk when checking out and Shake Shack will donate 25% of your total meal purchase to spcaLA. \nVegetarian/Vegan options available.
URL:https://spcala.com/event/dine-donate-shake-shack-dtla/
LOCATION:Shake Shack – Long Beach\, 6440 East Pacific Coast HWY #100\, Long Beach\, CA
CATEGORIES:Dine & Donate
END:VEVENT
BEGIN:VEVENT
DTSTART;TZID=America/Los_Angeles:20230906T120000
DTEND;TZID=America/Los_Angeles:20230906T220000
DTSTAMP:20260425T161030
CREATED:20230731T221255Z
LAST-MODIFIED:20230731T223057Z
UID:150349-1694001600-1694037600@spcala.com
SUMMARY:Dine & Donate: Handel's Homemade Ice Cream - Downey
DESCRIPTION:Summer’s not over…yet! Visit Handel’s Homemade Ice Cream in Downey and raise money for shelter pets! On Wednesday September 6th\, 20% of sales will be donated to spcaLA. Handel’s is open from 12pm-10pm – see you there! \nDog friendly! Treats for pups available. Vegan options\, too.
URL:https://spcala.com/event/dine-donate-handels-homemade-ice-cream-downey/
LOCATION:Handel’s Homemade Ice Cream\, 8855 Apollo Way\, Downey\, CA\, 90242
CATEGORIES:Dine & Donate
END:VEVENT
BEGIN:VEVENT
DTSTART;TZID=America/Los_Angeles:20230819T070000
DTEND;TZID=America/Los_Angeles:20230819T160000
DTSTAMP:20260425T161030
CREATED:20230623T204100Z
LAST-MODIFIED:20230705T231450Z
UID:150107-1692428400-1692460800@spcala.com
SUMMARY:Dine & Donate: Loaded Cafe - Lawndale
DESCRIPTION:Loaded Cafe in Lawndale is hosting a Dine & Donate in support of spcaLA shelter pets! On Saturday\, August 19th from 7am to 4pm\, dine and they’ll donate 20% of your bill. When ordering your meal\, just mention spcaLA and they’ll take care of the rest! \nCan you make it? Let us know and RSVP! In order for Loaded Cafe to donate a percentage of sales back to spcaLA\, we must meet the minimum number of RSVPs. \nVegetarian options available.
URL:https://spcala.com/event/dine-donate-loaded-cafe-lawndale/
LOCATION:Loaded Cafe\, 15126 Hawthorne Blvd.\, Lawndale\, CA
CATEGORIES:Dine & Donate
END:VEVENT
BEGIN:VEVENT
DTSTART;TZID=America/Los_Angeles:20230815T120000
DTEND;TZID=America/Los_Angeles:20230815T200000
DTSTAMP:20260425T161030
CREATED:20230623T205020Z
LAST-MODIFIED:20230706T224454Z
UID:150109-1692100800-1692129600@spcala.com
SUMMARY:Dine & Donate: Yogurtland - Lakewood
DESCRIPTION:Yogurtland in Lakewood is hosting a Dine & Donate in support of spcaLA shelter pets! On Tuesday\, August 15th from 12pm to 8pm\, dine and they’ll donate 20% of your bill. When ordering your meal\, just mention spcaLA and they’ll take care of the rest! \nCan you make it? Let us know and RSVP! In order for Yogurtland to donate a percentage of sales back to spcaLA\, we must meet the minimum number of RSVPs. \nDairy-free options available
URL:https://spcala.com/event/dine-donate-yogurtland-lakewood/
LOCATION:Yogurtland\, 5017 Lakewood Blvd.\, Lakewood\, Lakewood
CATEGORIES:Dine & Donate
END:VEVENT
BEGIN:VEVENT
DTSTART;TZID=America/Los_Angeles:20230719T110000
DTEND;TZID=America/Los_Angeles:20230719T220000
DTSTAMP:20260425T161030
CREATED:20210206T003628Z
LAST-MODIFIED:20230714T211212Z
UID:94163-1689764400-1689804000@spcala.com
SUMMARY:Dine & Donate: Handel's Homemade Ice Cream - Long Beach
DESCRIPTION:Celebrate National Ice Cream Month at at Handel’s Homemade Ice Cream in Long Beach and raise money for shelter pets! On Wednesday July 19th\, 20% of sales will be donated to spcaLA. Handel’s is open from 11am-10pm – perfect for hot summer days and nights! \nDog friendly! Treats for pups available. Vegan options\, too.
URL:https://spcala.com/event/dine-donate-handels-homemade-ice-cream/
LOCATION:Handel’s Homemdae Ice Cream\, 4201 McGowen St. Suite 200\, Long Beach\, CA\, 90808\, United States
CATEGORIES:Dine & Donate
END:VEVENT
BEGIN:VEVENT
DTSTART;TZID=America/Los_Angeles:20230708T110000
DTEND;TZID=America/Los_Angeles:20230708T210000
DTSTAMP:20260425T161030
CREATED:20230615T181206Z
LAST-MODIFIED:20230623T214223Z
UID:149986-1688814000-1688850000@spcala.com
SUMMARY:Dine & Donate: The Flame Broiler - Los Alamitos
DESCRIPTION:Flame Broiler in Los Alamitos is hosting a Dine & Donate in support of spcaLA shelter pets! On Saturday\, July 8th from 11am to 9pm\, dine out at Flame Broiler and 20% of your bill will be donated. When ordering your meal\, mention spcaLA and they’ll take care of the rest! \nCan you make it? Let us know and RSVP! In order for Flame Broiler to donate a percentage of sales back to spcaLA\, we must meet the minimum number of RSVPs. \nVegan/vegetarian options available.
URL:https://spcala.com/event/dine-donate-the-flame-broiler-los-alamitos/
LOCATION:Flame Broiler\, 11182 Los Alamitos Blvd.\, Los Alamitos\, CA\, 90720\, United States
CATEGORIES:Dine & Donate
END:VEVENT
BEGIN:VEVENT
DTSTART;TZID=America/Los_Angeles:20230703T070000
DTEND;TZID=America/Los_Angeles:20230703T210000
DTSTAMP:20260425T161030
CREATED:20230620T184715Z
LAST-MODIFIED:20230628T190553Z
UID:150063-1688367600-1688418000@spcala.com
SUMMARY:Dine & Donate: Hof's Hut Restaurant & Bakery - Long Beach
DESCRIPTION:Hof’s Hut Restaurant & Bakery in Long Beach is hosting a Dine & Donate in support of spcaLA shelter pets! On Monday\, July 3rd from 7am to 9pm\, dine at Hof’s Hut and 20% of your bill will be donated. When ordering your meal\, mention spcaLA and they’ll take care of the rest. \nCan you make it? Let us know and RSVP! In order for Hof’s Hut to donate a percentage of sales back to spcaLA\, we must meet the minimum number of RSVPs. RSVP here. \nVegetarian options available.
URL:https://spcala.com/event/dine-donate-hofs-hut-restaurant-bakery-long-beach/
LOCATION:Hof’s Hut\, 2147 Bellflower Blvd.\, Long Beach\, CA\, 90815
CATEGORIES:Dine & Donate
END:VEVENT
BEGIN:VEVENT
DTSTART;TZID=America/Los_Angeles:20230510T160000
DTEND;TZID=America/Los_Angeles:20230510T210000
DTSTAMP:20260425T161030
CREATED:20230317T215002Z
LAST-MODIFIED:20230412T230554Z
UID:148454-1683734400-1683752400@spcala.com
SUMMARY:Dine & Donate: Emporium Thai
DESCRIPTION:This Dine & Donate donates 15% of your bill to spcaLA! It’s at Emporium Thai in Westwood on Wednesday\, May 10th form 4pm-9pm. Can you make it? RSVP here to let us know you are coming! \nVegan/Vegetarian/Gluten Free options available. \nFundraiser good for dine-in\, phone/web orders from the restaurant or restaurant website. Mention spcaLA when ordering by phone or comment in notes section of online order form (excludes 3rd party apps). \nThis Dine & Donate event is hosted by GroupRaise. That means a minimum number of people must RSVP in order for the fundraiser to unlock. Please RSVP! Even if you don’t make it. We’ll miss you\, but it will allow spcaLA to garner donations from those who dine & donate.
URL:https://spcala.com/event/done-donate-emporium-thai/
LOCATION:Emporium Thai\, 1275 Westwood Blvd.\, Los Angeles\, CA
CATEGORIES:Dine & Donate
END:VEVENT
BEGIN:VEVENT
DTSTART;TZID=America/Los_Angeles:20230413T110000
DTEND;TZID=America/Los_Angeles:20230413T210000
DTSTAMP:20260425T161030
CREATED:20230407T233521Z
LAST-MODIFIED:20230407T233521Z
UID:148999-1681383600-1681419600@spcala.com
SUMMARY:Dine & Donate: Boba Bee - Long Beach
DESCRIPTION:Boba for buddies at Boba Bee! 20% of your bill will be donated to spcaLA on April 13th\, 11am-9pm. \nThis fundraiser is in support of a Long Beach high school student’s senior project! Let’s support them and shelter pets!
URL:https://spcala.com/event/dine-donate-boba-bee-long-beach/
LOCATION:Boba Bee\, 6537 E. Spring St\, Long Beach\, CA\, 90808
CATEGORIES:Dine & Donate
END:VEVENT
BEGIN:VEVENT
DTSTART;TZID=America/Los_Angeles:20230118T073000
DTEND;TZID=America/Los_Angeles:20230118T193000
DTSTAMP:20260425T161030
CREATED:20230104T214732Z
LAST-MODIFIED:20230105T231259Z
UID:146787-1674027000-1674070200@spcala.com
SUMMARY:Dine & Donate: Corner Bakery - Beverly Grove
DESCRIPTION:It’s a good day for a Dine & Donate! Visit the Corner Bakery location in Beverly Grove and they’ll donate 15% of your bill to spcaLA. No flyer necessary – just mention spcaLA when ordering. \nThis fundraiser will take place Wednesday\, January 18th from 7:30am to 7:30pm. Good for dine-in or take-out (by phone or online with coupon code 659).
URL:https://spcala.com/event/dine-donate-corner-bakery-2/
LOCATION:Corner Bakery – Beverly Grove\, 100 N. La Cienega Blvd\, Los Angeles\, CA\, 90048
CATEGORIES:Dine & Donate
ATTACH;FMTTYPE=image/webp:https://eadn-wc04-6027823.nxedge.io/wp-content/uploads/2023/01/corner-bakery-jan2023_WebEvent-600x300-1.webp
END:VEVENT
BEGIN:VEVENT
DTSTART;TZID=America/Los_Angeles:20221228T113000
DTEND;TZID=America/Los_Angeles:20221228T210000
DTSTAMP:20260425T161030
CREATED:20221214T173324Z
LAST-MODIFIED:20221228T163656Z
UID:146406-1672227000-1672261200@spcala.com
SUMMARY:Dine & Donate: Humble Potato
DESCRIPTION:It’s the last Dine & Donate of the year! Humble Potato in Culver City is donating 15% of your bill to spcaLA all day long Wednesday\, December 28th. No flyer necessary! Just mention ‘spcaLA’ when ordering in-person or by phone. \nHumble Potato is a down-to-earth neighborhood eatery\, serving comfort food with a Japanese twist. Veggie/Vegan options available.
URL:https://spcala.com/event/dine-donate-humble-potato/
LOCATION:Humble Potato\, 12608 W. Washington Blvd.\, Culver City\, CA\, 90066
CATEGORIES:Dine & Donate
ATTACH;FMTTYPE=image/webp:https://eadn-wc04-6027823.nxedge.io/wp-content/uploads/2022/12/humble-potato-webevent-1.webp
END:VEVENT
BEGIN:VEVENT
DTSTART;TZID=America/Los_Angeles:20221110T100000
DTEND;TZID=America/Los_Angeles:20221110T220000
DTSTAMP:20260425T161030
CREATED:20220726T230512Z
LAST-MODIFIED:20221025T213027Z
UID:120035-1668074400-1668117600@spcala.com
SUMMARY:Dine & Donate: Panda Express - Long Beach
DESCRIPTION:It’s an all-day party for spcaLA at Panda Express! Dine and they’ll donate 20% sales back to spcaLA. Visit the Long Beach location on Thursday\, November 10th and show this flyer on your phone to participate. Online orders use code 339608. Veggie/vegan options available.
URL:https://spcala.com/event/dine-donate-panda-express-long-beach/
LOCATION:Panda Express Long Beach\, 5945 Spring St\, Long Beach\, CA\, 90808\, United States
CATEGORIES:Dine & Donate
ATTACH;FMTTYPE=image/webp:https://eadn-wc04-6027823.nxedge.io/wp-content/uploads/2022/07/panda-express-nov.2022-WebEvent-600x300-1.webp
END:VEVENT
BEGIN:VEVENT
DTSTART;TZID=America/Los_Angeles:20221015T103000
DTEND;TZID=America/Los_Angeles:20221015T213000
DTSTAMP:20260425T161030
CREATED:20220908T231722Z
LAST-MODIFIED:20221006T173916Z
UID:120990-1665829800-1665869400@spcala.com
SUMMARY:Dine & Donate: Johnny Rockets Manhattan Beach
DESCRIPTION:Bring a friend and dine & donate at Johnny Rockets Manhattan Beach! All day Saturday\, October 15th\, they’ll donate 15% of your bill to spcaLA when you present this flyer. Fundraiser good for dine-in only. \nVegetarian/vegan options available.
URL:https://spcala.com/event/dine-donate-johnny-rockets-manhattan-beach/
LOCATION:Johnny Rockets\, 1550 Rosecrans Ave.\, Manhattan Beach\, CA\, 90266
CATEGORIES:Dine & Donate
END:VEVENT
BEGIN:VEVENT
DTSTART;TZID=America/Los_Angeles:20220921T110000
DTEND;TZID=America/Los_Angeles:20220921T210000
DTSTAMP:20260425T161030
CREATED:20220830T215815Z
LAST-MODIFIED:20220909T225740Z
UID:120790-1663758000-1663794000@spcala.com
SUMMARY:Dine & Donate: Smashburger Manhattan Beach
DESCRIPTION:All day long Wednesday\, September 21st\, dine at Smashburger in Manhattan Beach and they’ll donate 20% back to spcaLA. Dine-in or take-out just\, mention spcaLA when you order. Vegetarian options available.
URL:https://spcala.com/event/dine-donate-smashburger-manhattan-beach/
LOCATION:Smashburger\, 3026 Sepulveda Blvd\, Manhattan Beach\, United States
CATEGORIES:Dine & Donate
ATTACH;FMTTYPE=image/webp:https://eadn-wc04-6027823.nxedge.io/wp-content/uploads/2022/08/smash-burger-sept-2022-webEvent-600x300-1.webp
END:VEVENT
BEGIN:VEVENT
DTSTART;TZID=America/Los_Angeles:20220822T113000
DTEND;TZID=America/Los_Angeles:20220822T213000
DTSTAMP:20260425T161030
CREATED:20220707T200506Z
LAST-MODIFIED:20220715T222557Z
UID:119574-1661167800-1661203800@spcala.com
SUMMARY:Dine & Donate: Domenico's Italian Restaurant
DESCRIPTION:Celebrate National Spumoni Day and help animals! Dine out at Domenico’s Italian Restaurant on Monday\, August 22nd from 11:30am to 9:30pm 25% of your bill will benefit spcaLA! Dine-in or take-out. \nDomenico’s\n5339 E. Second Street – Belmont Shore\nLong Beach\, CA 90803\n(562) 439-0261 \nPresent event flyer to participate. FLYER.
URL:https://spcala.com/event/dine-donate-domenicos-italian-restaurant-2/
LOCATION:Domenico’s Restaurant\, 5339 E. Second Street\, Belmont Shore\, CA\, 90803\, United States
CATEGORIES:Dine & Donate
GEO:33.7591462;-118.1315426
X-APPLE-STRUCTURED-LOCATION;VALUE=URI;X-ADDRESS=Domenico’s Restaurant 5339 E. Second Street Belmont Shore CA 90803 United States;X-APPLE-RADIUS=500;X-TITLE=5339 E. Second Street:geo:-118.1315426,33.7591462
END:VEVENT
BEGIN:VEVENT
DTSTART;TZID=America/Los_Angeles:20220727T130000
DTEND;TZID=America/Los_Angeles:20220727T160000
DTSTAMP:20260425T161030
CREATED:20220713T221903Z
LAST-MODIFIED:20220721T194259Z
UID:119693-1658926800-1658937600@spcala.com
SUMMARY:Dine & Donate: The Flame Broiler - Inglewood
DESCRIPTION:Dine at The Flame Broiler in Inglewood and they’ll donate 20% of your bill to spcaLA! Mention ‘spcaLA’ when ordering one of their famous rice bowls\, and they’ll take care of the rest. No flyer or code needed! \nWednesday\, July 27th \n1pm-4pm \nVegan/Vegetarian options available.
URL:https://spcala.com/event/dine-donate-flame-broiler/
LOCATION:Flame Broiler\, 11182 Los Alamitos Blvd.\, Los Alamitos\, CA\, 90720\, United States
CATEGORIES:Dine & Donate
END:VEVENT
BEGIN:VEVENT
DTSTART;TZID=America/Los_Angeles:20220712T080000
DTEND;TZID=America/Los_Angeles:20220712T210000
DTSTAMP:20260425T161030
CREATED:20220617T213620Z
LAST-MODIFIED:20220621T230237Z
UID:119107-1657612800-1657659600@spcala.com
SUMMARY:Dine & Donate: Polly's Pies
DESCRIPTION:Celebrate National Pecan Pie Day with a Dine & Donate at Polly’s Pies! Present this flyer and they’ll donate 20% of your bill to spcaLA. \nPolly’s Pies\n3490 Atlantic Blvd\nLong Beach CA
URL:https://spcala.com/event/dine-donate-polly/
LOCATION:Polly’s Pies\, 3490 Atlantic Blvd\, Long Beach\, CA
CATEGORIES:Dine & Donate
ATTACH;FMTTYPE=image/webp:https://eadn-wc04-6027823.nxedge.io/wp-content/uploads/2022/06/polly-pies-2022_WebEvent-600x300-1.webp
END:VEVENT
BEGIN:VEVENT
DTSTART;TZID=America/Los_Angeles:20220620T000000
DTEND;TZID=America/Los_Angeles:20220620T233000
DTSTAMP:20260425T161030
CREATED:20211117T200425Z
LAST-MODIFIED:20220607T163632Z
UID:112806-1655683200-1655767800@spcala.com
SUMMARY:Dine & Donate: Subway Hollywood
DESCRIPTION:All day at the Subway in Hollywood\, dine and they’ll donate 20% to spcaLA. RSVP and let us know you’re coming! Present this flyer to participate. \nSubway\n1900 N. Highland Avenue\nLos Angeles\, CA 90068
URL:https://spcala.com/event/dine-donate-subway-hollywood/
LOCATION:Subway\, 1900 N. Highland Avenue\, Los Angeles
CATEGORIES:Dine & Donate
ATTACH;FMTTYPE=image/webp:https://eadn-wc04-6027823.nxedge.io/wp-content/uploads/2021/11/subway-6.20_WebEvent-600x300-2.webp
END:VEVENT
BEGIN:VEVENT
DTSTART;TZID=America/Los_Angeles:20220617T060000
DTEND;TZID=America/Los_Angeles:20220617T170000
DTSTAMP:20260425T161030
CREATED:20201119T230034Z
LAST-MODIFIED:20220606T223224Z
UID:89003-1655445600-1655485200@spcala.com
SUMMARY:Dine & Donate: Corner Bakery
DESCRIPTION:Dine-in or take-out from Corner Bakery in Long Beach and they’ll donate 15% of your bill to spcaLA! Mention ‘spcaLA’ at checkout to participate. \nFriday\, June 17th 6am-5pm\nCorner Bakery\n6507 E Pacific Coast Highway\nLong Beach\, CA 90803\n562-856-6120 \nOrder by phone or online use code 359.
URL:https://spcala.com/event/dine-donate-corner-bakery/
LOCATION:Corner Bakery\, 6507 E Pacific Coast Highway\, Long Beach\, CA\, 90803
CATEGORIES:Dine & Donate
ATTACH;FMTTYPE=image/webp:https://eadn-wc04-6027823.nxedge.io/wp-content/uploads/2020/11/corner-bakery-june2022_WebEvent-600x300-1.webp
END:VEVENT
BEGIN:VEVENT
DTSTART;TZID=America/Los_Angeles:20220601T160000
DTEND;TZID=America/Los_Angeles:20220601T200000
DTSTAMP:20260425T161030
CREATED:20220414T222805Z
LAST-MODIFIED:20220503T224631Z
UID:117101-1654099200-1654113600@spcala.com
SUMMARY:Dine & Donate: Chipotle - Seal Beach
DESCRIPTION:Do good with Chipotle! Dine at the Chipotle in Seal Beach and they’ll donate 33% of your bill to spcaLA! Show this flyer to cashier to participate or use code HZDLBJC for online orders (pick-up only). \n  \nWednesday\, June 1st\n4pm-8pm\n12359 Seal Beach Blvd. \nThank you for your support! \n 
URL:https://spcala.com/event/dine-donate-chipotle-seal-beach/
LOCATION:Chipotle – Seal Beach\, 12359 Seal Beach Blvd.\, Seal Beach\, CA\, 90740\, United States
CATEGORIES:Dine & Donate
ATTACH;FMTTYPE=image/webp:https://eadn-wc04-6027823.nxedge.io/wp-content/uploads/2022/05/chipotle-2022-WebEvent-600x300-1.webp
END:VEVENT
BEGIN:VEVENT
DTSTART;TZID=America/Los_Angeles:20220428T170000
DTEND;TZID=America/Los_Angeles:20220428T220000
DTSTAMP:20260425T161030
CREATED:20220329T230827Z
LAST-MODIFIED:20220408T220702Z
UID:116515-1651165200-1651183200@spcala.com
SUMMARY:Dine & Donate: Spaghetti Factory
DESCRIPTION:Enjoy a night out at the Spaghetti Factory in Newport Beach and they’ll donate 10% of your bill to spcaLA. Must present flyer. Dine-in only. \nApril 28th\, 2022\nSpaghetti Factory\n2110 Newport Blvd\, Newport Beach\, CA 92663\n5pm-10pm\n10% of all sales to spcaLA
URL:https://spcala.com/event/116515/
LOCATION:Spaghetti Factory\, 2110 Newport Blvd\, Newport Beach\, CA\, 92663\, United States
CATEGORIES:Dine & Donate
END:VEVENT
BEGIN:VEVENT
DTSTART;TZID=America/Los_Angeles:20220414T160000
DTEND;TZID=America/Los_Angeles:20220414T200000
DTSTAMP:20260425T161030
CREATED:20190508T170325Z
LAST-MODIFIED:20220329T185434Z
UID:56201-1649952000-1649966400@spcala.com
SUMMARY:Dine & Donate: Panera Bread - Long Beach
DESCRIPTION:Grab dinner and support spcaLA! \nDine at Panera Bread at 2280 Bellflower Boulevard\, Long Beach on Thursday\, April 14th between 4:00pm – 8:00pm and they’ll donate 20% of sales to help shelter pets. \nPresent this flyer (printed or digitally) at checkout. For online orders use code PRFUND.
URL:https://spcala.com/event/dine-donate-panera-bread/
LOCATION:Panera – Long Beach\, 2280 Bellflower Boulevard\, Long Beach\, CA\, 90815\, United States
CATEGORIES:Dine & Donate
END:VEVENT
BEGIN:VEVENT
DTSTART;TZID=America/Los_Angeles:20220318T110000
DTEND;TZID=America/Los_Angeles:20220318T210000
DTSTAMP:20260425T161030
CREATED:20220303T231729Z
LAST-MODIFIED:20220309T001024Z
UID:115305-1647601200-1647637200@spcala.com
SUMMARY:Dine & Donate: Srey Vegan
DESCRIPTION:Support local business\, Srey Vegan and help animals! Friday\, March 18th from 11am – 9pm\, mention spcaLA and they’ll donate 15% of your bill! Srey Vegan is Cambodian inspired cuisine. Check out their menu! \nSrey Vegan\n4641 W. Washington Blvd.\nCulver City\, 90016
URL:https://spcala.com/event/dine-donate-srey-vegan/
LOCATION:Srey Vegan\, 4641 W. Washington Blvd.\, Culver City\, CA\, 90016
CATEGORIES:Dine & Donate
ATTACH;FMTTYPE=image/jpeg:https://eadn-wc04-6027823.nxedge.io/wp-content/uploads/2022/03/srey-vegan-WebEvent-600x300-1.jpg
END:VEVENT
BEGIN:VEVENT
DTSTART;TZID=America/Los_Angeles:20220228T113000
DTEND;TZID=America/Los_Angeles:20220228T210000
DTSTAMP:20260425T161030
CREATED:20170119T004506Z
LAST-MODIFIED:20220204T000554Z
UID:37578-1646047800-1646082000@spcala.com
SUMMARY:Dine & Donate: Domenico's Italian Restaurant
DESCRIPTION:Dine out to help animals! Join us at Domenico’s Italian Restaurant on February 28th from 11:30am to 10pm for pizza\, pasta\, and salad. Dine-in or take-out. \n25% of your bill will benefit spcaLA! \nDomenico’s\n5339 E. Second Street – Belmont Shore\nLong Beach\, CA 90803\n(562) 439-0261 \nPresent event flyer to participate. FLYER.
URL:https://spcala.com/event/dine-donate-domenicos-italian-restaurant/
LOCATION:Domenico’s Italian Restaurant\, 5339 E. Second Street - Belmont Shore\, Long Beach\, CA\, 90803\, United States
CATEGORIES:Dine & Donate
GEO:33.7591462;-118.1315426
X-APPLE-STRUCTURED-LOCATION;VALUE=URI;X-ADDRESS=Domenico’s Italian Restaurant 5339 E. Second Street - Belmont Shore Long Beach CA 90803 United States;X-APPLE-RADIUS=500;X-TITLE=5339 E. Second Street - Belmont Shore:geo:-118.1315426,33.7591462
END:VEVENT
BEGIN:VEVENT
DTSTART;TZID=America/Los_Angeles:20211027T110000
DTEND;TZID=America/Los_Angeles:20211027T220000
DTSTAMP:20260425T161030
CREATED:20190424T171316Z
LAST-MODIFIED:20211018T172157Z
UID:55739-1635332400-1635372000@spcala.com
SUMMARY:Dine & Donate: California Pizza Kitchen
DESCRIPTION:Have pizza with a purpose!  \nHead to California Pizza Kitchen in Culver City on Wednesday\, October 27th and 20% of your bill will be donated to spcaLA. Present this flyer (digitally or printed) to participate.   \nPurchases include take out\, catering\, and online orders at CPK.com when you enter promo code BACK20%.
URL:https://spcala.com/event/dine-donate-california-pizza-kitchen/
LOCATION:California Pizza Kitchen – Culver Center\, 10704 Venice Boulevard\, Culver City\, CA\, 90232\, United States
CATEGORIES:Dine & Donate
END:VEVENT
BEGIN:VEVENT
DTSTART;TZID=America/Los_Angeles:20210813T080000
DTEND;TZID=America/Los_Angeles:20210813T200000
DTSTAMP:20260425T161030
CREATED:20210701T163709Z
LAST-MODIFIED:20210701T220735Z
UID:107295-1628841600-1628884800@spcala.com
SUMMARY:Dine and Donate: Polly's Pies
DESCRIPTION:Dine at Polly’s Pies on Friday\, August 13th and they will donate 20% of the proceeds to spcaLA! Must present this flyer to participate.  \nPolly’s Pies\n1322 W Beverly Blvd.\nMontebello\, CA 90640
URL:https://spcala.com/event/dine-and-donate-pollys-pies/
LOCATION:Polly’s Pies\, 1322 W Beverly Blvd.\, Montebello\, 90640\, United States
CATEGORIES:Dine & Donate
END:VEVENT
END:VCALENDAR