BEGIN:VCALENDAR
VERSION:2.0
PRODID:-//spcaLA - ECPv6.15.18//NONSGML v1.0//EN
CALSCALE:GREGORIAN
METHOD:PUBLISH
X-ORIGINAL-URL:https://spcala.com
X-WR-CALDESC:Events for spcaLA
REFRESH-INTERVAL;VALUE=DURATION:PT1H
X-Robots-Tag:noindex
X-PUBLISHED-TTL:PT1H
BEGIN:VTIMEZONE
TZID:America/Los_Angeles
BEGIN:DAYLIGHT
TZOFFSETFROM:-0800
TZOFFSETTO:-0700
TZNAME:PDT
DTSTART:20170312T100000
END:DAYLIGHT
BEGIN:STANDARD
TZOFFSETFROM:-0700
TZOFFSETTO:-0800
TZNAME:PST
DTSTART:20171105T090000
END:STANDARD
BEGIN:DAYLIGHT
TZOFFSETFROM:-0800
TZOFFSETTO:-0700
TZNAME:PDT
DTSTART:20180311T100000
END:DAYLIGHT
BEGIN:STANDARD
TZOFFSETFROM:-0700
TZOFFSETTO:-0800
TZNAME:PST
DTSTART:20181104T090000
END:STANDARD
BEGIN:DAYLIGHT
TZOFFSETFROM:-0800
TZOFFSETTO:-0700
TZNAME:PDT
DTSTART:20190310T100000
END:DAYLIGHT
BEGIN:STANDARD
TZOFFSETFROM:-0700
TZOFFSETTO:-0800
TZNAME:PST
DTSTART:20191103T090000
END:STANDARD
BEGIN:DAYLIGHT
TZOFFSETFROM:-0800
TZOFFSETTO:-0700
TZNAME:PDT
DTSTART:20200308T100000
END:DAYLIGHT
BEGIN:STANDARD
TZOFFSETFROM:-0700
TZOFFSETTO:-0800
TZNAME:PST
DTSTART:20201101T090000
END:STANDARD
BEGIN:DAYLIGHT
TZOFFSETFROM:-0800
TZOFFSETTO:-0700
TZNAME:PDT
DTSTART:20210314T100000
END:DAYLIGHT
BEGIN:STANDARD
TZOFFSETFROM:-0700
TZOFFSETTO:-0800
TZNAME:PST
DTSTART:20211107T090000
END:STANDARD
BEGIN:DAYLIGHT
TZOFFSETFROM:-0800
TZOFFSETTO:-0700
TZNAME:PDT
DTSTART:20220313T100000
END:DAYLIGHT
BEGIN:STANDARD
TZOFFSETFROM:-0700
TZOFFSETTO:-0800
TZNAME:PST
DTSTART:20221106T090000
END:STANDARD
END:VTIMEZONE
BEGIN:VEVENT
DTSTART;TZID=America/Los_Angeles:20210721T170000
DTEND;TZID=America/Los_Angeles:20210721T210000
DTSTAMP:20260425T213418
CREATED:20210628T225531Z
LAST-MODIFIED:20210714T223919Z
UID:107224-1626886800-1626901200@spcala.com
SUMMARY:Dine & Donate: Ike's Sandwiches Carson
DESCRIPTION:It’s an Ike’s Sandwiches Love & Fundraiser! Join us Wednesday\, July 21st at the opening of Ike’s Sandwiches latest location in Carson. From 5pm-9pm\, all proceeds benefit spcaLA! Checkout the menu – vegan and vegetarian options available. \nIke’s Sandwiches\n20810 Avalon Blvd.\, Ste. D\nCarson CA
URL:https://spcala.com/event/dine-donate-ikes-sandwiches-carson/
LOCATION:Ike’s Sandwiches\, 20810 Avalon Blvd. Ste. D\, Carson\, CA\, 90746\, United States
CATEGORIES:Dine & Donate
ATTACH;FMTTYPE=image/png:https://eadn-wc04-6027823.nxedge.io/wp-content/uploads/2021/06/Ikes_600x300.png
END:VEVENT
BEGIN:VEVENT
DTSTART;TZID=America/Los_Angeles:20210716T110000
DTEND;TZID=America/Los_Angeles:20210716T210000
DTSTAMP:20260425T213418
CREATED:20210701T170327Z
LAST-MODIFIED:20210701T224044Z
UID:107301-1626433200-1626469200@spcala.com
SUMMARY:Dine and Donate: Lemonade
DESCRIPTION:Take-Out Fundraiser! On Friday\, July 16th\, mention ‘spcaLA’ when you order take-out and Lemonade in Pasadena will donate 30% of your bill to help shelter pets. Use promo code: giveback007 for online orders. Click here for more info and to RSVP. \nLemonade\n146 South Lake Ave.\nPasadena\, CA 91101
URL:https://spcala.com/event/dine-and-donate-lemonade/
LOCATION:Lemonade\, 146 South Lake Ave.\, Pasadena\, CA\, 91101
CATEGORIES:Dine & Donate
ATTACH;FMTTYPE=image/png:https://eadn-wc04-6027823.nxedge.io/wp-content/uploads/2021/07/Lemonade_Event_2021.600x300.png
END:VEVENT
BEGIN:VEVENT
DTSTART;TZID=America/Los_Angeles:20210701T120000
DTEND;TZID=America/Los_Angeles:20210701T210000
DTSTAMP:20260425T213418
CREATED:20210513T162928Z
LAST-MODIFIED:20210601T225700Z
UID:103162-1625140800-1625173200@spcala.com
SUMMARY:Dine and Donate: Blaze Pizza
DESCRIPTION:Blaze Pizza will donate 20% of proceeds from your meal will go to spcaLA! Must present this flyer to participate.  \nBlaze Pizza\n5221 Rosecrans Ave.\nHawthorne\, CA 90250
URL:https://spcala.com/event/dine-and-donate-blaze-pizza/
LOCATION:Blaze Pizza – Hawthorne\, 5221 Rosecrans Ave.\, Hawthorne\, CA\, 90240\, United States
CATEGORIES:Dine & Donate
GEO:33.9021233;-118.3720807
X-APPLE-STRUCTURED-LOCATION;VALUE=URI;X-ADDRESS=Blaze Pizza – Hawthorne 5221 Rosecrans Ave. Hawthorne CA 90240 United States;X-APPLE-RADIUS=500;X-TITLE=5221 Rosecrans Ave.:geo:-118.3720807,33.9021233
END:VEVENT
BEGIN:VEVENT
DTSTART;TZID=America/Los_Angeles:20210627T110000
DTEND;TZID=America/Los_Angeles:20210627T200000
DTSTAMP:20260425T213418
CREATED:20210505T162837Z
LAST-MODIFIED:20210514T225252Z
UID:102548-1624791600-1624824000@spcala.com
SUMMARY:Dine and Donate: Wahoo's Tacos Torrance
DESCRIPTION:Dine at Wahoo’s Fish Tacos in Torrance on June 27th and they’ll donate 20% of your bill to spcaLA! Must present this flyer to participate.  \nWahoo’s Tacos\n3556 Torrance Blvd\nTorrance\, CA 90503
URL:https://spcala.com/event/dine-donate-wahoos-fish-tacos-2/
LOCATION:Wahoo’s Tacos Torrance\, 3556 Torrance Blvd.\, Torrance\, California\, 90503
CATEGORIES:Dine & Donate
END:VEVENT
BEGIN:VEVENT
DTSTART;TZID=America/Los_Angeles:20210613T110000
DTEND;TZID=America/Los_Angeles:20210613T193000
DTSTAMP:20260425T213418
CREATED:20200429T213540Z
LAST-MODIFIED:20210505T222256Z
UID:73788-1623582000-1623612600@spcala.com
SUMMARY:Dine and Donate: Wahoo's Tacos Long Beach
DESCRIPTION:Dine at Wahoo’s Fish Tacos in Long Beach on June 13th and they’ll donate 20% of your bill to spcaLA! Must present this flyer to participate.  \nWahoo’s Tacos\n4201 McGowan St #205\nLong Beach 90808
URL:https://spcala.com/event/dine-and-donate-wahoos-fish-tacos/
LOCATION:Wahoo’s Fish Tacos\, 4201 McGowen St. Suite 205\, Long Beach\, CA\, 90808
CATEGORIES:Dine & Donate
END:VEVENT
BEGIN:VEVENT
DTSTART;TZID=America/Los_Angeles:20210524T110000
DTEND;TZID=America/Los_Angeles:20210524T210000
DTSTAMP:20260425T213418
CREATED:20210505T215727Z
LAST-MODIFIED:20210513T152425Z
UID:102601-1621854000-1621890000@spcala.com
SUMMARY:Dine and Donate: Lazy Dog Restaurant + Bar
DESCRIPTION:Dine at Lazy Dog Restaurant + Bar in Torrance and they’ll donate 15% of your bill to spcaLA! Must present this flyer to participate. \nLazy Dog Restaurant + Bar\n3525 W. Carson St.\nTorrance\, CA 90503
URL:https://spcala.com/event/dine-and-donate-lazy-dog/
LOCATION:Lazy Dog – Torrance\, 3525 W. Carson Street\, Torrance\, CA\, 90503\, United States
CATEGORIES:Dine & Donate
GEO:33.8268211;-118.34859
X-APPLE-STRUCTURED-LOCATION;VALUE=URI;X-ADDRESS=Lazy Dog – Torrance 3525 W. Carson Street Torrance CA 90503 United States;X-APPLE-RADIUS=500;X-TITLE=3525 W. Carson Street:geo:-118.34859,33.8268211
END:VEVENT
BEGIN:VEVENT
DTSTART;TZID=America/Los_Angeles:20210514T080000
DTEND;TZID=America/Los_Angeles:20210514T200000
DTSTAMP:20260425T213418
CREATED:20180104T174401Z
LAST-MODIFIED:20210413T232251Z
UID:42495-1620979200-1621022400@spcala.com
SUMMARY:Dine & Donate: Polly's Pies
DESCRIPTION:Take-out or dine-in at Polly’s Pies on Friday\, May 14th from 8am to 8pm and 20% of your bill will be donated to help spcaLA’s homeless pets. Dine-in or take-out. \nPolly’s Pies\n3464 Katella Ave\nLos Alamitos\, CA 90720 \nPresent this event flyer (printed or digital) to participate.
URL:https://spcala.com/event/dine-donate-pollys-pies/
LOCATION:Polly’s Pies\, 3464 Katella\, Los Alamitos\, CA\, 90720\, United States
CATEGORIES:Dine & Donate
GEO:33.802539;-118.073435
X-APPLE-STRUCTURED-LOCATION;VALUE=URI;X-ADDRESS=Polly’s Pies 3464 Katella Los Alamitos CA 90720 United States;X-APPLE-RADIUS=500;X-TITLE=3464 Katella:geo:-118.073435,33.802539
END:VEVENT
BEGIN:VEVENT
DTSTART;TZID=America/Los_Angeles:20210316T060000
DTEND;TZID=America/Los_Angeles:20210316T160000
DTSTAMP:20260425T213418
CREATED:20210301T215902Z
LAST-MODIFIED:20210311T182910Z
UID:96110-1615874400-1615910400@spcala.com
SUMMARY:Dine & Donate: Stella Coffee
DESCRIPTION:On Tuesday March 16th\, mention ‘spcaLA’  when ordering take out and Stella Coffee will donate 15% to help shelter pets! Use the spcaLA promo code for online orders of food\, beverages\, and merchandise. \nStella Coffee\nMarch 16th\n6am-4pm\n6310 San Vicente Blvd. #106\nLos Angeles\, CA 90048 \nDelicious breaksfast sandwiches & burritos\, coffee drinks\, boba\, pastries\, salads\, sandwiches\, wraps\, and more. Take-out only – vegetarian & vegan options available. \nLet us know you’re participating! RSVP
URL:https://spcala.com/event/dine-donate-stella-coffee/
LOCATION:Stella Coffee\, 6310 San Vicente Blvd. #106\, Los Angeles\, 90048
CATEGORIES:Dine & Donate
END:VEVENT
BEGIN:VEVENT
DTSTART;TZID=America/Los_Angeles:20210129T100000
DTEND;TZID=America/Los_Angeles:20210129T220000
DTSTAMP:20260425T213418
CREATED:20200109T233019Z
LAST-MODIFIED:20210127T171426Z
UID:68532-1611914400-1611957600@spcala.com
SUMMARY:Dine & Donate: Panda Express
DESCRIPTION:Good food for a good cause! \nOn Friday\, January 29th\, pick-up or take-out Panda Express and 20% of sales will be donated to spcaLA. \nIn-store: Present this digital flyer.\nOnline: Enter 320624 in the promo code box during checkout. \nFundraiser is from 10am-10pm at the Panda Express location at 5945 Spring St. in Long Beach.
URL:https://spcala.com/event/dine-donate-panda-express/
LOCATION:Panda Express Long Beach\, 5945 Spring St\, Long Beach\, CA\, 90808\, United States
CATEGORIES:Dine & Donate
END:VEVENT
BEGIN:VEVENT
DTSTART;TZID=America/Los_Angeles:20200926T110000
DTEND;TZID=America/Los_Angeles:20200926T200000
DTSTAMP:20260425T213418
CREATED:20200826T172925Z
LAST-MODIFIED:20200921T181215Z
UID:82819-1601118000-1601150400@spcala.com
SUMMARY:Dine and Donate: Jimmy E's Bar and Grill
DESCRIPTION:Join us at Jimmy E’s Bar and Grill on Saturday\, September 26th from 11am-8pm for some delicious food! Jimmy E’s Bar + Grill is offering outdoor dining\, takeout\, and carhop service. You can also get your pet’s photo taken by a professional photographer for free from 2pm-6pm! Best of all\, they have a dog friendly patio & menu available for your Friend for Life. 20% of your total will be donated back to spcaLA. You won’t want to miss out on this one!
URL:https://spcala.com/event/dine-and-donate-jimmy-es-bar-and-grill/
LOCATION:Jimmy E’s Bar and Grill\, 2951 Cherry Ave\, Signal Hill\, CA\, 90755\, United States
CATEGORIES:Dine & Donate
END:VEVENT
BEGIN:VEVENT
DTSTART;TZID=America/Los_Angeles:20200827T160000
DTEND;TZID=America/Los_Angeles:20200827T200000
DTSTAMP:20260425T213418
CREATED:20200804T203905Z
LAST-MODIFIED:20200810T221506Z
UID:81091-1598544000-1598558400@spcala.com
SUMMARY:Dine & Donate: Round Table Pizza Lakewood
DESCRIPTION:Join us for takeout* at Round Table Pizza in Lakewood on August 27th from 4-8pm. 20% of your order will be donated to spcaLA! RSVP here. \n*Takeout only\, no dine in.
URL:https://spcala.com/event/dine-donate-round-table-pizza/
LOCATION:Round Table Pizza\, 5250 Faculty Ave\, Lakewood\, CA\, 90712\, United States
CATEGORIES:Dine & Donate
END:VEVENT
BEGIN:VEVENT
DTSTART;TZID=America/Los_Angeles:20200708T160000
DTEND;TZID=America/Los_Angeles:20200708T210000
DTSTAMP:20260425T213418
CREATED:20200608T232819Z
LAST-MODIFIED:20200701T200602Z
UID:76021-1594224000-1594242000@spcala.com
SUMMARY:Dine & Donate: Deli News Pizza
DESCRIPTION:Dine-in or take-out at Deli News Pizza and they’ll donate 15% of your bill to spcaLA! Just mention the ‘spcaLA Fundraiser’ or show the flyer printed or digitally. Wednesday July 8\, 4pm-9pm. \nRSVP
URL:https://spcala.com/event/dine-donate-deli-news-pizza/
LOCATION:Deli News Pizza\, 5555 Stearns St Ste #104\, Long Beach\, CA\, 90815\, United States
CATEGORIES:Dine & Donate
ATTACH;FMTTYPE=image/png:https://eadn-wc04-6027823.nxedge.io/wp-content/uploads/2020/06/Event-Page.png
END:VEVENT
BEGIN:VEVENT
DTSTART;TZID=America/Los_Angeles:20200608T110000
DTEND;TZID=America/Los_Angeles:20200608T193000
DTSTAMP:20260425T213418
CREATED:20200302T225431Z
LAST-MODIFIED:20200605T222632Z
UID:71393-1591614000-1591644600@spcala.com
SUMMARY:Dine & Donate: Wahoo's Fish Tacos
DESCRIPTION:Order from Wahoo’s Fish Tacos in Los Alamitos on June 8th and they’ll donate 20% of your bill to spcaLA! Just mention ‘spcaLA Fundraiser’ when you order. Los Alamitos location\, take-out or dine-in.
URL:https://spcala.com/event/dine-donate-wahoos/
LOCATION:Wahoo’s Fish Tacos Los Alamitos\, 10931 Los Alamitos Blvd\, Los Alamitos\, CA\, 90720\, United States
CATEGORIES:Dine & Donate
END:VEVENT
BEGIN:VEVENT
DTSTART;TZID=America/Los_Angeles:20200513T113000
DTEND;TZID=America/Los_Angeles:20200513T203000
DTSTAMP:20260425T213418
CREATED:20161024T173915Z
LAST-MODIFIED:20200507T175444Z
UID:36226-1589369400-1589401800@spcala.com
SUMMARY:Dine & Donate: Domenico's Belmont Shore
DESCRIPTION:Order take-out from Domenico’s in Long Beach and they’ll donate 25% of your total purchase to spcaLA! \nMention ‘spcaLA’ when you order or present FLYER at pick-up to participate.
URL:https://spcala.com/event/domenicos/
LOCATION:Domenico’s Restaurant\, 5339 E. Second Street\, Belmont Shore\, CA\, 90803\, United States
CATEGORIES:Dine & Donate
GEO:33.7591462;-118.1315426
X-APPLE-STRUCTURED-LOCATION;VALUE=URI;X-ADDRESS=Domenico’s Restaurant 5339 E. Second Street Belmont Shore CA 90803 United States;X-APPLE-RADIUS=500;X-TITLE=5339 E. Second Street:geo:-118.1315426,33.7591462
END:VEVENT
BEGIN:VEVENT
DTSTART;TZID=America/Los_Angeles:20200403T170000
DTEND;TZID=America/Los_Angeles:20200403T210000
DTSTAMP:20260425T213418
CREATED:20200331T184005Z
LAST-MODIFIED:20200331T184315Z
UID:72266-1585933200-1585947600@spcala.com
SUMMARY:WEHO Supper Club Take-Out Dinner Fundraiser at Amarone Kitchen & Wine
DESCRIPTION:Pre-order curbside pick-up or free delivery from Amarone Kitchen & Wine on Friday\, April 3rd\, and they’ll donate 15% to spcaLA! You must mention WEHO SUPPER CLUB when ordering to participate. \nTo order\, email info@amaronela.com or call 310-652-2233 \nFriday\, April 3\, 2020\n5pm-9pm\n$35  3 course Pre Fixe menu – Click to see course options\nSpecial wine selection offered at $20 a bottle \nAmarone Kitchen & Wine\n8868 W. Sunset Blvd.\nWest Hollywood\, CA
URL:https://spcala.com/event/weho-supper-club-take-out-dinner-fundraiser-at-amarone-kitchen-wine/
LOCATION:Amarone Kitchen & Wine\, 8868 W. Sunset Blvd.\, West Hollywood\, CA\, United States
CATEGORIES:Dine & Donate
ATTACH;FMTTYPE=image/jpeg:https://eadn-wc04-6027823.nxedge.io/wp-content/uploads/2020/03/Amarone_600x300_Event-Page-1.jpg
END:VEVENT
BEGIN:VEVENT
DTSTART;TZID=America/Los_Angeles:20200221T110000
DTEND;TZID=America/Los_Angeles:20200221T220000
DTSTAMP:20260425T213418
CREATED:20180621T160341Z
LAST-MODIFIED:20191227T001120Z
UID:44638-1582282800-1582322400@spcala.com
SUMMARY:Dine & Donate: Souplantation Lakewood
DESCRIPTION:Dine at Souplantation in Lakewood and they’ll donate 20% of your bill when you present this flyer (printed or digitally).
URL:https://spcala.com/event/dine-donate-souplantation-lakewood/
LOCATION:Souplantation\, 4720 Candlewood Street\, Lakewood\, CA\, 90712\, United States
CATEGORIES:Dine & Donate
GEO:33.853505;-118.1371743
X-APPLE-STRUCTURED-LOCATION;VALUE=URI;X-ADDRESS=Souplantation 4720 Candlewood Street Lakewood CA 90712 United States;X-APPLE-RADIUS=500;X-TITLE=4720 Candlewood Street:geo:-118.1371743,33.853505
END:VEVENT
BEGIN:VEVENT
DTSTART;TZID=America/Los_Angeles:20200128T150000
DTEND;TZID=America/Los_Angeles:20200128T220000
DTSTAMP:20260425T213418
CREATED:20200106T192843Z
LAST-MODIFIED:20200122T222832Z
UID:68363-1580223600-1580248800@spcala.com
SUMMARY:Taco Tuesday Fundraiser: Benny's Tacos
DESCRIPTION:Join us for Taco Tuesday at Benny’s Tacos and raise some money for shelter pets! \nA portion of sales will be donated with the presentation of this flyer to the cashier.
URL:https://spcala.com/event/taco-tuesday-fundraiser-bennys-tacos/
LOCATION:Benny’s Tacos\, 10401 Venice Boulevard\, Ste 101B\, Los Angeles\, CA\, 90034\, United States
CATEGORIES:Dine & Donate
END:VEVENT
BEGIN:VEVENT
DTSTART;VALUE=DATE:20191203
DTEND;VALUE=DATE:20191204
DTSTAMP:20260425T213418
CREATED:20191122T004627Z
LAST-MODIFIED:20191125T221244Z
UID:65936-1575331200-1575417599@spcala.com
SUMMARY:Dine & Donate: Eureka!
DESCRIPTION:Join us on Giving Tuesday\, December 3rd and dine for a cause at Eureka!. Be sure to mention the fundraiser!  \nEureka!\n12101 Crenshaw Blvd.\nHawthorne\, CA 90250 \n15% of sales will benefit spcaLA.  \nVegetarian options available.
URL:https://spcala.com/event/dine-donate-eureka/
LOCATION:Eureka Tasting Kitchen\, 12101 Crenshaw Boulevard\, Hawthorne\, CA\, United States
CATEGORIES:Dine & Donate
END:VEVENT
BEGIN:VEVENT
DTSTART;TZID=America/Los_Angeles:20191024T120000
DTEND;TZID=America/Los_Angeles:20191024T210000
DTSTAMP:20260425T213418
CREATED:20180606T232245Z
LAST-MODIFIED:20190805T184213Z
UID:44526-1571918400-1571950800@spcala.com
SUMMARY:Dine & Donate: Blaze Pizza
DESCRIPTION:Join us at Blaze Pizza at USC and they’ll donate 20% of your bill! The fundraiser is from 12-9pm and you must present this flyer (printed or digitally). \nVegan & vegetarian options available.
URL:https://spcala.com/event/dine-donate-blaze-pizza/
LOCATION:Blaze Pizza – USC\, 3335 S. Figueroa St.\, Los Angeles\, CA\, 90007\, United States
CATEGORIES:Dine & Donate
END:VEVENT
BEGIN:VEVENT
DTSTART;TZID=America/Los_Angeles:20190910T110000
DTEND;TZID=America/Los_Angeles:20190910T220000
DTSTAMP:20260425T213418
CREATED:20190802T190744Z
LAST-MODIFIED:20190805T153206Z
UID:59284-1568113200-1568152800@spcala.com
SUMMARY:Dine & Donate: El Cholo
DESCRIPTION:Get your taco Tuesday fix AND help shelter pets!  \nDine-in or order take-out from El Cholo’s Downtown LA location on Tuesday\, September 10th. 20% of your food purchases will be donated to spcaLA.   \nDownload and present this flyer to participate.
URL:https://spcala.com/event/dine-donate-el-cholo/
LOCATION:El Cholo – Downtown LA\, 1037 S. Flower St.\, Los Angeles\, CA\, 90015\, United States
CATEGORIES:Dine & Donate
END:VEVENT
BEGIN:VEVENT
DTSTART;TZID=America/Los_Angeles:20190701T110000
DTEND;TZID=America/Los_Angeles:20190701T230000
DTSTAMP:20260425T213418
CREATED:20190425T181725Z
LAST-MODIFIED:20190425T181725Z
UID:55818-1561978800-1562022000@spcala.com
SUMMARY:Dine & Donate: BJ's Restaurant and Brewhouse
DESCRIPTION:Join us at BJ’s Restaurant and Brewhouse in Cerritos for a delicious way to raise money! \nBring in this flyer or show it on your smartphone. \n20% of your purchase is donated to spcaLA.
URL:https://spcala.com/event/dine-donate-bjs-restaurant-and-brewhouse/
LOCATION:BJ’s Restaurant & Brewhouse – Cerritos\, 11101 183rd Street\, Cerritos\, CA\, 90703\, United States
CATEGORIES:Dine & Donate
END:VEVENT
BEGIN:VEVENT
DTSTART;TZID=America/Los_Angeles:20190519T160000
DTEND;TZID=America/Los_Angeles:20190519T200000
DTSTAMP:20260425T213418
CREATED:20180123T165302Z
LAST-MODIFIED:20190517T232057Z
UID:42769-1558281600-1558296000@spcala.com
SUMMARY:Dine & Donate: Chipotle
DESCRIPTION:Make dinner a selfless act – join us for a fundraiser to support homeless pets.  \nCome in to the Chipotle at 1800 Ximeno Dr\, Long Beach on Sunday\, May 19th between 4:00pm – 8:00pm. \nBring in this flyer\, show it on your smartphone or tell the cashier you’re supporting spcaLA and 33% of proceeds will be donated to spcaLA.
URL:https://spcala.com/event/dine-donate-chipotle/
LOCATION:Chipotle\, 1800 Ximeno Drive\, Long Beach\, CA\, 90815\, United States
CATEGORIES:Dine & Donate
END:VEVENT
BEGIN:VEVENT
DTSTART;TZID=America/Los_Angeles:20190402T110000
DTEND;TZID=America/Los_Angeles:20190402T210000
DTSTAMP:20260425T213418
CREATED:20190319T152146Z
LAST-MODIFIED:20190319T155627Z
UID:54114-1554202800-1554238800@spcala.com
SUMMARY:Dine & Donate: Bettolino Kitchen
DESCRIPTION:Grab some delicious handmade pasta to help shelter pets! Every Tuesday in April\, half of Bettolino Kitchen’s profits will be donated to the spcaLA.  \nVegetarian options available
URL:https://spcala.com/event/dine-donate-bettolino-kitchen/2019-04-02/
LOCATION:Bettolino Kitchen\, 211 Palos Verdes Blvd\, Redondo Beach\, CA\, 90277\, United States
CATEGORIES:Dine & Donate
END:VEVENT
BEGIN:VEVENT
DTSTART;VALUE=DATE:20190318
DTEND;VALUE=DATE:20190322
DTSTAMP:20260425T213418
CREATED:20170724T230611Z
LAST-MODIFIED:20190315T191757Z
UID:40508-1552867200-1553212799@spcala.com
SUMMARY:Dine & Donate: Lazy Dog
DESCRIPTION:Join us for a FUNdraiser at Lazy Dog (hosted by CSULB Event Planning) all day Monday\, March 18th – Thursday\, March 21st. 15% of your bill will be donated to spcaLA! \nLazy Dog\n278 Los Cerritos Center\nCerritos\, CA 90703 \nPrint and present this flyer to participate.
URL:https://spcala.com/event/dine-donate-lazy-dog/
LOCATION:Lazy Dog – Cerritos\, 278 Los Cerritos Center\, Cerritos\, CA\, 90703\, United States
CATEGORIES:Dine & Donate
END:VEVENT
BEGIN:VEVENT
DTSTART;TZID=America/Los_Angeles:20190206T160000
DTEND;TZID=America/Los_Angeles:20190206T210000
DTSTAMP:20260425T213418
CREATED:20181127T194130Z
LAST-MODIFIED:20190124T000640Z
UID:48890-1549468800-1549486800@spcala.com
SUMMARY:Dine & Donate: Daphne's California Greek
DESCRIPTION:Grab a delicious dinner and support spcaLA!\nOn Wednesday\, February 6th Daphne’s will donate 20% of your bill to help animals at spcaLA. \nMust print this flyer and present at checkout to participate. \nDaphne’s\nRolling Hills Plaza\n25420 Crenshaw Blvd\nTorrance\, CA 90505
URL:https://spcala.com/event/daphnes/
LOCATION:Daphne’s\, 25420 Crenshaw Blvd\, Torrance\, CA\, 90505\, United States
CATEGORIES:Dine & Donate
ORGANIZER;CN="spcaLA":MAILTO:info@spcala.com
END:VEVENT
BEGIN:VEVENT
DTSTART;TZID=America/Los_Angeles:20181219T110000
DTEND;TZID=America/Los_Angeles:20181219T210000
DTSTAMP:20260425T213418
CREATED:20160718T213041Z
LAST-MODIFIED:20181205T175110Z
UID:35079-1545217200-1545253200@spcala.com
SUMMARY:Dine & Donate: Wahoo's Fish Tacos
DESCRIPTION:Enjoy a tasty lunch or dinner and support spcaLA!\nOn Wednesday\, December 19th\, Wahoo’s will donate 20% of your bill. \nMust present this flyer at checkout to participate.  \nWahoo’s Fish Tacos\n10931 Los Alamitos Blvd\nLos Alamitos\, CA 90720
URL:https://spcala.com/event/dine-donate-wahoos-fish-tacos/
LOCATION:Wahoo’s Fish Tacos Los Alamitos\, 10931 Los Alamitos Blvd\, Los Alamitos\, CA\, 90720\, United States
CATEGORIES:Dine & Donate
END:VEVENT
BEGIN:VEVENT
DTSTART;TZID=America/Los_Angeles:20181204T160000
DTEND;TZID=America/Los_Angeles:20181204T210000
DTSTAMP:20260425T213418
CREATED:20181029T172540Z
LAST-MODIFIED:20181108T162819Z
UID:47671-1543939200-1543957200@spcala.com
SUMMARY:Dine & Donate: Burgerim
DESCRIPTION:Join us for a meal at Burgerim on Tuesday\, December 4th from 4pm – 9pm. 15% of your bill will be donated with mention of spcaLA! \nBurgerim – Lakewood\n4131 Woodruff Avenue\nLakewood\, CA 90713 \n 
URL:https://spcala.com/event/dine-donate-burgerim/
LOCATION:Burgerim\, 4131 Woodruff Avenue\, Lakewood\, CA\, 90713\, United States
CATEGORIES:Dine & Donate
END:VEVENT
BEGIN:VEVENT
DTSTART;TZID=America/Los_Angeles:20181128T170000
DTEND;TZID=America/Los_Angeles:20181128T200000
DTSTAMP:20260425T213418
CREATED:20171023T195954Z
LAST-MODIFIED:20181026T235211Z
UID:41570-1543424400-1543435200@spcala.com
SUMMARY:Dine & Donate: Mendocino Farms El Segundo
DESCRIPTION:Hey South Bay\, join us at Mendocino Farms in El Segundo for Give Back Night\, Wednesday November 28th!  Bring in this flyer and they’ll donate 20% of your total to spcaLA. Available for dine-in or take-out.
URL:https://spcala.com/event/dine-donate-mendocino-farms-el-segundo/
LOCATION:Mendocino Farms\, 840 S. Sepulveda Blvd.\, El Segundo\, CA\, 90245\, United States
CATEGORIES:Dine & Donate
GEO:33.9029565;-118.3953442
X-APPLE-STRUCTURED-LOCATION;VALUE=URI;X-ADDRESS=Mendocino Farms 840 S. Sepulveda Blvd. El Segundo CA 90245 United States;X-APPLE-RADIUS=500;X-TITLE=840 S. Sepulveda Blvd.:geo:-118.3953442,33.9029565
END:VEVENT
BEGIN:VEVENT
DTSTART;TZID=America/Los_Angeles:20180829T160000
DTEND;TZID=America/Los_Angeles:20180829T200000
DTSTAMP:20260425T213418
CREATED:20180807T163748Z
LAST-MODIFIED:20180807T163848Z
UID:45216-1535558400-1535572800@spcala.com
SUMMARY:Dine & Donate: Black Bear Diner
DESCRIPTION:Grab a bite at Black Bear Diner – Signal Hill and they’ll donate 10% of proceeds to spcaLA! \nBlack Bear Diner\n1898 E. Willow St.\, Signal Hill \nWednesday\, August 29\n4-8pm
URL:https://spcala.com/event/dine-donate-black-bear-diner/
LOCATION:Black Bear Diner – Signal Hill\, 1898 E. Willow Street\, Signal Hill\, CA\, 90755\, United States
CATEGORIES:Dine & Donate
GEO:33.8041076;-118.1689969
X-APPLE-STRUCTURED-LOCATION;VALUE=URI;X-ADDRESS=Black Bear Diner – Signal Hill 1898 E. Willow Street Signal Hill CA 90755 United States;X-APPLE-RADIUS=500;X-TITLE=1898 E. Willow Street:geo:-118.1689969,33.8041076
END:VEVENT
BEGIN:VEVENT
DTSTART;TZID=America/Los_Angeles:20180731T120000
DTEND;TZID=America/Los_Angeles:20180731T170000
DTSTAMP:20260425T213418
CREATED:20170530T190440Z
LAST-MODIFIED:20180621T192122Z
UID:39770-1533038400-1533056400@spcala.com
SUMMARY:Dine & Donate: Veggie Grill Long Beach Marketplace
DESCRIPTION:Present this flyer or mention the fundraiser and 33% of your food & beverage purchases will be donated to spcaLA! \nFundraiser will be held at the Veggie Grill in The Marketplace in Long Beach only.\n6451 E. Pacific Coast Highway\nLong Beach\, CA 90803
URL:https://spcala.com/event/dine-donate-veggie-grill/
LOCATION:Veggie Grill\, 6451 E. Pacific Coast Hwy.\, Long Beach\, CA\, 90803\, United States
CATEGORIES:Dine & Donate
GEO:33.7576771;-118.1107977
X-APPLE-STRUCTURED-LOCATION;VALUE=URI;X-ADDRESS=Veggie Grill 6451 E. Pacific Coast Hwy. Long Beach CA 90803 United States;X-APPLE-RADIUS=500;X-TITLE=6451 E. Pacific Coast Hwy.:geo:-118.1107977,33.7576771
END:VEVENT
END:VCALENDAR