BEGIN:VCALENDAR
VERSION:2.0
PRODID:-//spcaLA - ECPv6.15.18//NONSGML v1.0//EN
CALSCALE:GREGORIAN
METHOD:PUBLISH
X-WR-CALNAME:spcaLA
X-ORIGINAL-URL:https://spcala.com
X-WR-CALDESC:Events for spcaLA
REFRESH-INTERVAL;VALUE=DURATION:PT1H
X-Robots-Tag:noindex
X-PUBLISHED-TTL:PT1H
BEGIN:VTIMEZONE
TZID:America/Los_Angeles
BEGIN:DAYLIGHT
TZOFFSETFROM:-0800
TZOFFSETTO:-0700
TZNAME:PDT
DTSTART:20140309T100000
END:DAYLIGHT
BEGIN:STANDARD
TZOFFSETFROM:-0700
TZOFFSETTO:-0800
TZNAME:PST
DTSTART:20141102T090000
END:STANDARD
BEGIN:DAYLIGHT
TZOFFSETFROM:-0800
TZOFFSETTO:-0700
TZNAME:PDT
DTSTART:20150308T100000
END:DAYLIGHT
BEGIN:STANDARD
TZOFFSETFROM:-0700
TZOFFSETTO:-0800
TZNAME:PST
DTSTART:20151101T090000
END:STANDARD
BEGIN:DAYLIGHT
TZOFFSETFROM:-0800
TZOFFSETTO:-0700
TZNAME:PDT
DTSTART:20160313T100000
END:DAYLIGHT
BEGIN:STANDARD
TZOFFSETFROM:-0700
TZOFFSETTO:-0800
TZNAME:PST
DTSTART:20161106T090000
END:STANDARD
BEGIN:DAYLIGHT
TZOFFSETFROM:-0800
TZOFFSETTO:-0700
TZNAME:PDT
DTSTART:20170312T100000
END:DAYLIGHT
BEGIN:STANDARD
TZOFFSETFROM:-0700
TZOFFSETTO:-0800
TZNAME:PST
DTSTART:20171105T090000
END:STANDARD
END:VTIMEZONE
BEGIN:VEVENT
DTSTART;TZID=America/Los_Angeles:20161119T100000
DTEND;TZID=America/Los_Angeles:20161119T120000
DTSTAMP:20260425T160145
CREATED:20160822T221636Z
LAST-MODIFIED:20160822T221636Z
UID:35515-1479549600-1479556800@spcala.com
SUMMARY:Foster Class at Long Beach
DESCRIPTION:spcaLA is looking for Foster Parents for pets of all ages and needs. Foster Parents provide temporary homes for pets that are too young for adoption or in need of socialization or extra TLC until they are ready to be placed into adoptions. \nPotential foster parents must fill out & submit an application prior to attending a foster class. Click here for the application. Want more info? Visit the Foster Care Program section of our website
URL:https://spcala.com/event/foster-class-at-long-beach-10/
LOCATION:P.D. Pitchford Companion Animal Village & Education Center\, 7700 E. Spring Street\, Long Beach\, CA\, 900815\, United States
CATEGORIES:Foster Class
ORGANIZER;CN="spcaLA":MAILTO:info@spcala.com
GEO:33.8089723;-118.0824425
X-APPLE-STRUCTURED-LOCATION;VALUE=URI;X-ADDRESS=P.D. Pitchford Companion Animal Village & Education Center 7700 E. Spring Street Long Beach CA 900815 United States;X-APPLE-RADIUS=500;X-TITLE=7700 E. Spring Street:geo:-118.0824425,33.8089723
END:VEVENT
BEGIN:VEVENT
DTSTART;TZID=America/Los_Angeles:20161016T100000
DTEND;TZID=America/Los_Angeles:20161016T120000
DTSTAMP:20260425T160145
CREATED:20160707T234717Z
LAST-MODIFIED:20160707T234717Z
UID:34969-1476612000-1476619200@spcala.com
SUMMARY:Foster Class at South Bay
DESCRIPTION:spcaLA is looking for Foster Parents for pets of all ages and needs. Foster Parents provide temporary homes for pets that are too young for adoption or in need of socialization or extra TLC until they are ready to be placed into adoptions. \nPotential foster parents must fill out & submit an application prior to attending a foster class. Click here for the application. Want more info? Visit the Foster Care Program section of our website
URL:https://spcala.com/event/foster-class-at-south-bay-9/
LOCATION:South Bay Pet Adoption Center\, 12910 Yukon Avenue\, Hawthorne\, CA\, 90250\, United States
CATEGORIES:Foster Class
ORGANIZER;CN="spcaLA":MAILTO:info@spcala.com
GEO:33.9150718;-118.3349312
X-APPLE-STRUCTURED-LOCATION;VALUE=URI;X-ADDRESS=South Bay Pet Adoption Center 12910 Yukon Avenue Hawthorne CA 90250 United States;X-APPLE-RADIUS=500;X-TITLE=12910 Yukon Avenue:geo:-118.3349312,33.9150718
END:VEVENT
BEGIN:VEVENT
DTSTART;TZID=America/Los_Angeles:20160918T100000
DTEND;TZID=America/Los_Angeles:20160918T120000
DTSTAMP:20260425T160145
CREATED:20160707T234615Z
LAST-MODIFIED:20160809T183105Z
UID:34968-1474192800-1474200000@spcala.com
SUMMARY:Foster Class at Long Beach
DESCRIPTION:spcaLA is looking for Foster Parents for pets of all ages and needs. Foster Parents provide temporary homes for pets that are too young for adoption or in need of socialization or extra TLC until they are ready to be placed into adoptions. \nPotential foster parents must fill out & submit an application prior to attending a foster class. Click here for the application. Want more info? Visit the Foster Care Program section of our website
URL:https://spcala.com/event/foster-class-at-long-beach-9/
LOCATION:P.D. Pitchford Companion Animal Village & Education Center\, 7700 E. Spring Street\, Long Beach\, CA\, 900815\, United States
CATEGORIES:Foster Class
ORGANIZER;CN="spcaLA":MAILTO:info@spcala.com
GEO:33.8089723;-118.0824425
X-APPLE-STRUCTURED-LOCATION;VALUE=URI;X-ADDRESS=P.D. Pitchford Companion Animal Village & Education Center 7700 E. Spring Street Long Beach CA 900815 United States;X-APPLE-RADIUS=500;X-TITLE=7700 E. Spring Street:geo:-118.0824425,33.8089723
END:VEVENT
BEGIN:VEVENT
DTSTART;TZID=America/Los_Angeles:20160806T100000
DTEND;TZID=America/Los_Angeles:20160806T120000
DTSTAMP:20260425T160145
CREATED:20160707T233922Z
LAST-MODIFIED:20160801T212017Z
UID:34965-1470477600-1470484800@spcala.com
SUMMARY:Foster Class at South Bay
DESCRIPTION:spcaLA is looking for Foster Parents for pets of all ages and needs. Foster Parents provide temporary homes for pets that are too young for adoption or in need of socialization or extra TLC until they are ready to be placed into adoptions. \nPotential foster parents must fill out & submit an application prior to attending a foster class. Click here for the application. Want more info? Visit the Foster Care Program section of our website
URL:https://spcala.com/event/foster-class-at-south-bay-8/
LOCATION:South Bay Pet Adoption Center\, 12910 Yukon Avenue\, Hawthorne\, CA\, 90250\, United States
CATEGORIES:Foster Class
ORGANIZER;CN="spcaLA":MAILTO:info@spcala.com
GEO:33.9150718;-118.3349312
X-APPLE-STRUCTURED-LOCATION;VALUE=URI;X-ADDRESS=South Bay Pet Adoption Center 12910 Yukon Avenue Hawthorne CA 90250 United States;X-APPLE-RADIUS=500;X-TITLE=12910 Yukon Avenue:geo:-118.3349312,33.9150718
END:VEVENT
BEGIN:VEVENT
DTSTART;TZID=America/Los_Angeles:20160709T100000
DTEND;TZID=America/Los_Angeles:20160709T120000
DTSTAMP:20260425T160145
CREATED:20160707T231446Z
LAST-MODIFIED:20160707T231446Z
UID:34947-1468058400-1468065600@spcala.com
SUMMARY:Foster Class at Long Beach
DESCRIPTION:spcaLA is looking for Foster Parents for pets of all ages and needs. Foster Parents provide temporary homes for pets that are too young for adoption or in need of socialization or extra TLC until they are ready to be placed into adoptions. \nPotential foster parents must fill out & submit an application prior to attending a foster class. Click here for the application. Want more info? Visit the Foster Care Program section of our website
URL:https://spcala.com/event/foster-class-at-long-beach-8/
LOCATION:P.D. Pitchford Companion Animal Village & Education Center\, 7700 E. Spring Street\, Long Beach\, CA\, 900815\, United States
CATEGORIES:Foster Class
ORGANIZER;CN="spcaLA":MAILTO:info@spcala.com
GEO:33.8089723;-118.0824425
X-APPLE-STRUCTURED-LOCATION;VALUE=URI;X-ADDRESS=P.D. Pitchford Companion Animal Village & Education Center 7700 E. Spring Street Long Beach CA 900815 United States;X-APPLE-RADIUS=500;X-TITLE=7700 E. Spring Street:geo:-118.0824425,33.8089723
END:VEVENT
BEGIN:VEVENT
DTSTART;TZID=America/Los_Angeles:20160521T100000
DTEND;TZID=America/Los_Angeles:20160521T120000
DTSTAMP:20260425T160145
CREATED:20151217T205213Z
LAST-MODIFIED:20151217T205423Z
UID:32680-1463824800-1463832000@spcala.com
SUMMARY:Foster Class at Long Beach
DESCRIPTION:spcaLA is looking for Foster Parents for pets of all ages and needs. Foster Parents provide temporary homes for pets that are too young for adoption or in need of socialization or extra TLC until they are ready to be placed into adoptions. \nPotential foster parents must fill out & submit an application prior to attending a foster class. Click here for the application. Want more info? Visit the Foster Care Program section of our website
URL:https://spcala.com/event/foster-class-at-long-beach-7/
LOCATION:P.D. Pitchford Companion Animal Village & Education Center\, 7700 E. Spring Street\, Long Beach\, CA\, 900815\, United States
CATEGORIES:Foster Class
ORGANIZER;CN="spcaLA":MAILTO:info@spcala.com
GEO:33.8089723;-118.0824425
X-APPLE-STRUCTURED-LOCATION;VALUE=URI;X-ADDRESS=P.D. Pitchford Companion Animal Village & Education Center 7700 E. Spring Street Long Beach CA 900815 United States;X-APPLE-RADIUS=500;X-TITLE=7700 E. Spring Street:geo:-118.0824425,33.8089723
END:VEVENT
BEGIN:VEVENT
DTSTART;TZID=America/Los_Angeles:20160417T100000
DTEND;TZID=America/Los_Angeles:20160417T120000
DTSTAMP:20260425T160145
CREATED:20151217T204535Z
LAST-MODIFIED:20151217T204535Z
UID:32676-1460887200-1460894400@spcala.com
SUMMARY:Foster Class at South Bay
DESCRIPTION:spcaLA is looking for Foster Parents for pets of all ages and needs. Foster Parents provide temporary homes for pets that are too young for adoption or in need of socialization or extra TLC until they are ready to be placed into adoptions. \nPotential foster parents must fill out & submit an application prior to attending a foster class. Click here for the application. Want more info? Visit the Foster Care Program section of our website
URL:https://spcala.com/event/foster-class-at-south-bay-7/
LOCATION:South Bay Pet Adoption Center\, 12910 Yukon Avenue\, Hawthorne\, CA\, 90250\, United States
CATEGORIES:Foster Class
ORGANIZER;CN="spcaLA":MAILTO:info@spcala.com
GEO:33.9150718;-118.3349312
X-APPLE-STRUCTURED-LOCATION;VALUE=URI;X-ADDRESS=South Bay Pet Adoption Center 12910 Yukon Avenue Hawthorne CA 90250 United States;X-APPLE-RADIUS=500;X-TITLE=12910 Yukon Avenue:geo:-118.3349312,33.9150718
END:VEVENT
BEGIN:VEVENT
DTSTART;TZID=America/Los_Angeles:20160319T100000
DTEND;TZID=America/Los_Angeles:20160319T120000
DTSTAMP:20260425T160145
CREATED:20151217T205050Z
LAST-MODIFIED:20160307T193207Z
UID:32679-1458381600-1458388800@spcala.com
SUMMARY:Foster Class at Long Beach
DESCRIPTION:spcaLA is looking for Foster Parents for pets of all ages and needs. Foster Parents provide temporary homes for pets that are too young for adoption or in need of socialization or extra TLC until they are ready to be placed into adoptions. \nPotential foster parents must fill out & submit an application prior to attending a foster class. Click here for the application. Want more info? Visit the Foster Care Program section of our website
URL:https://spcala.com/event/foster-class-at-long-beach-6/
LOCATION:P.D. Pitchford Companion Animal Village & Education Center\, 7700 E. Spring Street\, Long Beach\, CA\, 900815\, United States
CATEGORIES:Foster Class
ORGANIZER;CN="spcaLA":MAILTO:info@spcala.com
GEO:33.8089723;-118.0824425
X-APPLE-STRUCTURED-LOCATION;VALUE=URI;X-ADDRESS=P.D. Pitchford Companion Animal Village & Education Center 7700 E. Spring Street Long Beach CA 900815 United States;X-APPLE-RADIUS=500;X-TITLE=7700 E. Spring Street:geo:-118.0824425,33.8089723
END:VEVENT
BEGIN:VEVENT
DTSTART;TZID=America/Los_Angeles:20160221T100000
DTEND;TZID=America/Los_Angeles:20160221T120000
DTSTAMP:20260425T160145
CREATED:20151217T204155Z
LAST-MODIFIED:20151217T204611Z
UID:32675-1456048800-1456056000@spcala.com
SUMMARY:Foster Class at South Bay
DESCRIPTION:spcaLA is looking for Foster Parents for pets of all ages and needs. Foster Parents provide temporary homes for pets that are too young for adoption or in need of socialization or extra TLC until they are ready to be placed into adoptions. \nPotential foster parents must fill out & submit an application prior to attending a foster class. Click here for the application. Want more info? Visit the Foster Care Program section of our website
URL:https://spcala.com/event/foster-class-at-south-bay-6/
LOCATION:South Bay Pet Adoption Center\, 12910 Yukon Avenue\, Hawthorne\, CA\, 90250\, United States
CATEGORIES:Foster Class
ORGANIZER;CN="spcaLA":MAILTO:info@spcala.com
GEO:33.9150718;-118.3349312
X-APPLE-STRUCTURED-LOCATION;VALUE=URI;X-ADDRESS=South Bay Pet Adoption Center 12910 Yukon Avenue Hawthorne CA 90250 United States;X-APPLE-RADIUS=500;X-TITLE=12910 Yukon Avenue:geo:-118.3349312,33.9150718
END:VEVENT
BEGIN:VEVENT
DTSTART;TZID=America/Los_Angeles:20160116T100000
DTEND;TZID=America/Los_Angeles:20160116T120000
DTSTAMP:20260425T160145
CREATED:20151217T204919Z
LAST-MODIFIED:20151217T204919Z
UID:32678-1452938400-1452945600@spcala.com
SUMMARY:Foster Class at Long Beach
DESCRIPTION:spcaLA is looking for Foster Parents for pets of all ages and needs. Foster Parents provide temporary homes for pets that are too young for adoption or in need of socialization or extra TLC until they are ready to be placed into adoptions. \nPotential foster parents must fill out & submit an application prior to attending a foster class. Click here for the application. Want more info? Visit the Foster Care Program section of our website
URL:https://spcala.com/event/foster-class-at-long-beach-5/
LOCATION:P.D. Pitchford Companion Animal Village & Education Center\, 7700 E. Spring Street\, Long Beach\, CA\, 900815\, United States
CATEGORIES:Foster Class
ORGANIZER;CN="spcaLA":MAILTO:info@spcala.com
GEO:33.8089723;-118.0824425
X-APPLE-STRUCTURED-LOCATION;VALUE=URI;X-ADDRESS=P.D. Pitchford Companion Animal Village & Education Center 7700 E. Spring Street Long Beach CA 900815 United States;X-APPLE-RADIUS=500;X-TITLE=7700 E. Spring Street:geo:-118.0824425,33.8089723
END:VEVENT
BEGIN:VEVENT
DTSTART;TZID=America/Los_Angeles:20151213T100000
DTEND;TZID=America/Los_Angeles:20151213T120000
DTSTAMP:20260425T160145
CREATED:20150413T181307Z
LAST-MODIFIED:20150413T181307Z
UID:24864-1450000800-1450008000@spcala.com
SUMMARY:Foster Class at South Bay
DESCRIPTION:spcaLA is looking for Foster Parents for pets of all ages and needs. Foster Parents provide temporary homes for pets that are too young for adoption or in need of socialization or extra TLC until they are ready to be placed into adoptions. \nPotential foster parents must fill out & submit an application prior to attending a foster class. Click here for the application. Want more info? Visit the Foster Care Program section of our website
URL:https://spcala.com/event/foster-class-at-south-bay-5/
LOCATION:South Bay Pet Adoption Center\, 12910 Yukon Avenue\, Hawthorne\, CA\, 90250\, United States
CATEGORIES:Foster Class
ORGANIZER;CN="spcaLA":MAILTO:info@spcala.com
GEO:33.9150718;-118.3349312
X-APPLE-STRUCTURED-LOCATION;VALUE=URI;X-ADDRESS=South Bay Pet Adoption Center 12910 Yukon Avenue Hawthorne CA 90250 United States;X-APPLE-RADIUS=500;X-TITLE=12910 Yukon Avenue:geo:-118.3349312,33.9150718
END:VEVENT
BEGIN:VEVENT
DTSTART;TZID=America/Los_Angeles:20151114T100000
DTEND;TZID=America/Los_Angeles:20151114T120000
DTSTAMP:20260425T160145
CREATED:20150413T181054Z
LAST-MODIFIED:20151026T190819Z
UID:24863-1447495200-1447502400@spcala.com
SUMMARY:Foster Class at Long Beach
DESCRIPTION:spcaLA is looking for Foster Parents for pets of all ages and needs. Foster Parents provide temporary homes for pets that are too young for adoption or in need of socialization or extra TLC until they are ready to be placed into adoptions. \nPotential foster parents must fill out & submit an application prior to attending a foster class. Click here for the application. Want more info? Visit the Foster Care Program section of our website
URL:https://spcala.com/event/foster-class-at-long-beach-4/
LOCATION:P.D. Pitchford Companion Animal Village & Education Center\, 7700 E. Spring Street\, Long Beach\, CA\, 900815\, United States
CATEGORIES:Foster Class
ORGANIZER;CN="spcaLA":MAILTO:info@spcala.com
GEO:33.8089723;-118.0824425
X-APPLE-STRUCTURED-LOCATION;VALUE=URI;X-ADDRESS=P.D. Pitchford Companion Animal Village & Education Center 7700 E. Spring Street Long Beach CA 900815 United States;X-APPLE-RADIUS=500;X-TITLE=7700 E. Spring Street:geo:-118.0824425,33.8089723
END:VEVENT
BEGIN:VEVENT
DTSTART;TZID=America/Los_Angeles:20151018T100000
DTEND;TZID=America/Los_Angeles:20151018T120000
DTSTAMP:20260425T160145
CREATED:20150413T180918Z
LAST-MODIFIED:20150413T180918Z
UID:24862-1445162400-1445169600@spcala.com
SUMMARY:Foster Class at South Bay
DESCRIPTION:spcaLA is looking for Foster Parents for pets of all ages and needs. Foster Parents provide temporary homes for pets that are too young for adoption or in need of socialization or extra TLC until they are ready to be placed into adoptions. \nPotential foster parents must fill out & submit an application prior to attending a foster class. Click here for the application. Want more info? Visit the Foster Care Program section of our website
URL:https://spcala.com/event/foster-class-at-south-bay-4/
LOCATION:South Bay Pet Adoption Center\, 12910 Yukon Avenue\, Hawthorne\, CA\, 90250\, United States
CATEGORIES:Foster Class
ORGANIZER;CN="spcaLA":MAILTO:info@spcala.com
GEO:33.9150718;-118.3349312
X-APPLE-STRUCTURED-LOCATION;VALUE=URI;X-ADDRESS=South Bay Pet Adoption Center 12910 Yukon Avenue Hawthorne CA 90250 United States;X-APPLE-RADIUS=500;X-TITLE=12910 Yukon Avenue:geo:-118.3349312,33.9150718
END:VEVENT
BEGIN:VEVENT
DTSTART;TZID=America/Los_Angeles:20150919T100000
DTEND;TZID=America/Los_Angeles:20150919T120000
DTSTAMP:20260425T160145
CREATED:20150413T180728Z
LAST-MODIFIED:20150413T180728Z
UID:24861-1442656800-1442664000@spcala.com
SUMMARY:Foster Class at Long Beach
DESCRIPTION:spcaLA is looking for Foster Parents for pets of all ages and needs. Foster Parents provide temporary homes for pets that are too young for adoption or in need of socialization or extra TLC until they are ready to be placed into adoptions. \nPotential foster parents must fill out & submit an application prior to attending a foster class. Click here for the application. Want more info? Visit the Foster Care Program section of our website
URL:https://spcala.com/event/foster-class-at-long-beach-3/
LOCATION:P.D. Pitchford Companion Animal Village & Education Center\, 7700 E. Spring Street\, Long Beach\, CA\, 900815\, United States
CATEGORIES:Foster Class
ORGANIZER;CN="spcaLA":MAILTO:info@spcala.com
GEO:33.8089723;-118.0824425
X-APPLE-STRUCTURED-LOCATION;VALUE=URI;X-ADDRESS=P.D. Pitchford Companion Animal Village & Education Center 7700 E. Spring Street Long Beach CA 900815 United States;X-APPLE-RADIUS=500;X-TITLE=7700 E. Spring Street:geo:-118.0824425,33.8089723
END:VEVENT
BEGIN:VEVENT
DTSTART;TZID=America/Los_Angeles:20150816T100000
DTEND;TZID=America/Los_Angeles:20150816T120000
DTSTAMP:20260425T160145
CREATED:20150413T180407Z
LAST-MODIFIED:20150413T180407Z
UID:24859-1439719200-1439726400@spcala.com
SUMMARY:Foster Class at South Bay
DESCRIPTION:spcaLA is looking for Foster Parents for pets of all ages and needs. Foster Parents provide temporary homes for pets that are too young for adoption or in need of socialization or extra TLC until they are ready to be placed into adoptions. \nPotential foster parents must fill out & submit an application prior to attending a foster class. Click here for the application. Want more info? Visit the Foster Care Program section of our website
URL:https://spcala.com/event/foster-class-at-south-bay-3/
LOCATION:South Bay Pet Adoption Center\, 12910 Yukon Avenue\, Hawthorne\, CA\, 90250\, United States
CATEGORIES:Foster Class
ORGANIZER;CN="spcaLA":MAILTO:info@spcala.com
GEO:33.9150718;-118.3349312
X-APPLE-STRUCTURED-LOCATION;VALUE=URI;X-ADDRESS=South Bay Pet Adoption Center 12910 Yukon Avenue Hawthorne CA 90250 United States;X-APPLE-RADIUS=500;X-TITLE=12910 Yukon Avenue:geo:-118.3349312,33.9150718
END:VEVENT
BEGIN:VEVENT
DTSTART;TZID=America/Los_Angeles:20150718T100000
DTEND;TZID=America/Los_Angeles:20150718T120000
DTSTAMP:20260425T160145
CREATED:20150413T180115Z
LAST-MODIFIED:20150413T180115Z
UID:24856-1437213600-1437220800@spcala.com
SUMMARY:Foster Class at Long Beach
DESCRIPTION:spcaLA is looking for Foster Parents for pets of all ages and needs. Foster Parents provide temporary homes for pets that are too young for adoption or in need of socialization or extra TLC until they are ready to be placed into adoptions. \nPotential foster parents must fill out & submit an application prior to attending a foster class. Click here for the application. Want more info? Visit the Foster Care Program section of our website
URL:https://spcala.com/event/foster-class-at-long-beach-2/
LOCATION:P.D. Pitchford Companion Animal Village & Education Center\, 7700 E. Spring Street\, Long Beach\, CA\, 900815\, United States
CATEGORIES:Foster Class
ORGANIZER;CN="spcaLA":MAILTO:info@spcala.com
GEO:33.8089723;-118.0824425
X-APPLE-STRUCTURED-LOCATION;VALUE=URI;X-ADDRESS=P.D. Pitchford Companion Animal Village & Education Center 7700 E. Spring Street Long Beach CA 900815 United States;X-APPLE-RADIUS=500;X-TITLE=7700 E. Spring Street:geo:-118.0824425,33.8089723
END:VEVENT
BEGIN:VEVENT
DTSTART;TZID=America/Los_Angeles:20150614T100000
DTEND;TZID=America/Los_Angeles:20150614T120000
DTSTAMP:20260425T160145
CREATED:20150219T225555Z
LAST-MODIFIED:20150219T225653Z
UID:18556-1434276000-1434283200@spcala.com
SUMMARY:Foster Class at South Bay
DESCRIPTION:spcaLA is looking for Foster Parents for pets of all ages and needs. Foster Parents provide temporary homes for pets that are too young for adoption or in need of socialization or extra TLC until they are ready to be placed into adoptions. \nPotential foster parents must fill out & submit an application prior to attending a foster class.
URL:https://spcala.com/event/foster-class-at-south-bay-2/
LOCATION:South Bay Pet Adoption Center\, 12910 Yukon Avenue\, Hawthorne\, CA\, 90250\, United States
CATEGORIES:Foster Class
ATTACH;FMTTYPE=image/jpeg:https://eadn-wc04-6027823.nxedge.io/wp-content/uploads/2015/02/FosterKitten2-e1481656044444.jpg
ORGANIZER;CN="spcaLA":MAILTO:info@spcala.com
GEO:33.9150718;-118.3349312
X-APPLE-STRUCTURED-LOCATION;VALUE=URI;X-ADDRESS=South Bay Pet Adoption Center 12910 Yukon Avenue Hawthorne CA 90250 United States;X-APPLE-RADIUS=500;X-TITLE=12910 Yukon Avenue:geo:-118.3349312,33.9150718
END:VEVENT
BEGIN:VEVENT
DTSTART;TZID=America/Los_Angeles:20150516T100000
DTEND;TZID=America/Los_Angeles:20150516T120000
DTSTAMP:20260425T160145
CREATED:20150219T225119Z
LAST-MODIFIED:20150219T225343Z
UID:18553-1431770400-1431777600@spcala.com
SUMMARY:Foster Class at Long Beach
DESCRIPTION:spcaLA is looking for Foster Parents for pets of all ages and needs. Foster Parents provide temporary homes for pets that are too young for adoption or in need of socialization or extra TLC until they are ready to be placed into adoptions. \nPotential foster parents must fill out & submit an application prior to attending a foster class.
URL:https://spcala.com/event/foster-class-long-beach/
LOCATION:P.D. Pitchford Companion Animal Village & Education Center\, 7700 E. Spring Street\, Long Beach\, CA\, 900815\, United States
CATEGORIES:Foster Class
ORGANIZER;CN="spcaLA":MAILTO:info@spcala.com
GEO:33.8089723;-118.0824425
X-APPLE-STRUCTURED-LOCATION;VALUE=URI;X-ADDRESS=P.D. Pitchford Companion Animal Village & Education Center 7700 E. Spring Street Long Beach CA 900815 United States;X-APPLE-RADIUS=500;X-TITLE=7700 E. Spring Street:geo:-118.0824425,33.8089723
END:VEVENT
BEGIN:VEVENT
DTSTART;TZID=America/Los_Angeles:20150412T100000
DTEND;TZID=America/Los_Angeles:20150412T120000
DTSTAMP:20260425T160145
CREATED:20150219T224511Z
LAST-MODIFIED:20150219T225434Z
UID:18552-1428832800-1428840000@spcala.com
SUMMARY:Foster Class at South Bay
DESCRIPTION:spcaLA is looking for Foster Parents for pets of all ages and needs. Foster Parents provide temporary homes for pets that are too young for adoption or in need of socialization or extra TLC until they are ready to be placed into adoptions. \nPotential foster parents must fill out & submit an application prior to attending a foster class.
URL:https://spcala.com/event/foster-class-at-south-bay/
LOCATION:South Bay Pet Adoption Center\, 12910 Yukon Avenue\, Hawthorne\, CA\, 90250\, United States
CATEGORIES:Foster Class
GEO:33.9150718;-118.3349312
X-APPLE-STRUCTURED-LOCATION;VALUE=URI;X-ADDRESS=South Bay Pet Adoption Center 12910 Yukon Avenue Hawthorne CA 90250 United States;X-APPLE-RADIUS=500;X-TITLE=12910 Yukon Avenue:geo:-118.3349312,33.9150718
END:VEVENT
BEGIN:VEVENT
DTSTART;TZID=America/Los_Angeles:20150314T100000
DTEND;TZID=America/Los_Angeles:20150314T120000
DTSTAMP:20260425T160145
CREATED:20150219T205733Z
LAST-MODIFIED:20150219T205932Z
UID:18528-1426327200-1426334400@spcala.com
SUMMARY:Foster Class at Long Beach
DESCRIPTION:spcaLA is looking for Foster Parents for pets of all ages and needs. Foster Parents provide temporary homes for pets that are too young for adoption or in need of socialization or extra TLC until they are ready to be placed into adoptions. \nPotential foster parents must fill out & submit an application prior to attending a foster class. Click here for the application. Want more info? Visit the Foster Care Program section of our website
URL:https://spcala.com/event/foster-class-at-long-beach/
LOCATION:P.D. Pitchford Companion Animal Village & Education Center\, 7700 E. Spring Street\, Long Beach\, CA\, 900815\, United States
CATEGORIES:Foster Class
ORGANIZER;CN="spcaLA":MAILTO:info@spcala.com
GEO:33.8089723;-118.0824425
X-APPLE-STRUCTURED-LOCATION;VALUE=URI;X-ADDRESS=P.D. Pitchford Companion Animal Village & Education Center 7700 E. Spring Street Long Beach CA 900815 United States;X-APPLE-RADIUS=500;X-TITLE=7700 E. Spring Street:geo:-118.0824425,33.8089723
END:VEVENT
END:VCALENDAR