BEGIN:VCALENDAR
VERSION:2.0
PRODID:-//spcaLA - ECPv6.15.18//NONSGML v1.0//EN
CALSCALE:GREGORIAN
METHOD:PUBLISH
X-WR-CALNAME:spcaLA
X-ORIGINAL-URL:https://spcala.com
X-WR-CALDESC:Events for spcaLA
REFRESH-INTERVAL;VALUE=DURATION:PT1H
X-Robots-Tag:noindex
X-PUBLISHED-TTL:PT1H
BEGIN:VTIMEZONE
TZID:America/Los_Angeles
BEGIN:DAYLIGHT
TZOFFSETFROM:-0800
TZOFFSETTO:-0700
TZNAME:PDT
DTSTART:20220313T100000
END:DAYLIGHT
BEGIN:STANDARD
TZOFFSETFROM:-0700
TZOFFSETTO:-0800
TZNAME:PST
DTSTART:20221106T090000
END:STANDARD
BEGIN:DAYLIGHT
TZOFFSETFROM:-0800
TZOFFSETTO:-0700
TZNAME:PDT
DTSTART:20230312T100000
END:DAYLIGHT
BEGIN:STANDARD
TZOFFSETFROM:-0700
TZOFFSETTO:-0800
TZNAME:PST
DTSTART:20231105T090000
END:STANDARD
BEGIN:DAYLIGHT
TZOFFSETFROM:-0800
TZOFFSETTO:-0700
TZNAME:PDT
DTSTART:20240310T100000
END:DAYLIGHT
BEGIN:STANDARD
TZOFFSETFROM:-0700
TZOFFSETTO:-0800
TZNAME:PST
DTSTART:20241103T090000
END:STANDARD
BEGIN:DAYLIGHT
TZOFFSETFROM:-0800
TZOFFSETTO:-0700
TZNAME:PDT
DTSTART:20250309T100000
END:DAYLIGHT
BEGIN:STANDARD
TZOFFSETFROM:-0700
TZOFFSETTO:-0800
TZNAME:PST
DTSTART:20251102T090000
END:STANDARD
END:VTIMEZONE
BEGIN:VEVENT
DTSTART;TZID=America/Los_Angeles:20240922T110000
DTEND;TZID=America/Los_Angeles:20240922T230000
DTSTAMP:20260425T211325
CREATED:20240904T223234Z
LAST-MODIFIED:20240910T223755Z
UID:153091-1727002800-1727046000@spcala.com
SUMMARY:Barktoberfest at Angel City Brewery
DESCRIPTION:We are back for another Barktoberfest event at Downtown Los Angeles’\, Angel City Brewery! From 11am-11pm\, a percentage of sales will be donated to spcaLA\, so bring your friends and sample craft beers at this lively public house in the Arts District. \nAngel City Brewery is a dog-friendly establishment.
URL:https://spcala.com/event/barktoberfest-at-angel-city-brewery/
LOCATION:Angel City Brewery\, 216 S Alameda St\, Los Angeles\, CA\, 90212
CATEGORIES:Barktoberfest
END:VEVENT
BEGIN:VEVENT
DTSTART;TZID=America/Los_Angeles:20230929T160000
DTEND;TZID=America/Los_Angeles:20230930T020000
DTSTAMP:20260425T211325
CREATED:20230901T183258Z
LAST-MODIFIED:20230901T185222Z
UID:150527-1696003200-1696039200@spcala.com
SUMMARY:Barktoberfest at Angel City Brewing Company
DESCRIPTION:Get thee to Angel City Brewery on Friday\, September 29th for Barktoberfest! $1 from every draft of Oktoberfest beer will be donated to spcaLA.  \nAngel City Brewery is a dog-friendly establishment.
URL:https://spcala.com/event/barktoberfest-at-angel-city-brewing-company/
LOCATION:Angel City Brewery\, 216 S Alameda St\, Los Angeles\, CA\, 90212
END:VEVENT
END:VCALENDAR