BEGIN:VCALENDAR
VERSION:2.0
PRODID:-//spcaLA - ECPv6.15.18//NONSGML v1.0//EN
CALSCALE:GREGORIAN
METHOD:PUBLISH
X-ORIGINAL-URL:https://spcala.com
X-WR-CALDESC:Events for spcaLA
REFRESH-INTERVAL;VALUE=DURATION:PT1H
X-Robots-Tag:noindex
X-PUBLISHED-TTL:PT1H
BEGIN:VTIMEZONE
TZID:America/Los_Angeles
BEGIN:DAYLIGHT
TZOFFSETFROM:-0800
TZOFFSETTO:-0700
TZNAME:PDT
DTSTART:20220313T100000
END:DAYLIGHT
BEGIN:STANDARD
TZOFFSETFROM:-0700
TZOFFSETTO:-0800
TZNAME:PST
DTSTART:20221106T090000
END:STANDARD
BEGIN:DAYLIGHT
TZOFFSETFROM:-0800
TZOFFSETTO:-0700
TZNAME:PDT
DTSTART:20230312T100000
END:DAYLIGHT
BEGIN:STANDARD
TZOFFSETFROM:-0700
TZOFFSETTO:-0800
TZNAME:PST
DTSTART:20231105T090000
END:STANDARD
BEGIN:DAYLIGHT
TZOFFSETFROM:-0800
TZOFFSETTO:-0700
TZNAME:PDT
DTSTART:20240310T100000
END:DAYLIGHT
BEGIN:STANDARD
TZOFFSETFROM:-0700
TZOFFSETTO:-0800
TZNAME:PST
DTSTART:20241103T090000
END:STANDARD
END:VTIMEZONE
BEGIN:VEVENT
DTSTART;TZID=America/Los_Angeles:20230413T110000
DTEND;TZID=America/Los_Angeles:20230413T210000
DTSTAMP:20260425T213448
CREATED:20230407T233521Z
LAST-MODIFIED:20230407T233521Z
UID:148999-1681383600-1681419600@spcala.com
SUMMARY:Dine & Donate: Boba Bee - Long Beach
DESCRIPTION:Boba for buddies at Boba Bee! 20% of your bill will be donated to spcaLA on April 13th\, 11am-9pm. \nThis fundraiser is in support of a Long Beach high school student’s senior project! Let’s support them and shelter pets!
URL:https://spcala.com/event/dine-donate-boba-bee-long-beach/
LOCATION:Boba Bee\, 6537 E. Spring St\, Long Beach\, CA\, 90808
CATEGORIES:Dine & Donate
END:VEVENT
END:VCALENDAR