BEGIN:VCALENDAR
VERSION:2.0
PRODID:-//spcaLA - ECPv6.15.18//NONSGML v1.0//EN
CALSCALE:GREGORIAN
METHOD:PUBLISH
X-WR-CALNAME:spcaLA
X-ORIGINAL-URL:https://spcala.com
X-WR-CALDESC:Events for spcaLA
REFRESH-INTERVAL;VALUE=DURATION:PT1H
X-Robots-Tag:noindex
X-PUBLISHED-TTL:PT1H
BEGIN:VTIMEZONE
TZID:America/Los_Angeles
BEGIN:DAYLIGHT
TZOFFSETFROM:-0800
TZOFFSETTO:-0700
TZNAME:PDT
DTSTART:20240310T100000
END:DAYLIGHT
BEGIN:STANDARD
TZOFFSETFROM:-0700
TZOFFSETTO:-0800
TZNAME:PST
DTSTART:20241103T090000
END:STANDARD
BEGIN:DAYLIGHT
TZOFFSETFROM:-0800
TZOFFSETTO:-0700
TZNAME:PDT
DTSTART:20250309T100000
END:DAYLIGHT
BEGIN:STANDARD
TZOFFSETFROM:-0700
TZOFFSETTO:-0800
TZNAME:PST
DTSTART:20251102T090000
END:STANDARD
BEGIN:DAYLIGHT
TZOFFSETFROM:-0800
TZOFFSETTO:-0700
TZNAME:PDT
DTSTART:20260308T100000
END:DAYLIGHT
BEGIN:STANDARD
TZOFFSETFROM:-0700
TZOFFSETTO:-0800
TZNAME:PST
DTSTART:20261101T090000
END:STANDARD
END:VTIMEZONE
BEGIN:VEVENT
DTSTART;TZID=America/Los_Angeles:20250904T113000
DTEND;TZID=America/Los_Angeles:20250904T220000
DTSTAMP:20260425T142630
CREATED:20250806T210108Z
LAST-MODIFIED:20250827T163603Z
UID:159270-1756985400-1757023200@spcala.com
SUMMARY:Dine & Donate: Descanso Taqueria
DESCRIPTION:Celebrate So Cal Summer with a spicy Dine & Donate at Descanso Taqueria! Descanso serves Michoacán inspired cuisine\, featuring fresh bold flavors and seasonal ingredients. All day long on Thursday\, September 4th\, 20% of your bill will be donated to help shelter pets when you mention spcaLA.It’s that easy! No flyer needed. Just mention spcaLA to your server and enjoy delicious food while doing good. \nDescanso Taqueria is located on the Miracle Mile in Los Angeles.
URL:https://spcala.com/event/dine-donate-descanso-taqueria/
LOCATION:Descanso Taqueria\, 5773 Wilshire Blvd.\, Los Angeles\, California\, 90036
CATEGORIES:Dine & Donate
END:VEVENT
END:VCALENDAR