BEGIN:VCALENDAR
VERSION:2.0
PRODID:-//spcaLA - ECPv6.15.18//NONSGML v1.0//EN
CALSCALE:GREGORIAN
METHOD:PUBLISH
X-WR-CALNAME:spcaLA
X-ORIGINAL-URL:https://spcala.com
X-WR-CALDESC:Events for spcaLA
REFRESH-INTERVAL;VALUE=DURATION:PT1H
X-Robots-Tag:noindex
X-PUBLISHED-TTL:PT1H
BEGIN:VTIMEZONE
TZID:America/Los_Angeles
BEGIN:DAYLIGHT
TZOFFSETFROM:-0800
TZOFFSETTO:-0700
TZNAME:PDT
DTSTART:20150308T100000
END:DAYLIGHT
BEGIN:STANDARD
TZOFFSETFROM:-0700
TZOFFSETTO:-0800
TZNAME:PST
DTSTART:20151101T090000
END:STANDARD
BEGIN:DAYLIGHT
TZOFFSETFROM:-0800
TZOFFSETTO:-0700
TZNAME:PDT
DTSTART:20160313T100000
END:DAYLIGHT
BEGIN:STANDARD
TZOFFSETFROM:-0700
TZOFFSETTO:-0800
TZNAME:PST
DTSTART:20161106T090000
END:STANDARD
BEGIN:DAYLIGHT
TZOFFSETFROM:-0800
TZOFFSETTO:-0700
TZNAME:PDT
DTSTART:20170312T100000
END:DAYLIGHT
BEGIN:STANDARD
TZOFFSETFROM:-0700
TZOFFSETTO:-0800
TZNAME:PST
DTSTART:20171105T090000
END:STANDARD
BEGIN:DAYLIGHT
TZOFFSETFROM:-0800
TZOFFSETTO:-0700
TZNAME:PDT
DTSTART:20180311T100000
END:DAYLIGHT
BEGIN:STANDARD
TZOFFSETFROM:-0700
TZOFFSETTO:-0800
TZNAME:PST
DTSTART:20181104T090000
END:STANDARD
END:VTIMEZONE
BEGIN:VEVENT
DTSTART;VALUE=DATE:20170318
DTEND;VALUE=DATE:20170319
DTSTAMP:20260425T114240
CREATED:20160718T212539Z
LAST-MODIFIED:20170314T232737Z
UID:35076-1489795200-1489881599@spcala.com
SUMMARY:Team spcaLA in the LA Big 5k
DESCRIPTION:  \nONLINE REGISTRATION IS CLOSED But\, you can still join the team! Call (323)730-5300\, x253.\n Start Fundraising \nIt’s back! spcaLA is an official charity partner of the LA Big 5k & LA Marathon!\nJoin Team spcaLA for the LA Big 5K and help stop animal cruelty with each step. \nAlready registered for the LA Marathon or LA Big 5K? You can still join the team! Just click Start Fundraising to join! \nWhat do you get when you join Team spcaLA? \n\nTips & support from spcaLA\nPersonalized fundraising page\nFundraising incentives & prizes\nFREE team t-shirt\nGoodie bag filled with items from our sponsors H&R Block\, Maxine’s Heavenly Cookies\, Orgain\, Paw Pops\, Wiivv\, Dave’s Killer Bread\nAnd so much more!\n\n \nHow do you get started? \n\nDecide whether you want to run or walk in the LA Big 5k (registration fee $45)\nCommit to raise a minimum of $350 by April 30th\nRegister on Team spcaLA – call (323) 730-5300\, x253\nSTART FUNDRAISING – we help you set up your own fundraising page!\n\nLA Big 5k is Saturday\, March 18th. If you are interested in joining Team spcaLA for the LA Marathon (March 19th)\, please contact us at (323)730-5300\, x253. \nHave questions? Email us at info@spcaLA.com with “Team spcaLA” in the subject line. \nHappy Running!
URL:https://spcala.com/event/team-spcala-in-the-la-big-5k-la-marathon/
LOCATION:Dodger Stadium\, 1000 Elysian Park Ave\, Los Angeles\, 90012
ATTACH;FMTTYPE=image/jpeg:https://eadn-wc04-6027823.nxedge.io/wp-content/uploads/2016/07/Marathon5K-e1488559924307.jpg
GEO:34.0745658;-118.2408552
X-APPLE-STRUCTURED-LOCATION;VALUE=URI;X-ADDRESS=Dodger Stadium 1000 Elysian Park Ave Los Angeles 90012;X-APPLE-RADIUS=500;X-TITLE=1000 Elysian Park Ave:geo:-118.2408552,34.0745658
END:VEVENT
BEGIN:VEVENT
DTSTART;VALUE=DATE:20160213
DTEND;VALUE=DATE:20160215
DTSTAMP:20260425T114240
CREATED:20150709T180842Z
LAST-MODIFIED:20160209T225003Z
UID:31042-1455321600-1455494399@spcala.com
SUMMARY:Run for Team spcaLA!
DESCRIPTION:Last year\, we raised $20\,000 for animals! Let’s do it again! \nOnline registration is closed\, however you can still join the team! \n\n“I run for every animal that has made an impression on my life. Be it a friendly wag of the tail as I run by or a gentle headbutt to signal when to pet. I hope the money I raise will give the animals in spcaLA’s care a chance to live a full life.”\n\n– Gulpo (Team spcaLA Runner) \n\nStart Fundraising SPONSOR A RUNNER  DONATE \n\nWhen is the race? \n\nLA Big 5k: Saturday\, February 13th at 8am starting at Dodger Stadium (map)\nLA Marathon & Charity Relay: Sunday\, February 14th at 6:55am beginning at Dodger Stadium and ending in Santa Monica (Map)\n\nI’m already registered for the LA Marathon or LA Big 5k – can I still join Team spcaLA? \nYES! We are so happy to have you! Just set up your fundraising page here (you can create an account using your Facebook or email address): https://2016-la-marathon.everydayhero.com/us/spcala. Then\, shoot us a quick email at mdavenport@spcaLA.com or call (323) 730-5300\, x233 to let us know you’re on board! \nHow do I sign up? \n\nRegister for your race here (LA Marathon registration closes 2.10.16.  You can register for the LA Big 5k online until 2.10.16\, on race morning\, or at the Health & Fitness Expo).\nSet up your fundraising page here: https://2016-la-marathon.everydayhero.com/us/spcala and raise or donate $350 for abandoned & abused animals by March 16\, 2016.\nContact spcaLA to let us know you’re joining the team – call (323) 730-5300\, x233 or email mdavenport@spcaLA.com\nLA Big 5k runners can pick up their spcaLA t-shirts on race morning. For Marathoners\, shirts will be mailed post-race.\n\nDo I have to raise $350 by February 13th? \nNO! You’ve got plenty of time to collect donations from friends and family! We ask that you raise your funds by March 16\, 2016 but your Everyday Hero Donation page will stay live until April 1st! \n\nWhat do donations provide? \n\nA gift of $25 helps provide food\, shelter and love for a suffering animal.\nA gift of $50 provides a full vet exam\, vaccinations and microchip to a shelter pet.\nA gift of $150 allows spcaLA Humane Officers to remove an abused or neglected pet from a dangerous situation.\nA gift of $500 will help pay to process forensic evidence in an animal cruelty investigation.\n\nWhat am I agreeing to when I join Team spcaLA? \n \nPaying your race registration fee directly to LA Marathon\, Inc.\nCalling or emailing spcaLA at (323) 730-5300\, x233 or mdavenport@spcaLA.com to let us know you’ve joined.\nRaising or donating at least $350 (LA Big 5k)\, $650 (LA Marathon)\, or $1\,300 (Charity Relay Team) for spcaLA by March 16\, 2016.\nRunning (or walking) 3.1 miles\, 26.2 miles\, or approximately 13.1 miles in your chosen race on Saturday\, February 13th or Sunday\, February 14th.\nSign Up\n\nWhy do I pay a registration fee? \nThe LA Big 5k is put on by LA Marathon Inc.\, and your spcaLA is an official charity partner of the LA Marathon and the LA Big 5k. Registration fees are given to LA Marathon Inc. There are race registration fees (not tax-deductible\, non-refundable\, non-transferrable) for all races.  \nCan I bring my pet? \nNo\, pets are not permitted on the LA Big 5k\, LA Marathon\, or Charity Relay courses.  The LA Big 5k is put on by LA Marathon Inc.\, and your spcaLA is an official charity partner of the LA Marathon and the LA Big 5k. We run for the animals in this race\, not with them. \nWhy does spcaLA need me? \nBecause there is NO NATIONAL spca or humane society\, and spcaLA is not a chapter of any group or a part of a government agency\, we rely on donations to fuel animal cruelty investigations\, violence-prevention initiatives\, pet adoptions\, and a host of programs and services. Thank you! \nDo I get anything? \nYes\, not only will you get an spcaLA t-shirt and the satisfaction in knowing you are making a real difference in the lives of abused and abandoned animals\, you will also get a race medal\, an official race shirt\, water and snacks pre/post race\, and goodies from Big 5 and other race vendors on race day and at the Marathon Expo! \nHave questions? Get in touch! \n\n(323) 730-5300\, x233\nmdavenport@spcaLA.com\n\nSPONSOR A RUNNER  DONATE \nLast year’s team raised $20\,000 for abandoned and abused animals right here in Southern California.  Check out the highlights!
URL:https://spcala.com/event/run-for-team-spcala/
LOCATION:Dodger Stadium\, 1000 Elysian Park Ave\, Los Angeles\, 90012
ATTACH;FMTTYPE=image/jpeg:https://eadn-wc04-6027823.nxedge.io/wp-content/uploads/2016/01/TeamSPCALA.jpg
ORGANIZER;CN="spcaLA":MAILTO:info@spcala.com
GEO:34.0745658;-118.2408552
X-APPLE-STRUCTURED-LOCATION;VALUE=URI;X-ADDRESS=Dodger Stadium 1000 Elysian Park Ave Los Angeles 90012;X-APPLE-RADIUS=500;X-TITLE=1000 Elysian Park Ave:geo:-118.2408552,34.0745658
END:VEVENT
END:VCALENDAR