BEGIN:VCALENDAR
VERSION:2.0
PRODID:-//spcaLA - ECPv6.15.18//NONSGML v1.0//EN
CALSCALE:GREGORIAN
METHOD:PUBLISH
X-ORIGINAL-URL:https://spcala.com
X-WR-CALDESC:Events for spcaLA
REFRESH-INTERVAL;VALUE=DURATION:PT1H
X-Robots-Tag:noindex
X-PUBLISHED-TTL:PT1H
BEGIN:VTIMEZONE
TZID:America/Los_Angeles
BEGIN:DAYLIGHT
TZOFFSETFROM:-0800
TZOFFSETTO:-0700
TZNAME:PDT
DTSTART:20150308T100000
END:DAYLIGHT
BEGIN:STANDARD
TZOFFSETFROM:-0700
TZOFFSETTO:-0800
TZNAME:PST
DTSTART:20151101T090000
END:STANDARD
BEGIN:DAYLIGHT
TZOFFSETFROM:-0800
TZOFFSETTO:-0700
TZNAME:PDT
DTSTART:20160313T100000
END:DAYLIGHT
BEGIN:STANDARD
TZOFFSETFROM:-0700
TZOFFSETTO:-0800
TZNAME:PST
DTSTART:20161106T090000
END:STANDARD
BEGIN:DAYLIGHT
TZOFFSETFROM:-0800
TZOFFSETTO:-0700
TZNAME:PDT
DTSTART:20170312T100000
END:DAYLIGHT
BEGIN:STANDARD
TZOFFSETFROM:-0700
TZOFFSETTO:-0800
TZNAME:PST
DTSTART:20171105T090000
END:STANDARD
BEGIN:DAYLIGHT
TZOFFSETFROM:-0800
TZOFFSETTO:-0700
TZNAME:PDT
DTSTART:20180311T100000
END:DAYLIGHT
BEGIN:STANDARD
TZOFFSETFROM:-0700
TZOFFSETTO:-0800
TZNAME:PST
DTSTART:20181104T090000
END:STANDARD
BEGIN:DAYLIGHT
TZOFFSETFROM:-0800
TZOFFSETTO:-0700
TZNAME:PDT
DTSTART:20190310T100000
END:DAYLIGHT
BEGIN:STANDARD
TZOFFSETFROM:-0700
TZOFFSETTO:-0800
TZNAME:PST
DTSTART:20191103T090000
END:STANDARD
BEGIN:DAYLIGHT
TZOFFSETFROM:-0800
TZOFFSETTO:-0700
TZNAME:PDT
DTSTART:20200308T100000
END:DAYLIGHT
BEGIN:STANDARD
TZOFFSETFROM:-0700
TZOFFSETTO:-0800
TZNAME:PST
DTSTART:20201101T090000
END:STANDARD
BEGIN:DAYLIGHT
TZOFFSETFROM:-0800
TZOFFSETTO:-0700
TZNAME:PDT
DTSTART:20210314T100000
END:DAYLIGHT
BEGIN:STANDARD
TZOFFSETFROM:-0700
TZOFFSETTO:-0800
TZNAME:PST
DTSTART:20211107T090000
END:STANDARD
BEGIN:DAYLIGHT
TZOFFSETFROM:-0800
TZOFFSETTO:-0700
TZNAME:PDT
DTSTART:20220313T100000
END:DAYLIGHT
BEGIN:STANDARD
TZOFFSETFROM:-0700
TZOFFSETTO:-0800
TZNAME:PST
DTSTART:20221106T090000
END:STANDARD
BEGIN:DAYLIGHT
TZOFFSETFROM:-0800
TZOFFSETTO:-0700
TZNAME:PDT
DTSTART:20230312T100000
END:DAYLIGHT
BEGIN:STANDARD
TZOFFSETFROM:-0700
TZOFFSETTO:-0800
TZNAME:PST
DTSTART:20231105T090000
END:STANDARD
BEGIN:DAYLIGHT
TZOFFSETFROM:-0800
TZOFFSETTO:-0700
TZNAME:PDT
DTSTART:20240310T100000
END:DAYLIGHT
BEGIN:STANDARD
TZOFFSETFROM:-0700
TZOFFSETTO:-0800
TZNAME:PST
DTSTART:20241103T090000
END:STANDARD
END:VTIMEZONE
BEGIN:VEVENT
DTSTART;TZID=America/Los_Angeles:20231228T080000
DTEND;TZID=America/Los_Angeles:20231228T220000
DTSTAMP:20260425T201548
CREATED:20231218T222711Z
LAST-MODIFIED:20231222T231503Z
UID:151276-1703750400-1703800800@spcala.com
SUMMARY:Dine & Donate: Dog Haus Long Beach
DESCRIPTION:It’s our final Dine & Donate of the year! ALL DAY LONG dine at Dog Haus Biergarten in Long Beach and they’ll donate 20% to spcaLA on Thursday\, December 28th when you show this nifty flyer. \nVegetarian options available.
URL:https://spcala.com/event/dine-donate-dog-haus-long-beach/
LOCATION:Dog Haus Biergarten\, 210 East 3rd Street\, Long Beach\, CA\, 90802\, United States
CATEGORIES:Dine & Donate
GEO:33.7703276;-118.1907189
X-APPLE-STRUCTURED-LOCATION;VALUE=URI;X-ADDRESS=Dog Haus Biergarten 210 East 3rd Street Long Beach CA 90802 United States;X-APPLE-RADIUS=500;X-TITLE=210 East 3rd Street:geo:-118.1907189,33.7703276
END:VEVENT
BEGIN:VEVENT
DTSTART;TZID=America/Los_Angeles:20171207T110000
DTEND;TZID=America/Los_Angeles:20171208T000000
DTSTAMP:20260425T201548
CREATED:20171115T201336Z
LAST-MODIFIED:20171204T203104Z
UID:41887-1512644400-1512691200@spcala.com
SUMMARY:Dog Days at Dog Haus
DESCRIPTION:Join us for a fun day of food and doggie play at Dog Haus! \nWhen: December 7th\, 11am-midnight\nWhere: Dog Haus\, 210 E. 3rd St.\, Long Beach 90802 \nPresent this flyer at checkout and 20% of your bill will go to spcaLA. \nAlso\, donate much needed items for the shelter for a chance to win a prize. Full list of needed items here. \nAll puppers welcome.
URL:https://spcala.com/event/dog-days-at-dog-haus/
LOCATION:Dog Haus Biergarten\, 210 East 3rd Street\, Long Beach\, CA\, 90802\, United States
GEO:33.7703276;-118.1907189
X-APPLE-STRUCTURED-LOCATION;VALUE=URI;X-ADDRESS=Dog Haus Biergarten 210 East 3rd Street Long Beach CA 90802 United States;X-APPLE-RADIUS=500;X-TITLE=210 East 3rd Street:geo:-118.1907189,33.7703276
END:VEVENT
BEGIN:VEVENT
DTSTART;TZID=America/Los_Angeles:20160615T110000
DTEND;TZID=America/Los_Angeles:20160615T210000
DTSTAMP:20260425T201548
CREATED:20160406T173728Z
LAST-MODIFIED:20160407T155322Z
UID:33895-1465988400-1466024400@spcala.com
SUMMARY:Dine & Donate at Dog Haus Biergarten Long Beach
DESCRIPTION:We are so dog gone happy to be partnering with Dog Haus Biergarten to raise money for our homeless shelter pets! \nOn Wednesday June 15th\, from 11am-9pm\, 15 – 25% of sales will be donated to spcaLA. But we need YOU to reach 25%. The more people come\, the more they donate! \nYou must bring this flyer for spcaLA to receive credit for this fundraiser\, so don’t forget the flyer!
URL:https://spcala.com/event/dine-donate-at-dog-haus-biergarten-long-beach/
LOCATION:Dog Haus Biergarten\, 210 East 3rd Street\, Long Beach\, CA\, 90802\, United States
ATTACH;FMTTYPE=image/png:https://eadn-wc04-6027823.nxedge.io/wp-content/uploads/2016/04/DogHaus-e1460042559810.png
GEO:33.7703276;-118.1907189
X-APPLE-STRUCTURED-LOCATION;VALUE=URI;X-ADDRESS=Dog Haus Biergarten 210 East 3rd Street Long Beach CA 90802 United States;X-APPLE-RADIUS=500;X-TITLE=210 East 3rd Street:geo:-118.1907189,33.7703276
END:VEVENT
END:VCALENDAR