BEGIN:VCALENDAR
VERSION:2.0
PRODID:-//spcaLA - ECPv6.15.18//NONSGML v1.0//EN
CALSCALE:GREGORIAN
METHOD:PUBLISH
X-WR-CALNAME:spcaLA
X-ORIGINAL-URL:https://spcala.com
X-WR-CALDESC:Events for spcaLA
REFRESH-INTERVAL;VALUE=DURATION:PT1H
X-Robots-Tag:noindex
X-PUBLISHED-TTL:PT1H
BEGIN:VTIMEZONE
TZID:America/Los_Angeles
BEGIN:DAYLIGHT
TZOFFSETFROM:-0800
TZOFFSETTO:-0700
TZNAME:PDT
DTSTART:20250309T100000
END:DAYLIGHT
BEGIN:STANDARD
TZOFFSETFROM:-0700
TZOFFSETTO:-0800
TZNAME:PST
DTSTART:20251102T090000
END:STANDARD
BEGIN:DAYLIGHT
TZOFFSETFROM:-0800
TZOFFSETTO:-0700
TZNAME:PDT
DTSTART:20260308T100000
END:DAYLIGHT
BEGIN:STANDARD
TZOFFSETFROM:-0700
TZOFFSETTO:-0800
TZNAME:PST
DTSTART:20261101T090000
END:STANDARD
BEGIN:DAYLIGHT
TZOFFSETFROM:-0800
TZOFFSETTO:-0700
TZNAME:PDT
DTSTART:20270314T100000
END:DAYLIGHT
BEGIN:STANDARD
TZOFFSETFROM:-0700
TZOFFSETTO:-0800
TZNAME:PST
DTSTART:20271107T090000
END:STANDARD
END:VTIMEZONE
BEGIN:VEVENT
DTSTART;TZID=America/Los_Angeles:20260311T190000
DTEND;TZID=America/Los_Angeles:20260311T210000
DTSTAMP:20260425T213505
CREATED:20260130T190955Z
LAST-MODIFIED:20260309T185246Z
UID:160422-1773255600-1773262800@spcala.com
SUMMARY:Drag Bingo at Hamburger Mary's
DESCRIPTION:Join Us for Drag Bingo Night Benefitting spcaLA! 🎉🐾🌈 \n\nWe’re thrilled to invite you to an unforgettable evening of fun\, fabulousness\, and philanthropy at Hamburger Mary’s Legendary Bingo—Los Angeles’ most iconic Drag Queen Bingo and charity event! \nCome on down to West Hollywood\, enjoy delicious food and a full bar (all served with a signature side of sass!)\, and play for your chance to win great prizes. \nBingo cards are just $20 at the door\, and 75% of proceeds go directly to spcaLA to support our adoption programs & services. \nMake a reservation and secure your spot!
URL:https://spcala.com/event/drag-bingo-at-hamburger-marys/
LOCATION:Hamburger Mary’s\, 8288 Santa Monica Blvd\, West Hollywood\, 90046\, United States
END:VEVENT
END:VCALENDAR