BEGIN:VCALENDAR
VERSION:2.0
PRODID:-//spcaLA - ECPv6.15.18//NONSGML v1.0//EN
CALSCALE:GREGORIAN
METHOD:PUBLISH
X-WR-CALNAME:spcaLA
X-ORIGINAL-URL:https://spcala.com
X-WR-CALDESC:Events for spcaLA
REFRESH-INTERVAL;VALUE=DURATION:PT1H
X-Robots-Tag:noindex
X-PUBLISHED-TTL:PT1H
BEGIN:VTIMEZONE
TZID:America/Los_Angeles
BEGIN:DAYLIGHT
TZOFFSETFROM:-0800
TZOFFSETTO:-0700
TZNAME:PDT
DTSTART:20230312T100000
END:DAYLIGHT
BEGIN:STANDARD
TZOFFSETFROM:-0700
TZOFFSETTO:-0800
TZNAME:PST
DTSTART:20231105T090000
END:STANDARD
BEGIN:DAYLIGHT
TZOFFSETFROM:-0800
TZOFFSETTO:-0700
TZNAME:PDT
DTSTART:20240310T100000
END:DAYLIGHT
BEGIN:STANDARD
TZOFFSETFROM:-0700
TZOFFSETTO:-0800
TZNAME:PST
DTSTART:20241103T090000
END:STANDARD
BEGIN:DAYLIGHT
TZOFFSETFROM:-0800
TZOFFSETTO:-0700
TZNAME:PDT
DTSTART:20250309T100000
END:DAYLIGHT
BEGIN:STANDARD
TZOFFSETFROM:-0700
TZOFFSETTO:-0800
TZNAME:PST
DTSTART:20251102T090000
END:STANDARD
BEGIN:DAYLIGHT
TZOFFSETFROM:-0800
TZOFFSETTO:-0700
TZNAME:PDT
DTSTART:20260308T100000
END:DAYLIGHT
BEGIN:STANDARD
TZOFFSETFROM:-0700
TZOFFSETTO:-0800
TZNAME:PST
DTSTART:20261101T090000
END:STANDARD
END:VTIMEZONE
BEGIN:VEVENT
DTSTART;TZID=America/Los_Angeles:20251212T170000
DTEND;TZID=America/Los_Angeles:20251212T200000
DTSTAMP:20260425T103945
CREATED:20251112T214043Z
LAST-MODIFIED:20251209T221159Z
UID:159830-1765558800-1765569600@spcala.com
SUMMARY:Ivy Station Night Market: December Shelter Pet Toy Drive
DESCRIPTION:Join us for a very festive Night Market at Ivy Station in Downtown Culver City! Shop small and support local makers while enjoying delicious bites from food trucks\, craft beer & wine\, hot cocoa\, and complimentary pictures with Santa! This is a family friendly and pet-friendly event. \nBring a new toy to donate to the shelter pets of spcaLA! \n-Small\, medium\, and large plush toys for dogs\n-Hard rubber toys for dogs who like to chew\n-Large toys for large dogs\n-Mice cat toys\n-Jingle bell ball toys for cats\n-Feather chasers for cats \nspcaLA will be there with adoptable dogs from 5pm-8pm. Parking is free for event attendees. Gates on P1 and P2 will be open from 4pm to 11pm so no parking validation ticket is required. See you there!
URL:https://spcala.com/event/ivy-station-night-market-december-toy-drive/
LOCATION:Ivy Station\, 8840 National Blvd.\, Culver City\, CA\, 90232
END:VEVENT
BEGIN:VEVENT
DTSTART;TZID=America/Los_Angeles:20241012T120000
DTEND;TZID=America/Los_Angeles:20241012T150000
DTSTAMP:20260425T103945
CREATED:20240904T231458Z
LAST-MODIFIED:20241004T204345Z
UID:153101-1728734400-1728745200@spcala.com
SUMMARY:Yogadoption with Yoga6 at Ivy Station
DESCRIPTION:Flow into Fall with a yogadoption event! On Saturday\, October 12th from 12pm-3pm\, catch us on the on the lawn at Ivy Station with adoptable pets. \nAt 12pm\, Yoga6 will offer a yoga class on the lawn. $10 suggested donation\, all proceeds benefit spcaLA’s shelter pets! \nSign-up for yoga class here. \nSee you on the lawn!
URL:https://spcala.com/event/spcala-pet-adoptions-at-ivy-station/
LOCATION:Ivy Station\, 8840 National Blvd.\, Culver City\, CA\, 90232
END:VEVENT
END:VCALENDAR