BEGIN:VCALENDAR
VERSION:2.0
PRODID:-//spcaLA - ECPv6.15.18//NONSGML v1.0//EN
CALSCALE:GREGORIAN
METHOD:PUBLISH
X-WR-CALNAME:spcaLA
X-ORIGINAL-URL:https://spcala.com
X-WR-CALDESC:Events for spcaLA
REFRESH-INTERVAL;VALUE=DURATION:PT1H
X-Robots-Tag:noindex
X-PUBLISHED-TTL:PT1H
BEGIN:VTIMEZONE
TZID:America/Los_Angeles
BEGIN:DAYLIGHT
TZOFFSETFROM:-0800
TZOFFSETTO:-0700
TZNAME:PDT
DTSTART:20250309T100000
END:DAYLIGHT
BEGIN:STANDARD
TZOFFSETFROM:-0700
TZOFFSETTO:-0800
TZNAME:PST
DTSTART:20251102T090000
END:STANDARD
BEGIN:DAYLIGHT
TZOFFSETFROM:-0800
TZOFFSETTO:-0700
TZNAME:PDT
DTSTART:20260308T100000
END:DAYLIGHT
BEGIN:STANDARD
TZOFFSETFROM:-0700
TZOFFSETTO:-0800
TZNAME:PST
DTSTART:20261101T090000
END:STANDARD
BEGIN:DAYLIGHT
TZOFFSETFROM:-0800
TZOFFSETTO:-0700
TZNAME:PDT
DTSTART:20270314T100000
END:DAYLIGHT
BEGIN:STANDARD
TZOFFSETFROM:-0700
TZOFFSETTO:-0800
TZNAME:PST
DTSTART:20271107T090000
END:STANDARD
END:VTIMEZONE
BEGIN:VEVENT
DTSTART;TZID=America/Los_Angeles:20260425T110000
DTEND;TZID=America/Los_Angeles:20260425T150000
DTSTAMP:20260425T090339
CREATED:20260330T164601Z
LAST-MODIFIED:20260421T205705Z
UID:160908-1777114800-1777129200@spcala.com
SUMMARY:Pups and Putts
DESCRIPTION:spcaLA will be at Pups and Putts\, an 18-hole mini golf course on the lawn at Ivy Station in Culver City on April 25th. Come play a round and meet adoptable dogs from the spcaLA Pet Adoption Center in Los Angeles. We will be there from 12pm to 2pm.
URL:https://spcala.com/event/pups-and-putts/
LOCATION:Ivy Station\, 8840 National Blvd.\, Culver City\, CA\, 90232
ATTACH;FMTTYPE=image/webp:https://eadn-wc04-6027823.nxedge.io/wp-content/uploads/2026/04/pups-putts-WebEvent.webp
END:VEVENT
END:VCALENDAR