BEGIN:VCALENDAR
VERSION:2.0
PRODID:-//spcaLA - ECPv6.15.18//NONSGML v1.0//EN
CALSCALE:GREGORIAN
METHOD:PUBLISH
X-ORIGINAL-URL:https://spcala.com
X-WR-CALDESC:Events for spcaLA
REFRESH-INTERVAL;VALUE=DURATION:PT1H
X-Robots-Tag:noindex
X-PUBLISHED-TTL:PT1H
BEGIN:VTIMEZONE
TZID:America/Los_Angeles
BEGIN:DAYLIGHT
TZOFFSETFROM:-0800
TZOFFSETTO:-0700
TZNAME:PDT
DTSTART:20170312T100000
END:DAYLIGHT
BEGIN:STANDARD
TZOFFSETFROM:-0700
TZOFFSETTO:-0800
TZNAME:PST
DTSTART:20171105T090000
END:STANDARD
BEGIN:DAYLIGHT
TZOFFSETFROM:-0800
TZOFFSETTO:-0700
TZNAME:PDT
DTSTART:20180311T100000
END:DAYLIGHT
BEGIN:STANDARD
TZOFFSETFROM:-0700
TZOFFSETTO:-0800
TZNAME:PST
DTSTART:20181104T090000
END:STANDARD
BEGIN:DAYLIGHT
TZOFFSETFROM:-0800
TZOFFSETTO:-0700
TZNAME:PDT
DTSTART:20190310T100000
END:DAYLIGHT
BEGIN:STANDARD
TZOFFSETFROM:-0700
TZOFFSETTO:-0800
TZNAME:PST
DTSTART:20191103T090000
END:STANDARD
END:VTIMEZONE
BEGIN:VEVENT
DTSTART;TZID=America/Los_Angeles:20181006T100000
DTEND;TZID=America/Los_Angeles:20181006T130000
DTSTAMP:20260419T083301
CREATED:20180105T200655Z
LAST-MODIFIED:20180919T155019Z
UID:42536-1538820000-1538830800@spcala.com
SUMMARY:Low Cost Vaccine Clinic in West Hollywood
DESCRIPTION:Need shots? We have you covered! This is our last scheduled Low Cost Vaccine Clinic of 2018. \n\n\n$10 Bordetella vaccinations for dogs\n$20 CIV** vaccinations dogs\n$15 DA2PPV vaccinations for dogs\n$15-25 De-worming for cats and dogs\n$15 FeLV vaccinations for cats\n$15 FVRCP vaccinations for cats\n$25 Microchips* for dogs and cats\n$7 Rabies vaccinations for cats and dogs\n$45 Kitten Package for kittens 6-12 weeks old. Includes FVRCP\, de-wormer\, and microchip\n$55 Puppy Package for puppies 6-12 weeks old. Includes DA2PPV\, bordetella\, de-wormer\, and microchip\n\nThe Clinic will be held in the Community Center at Plummer Park\nAll dogs on leash or carrier\, all cats in carriers\nBring medical records if you have them\nCash and credit accepted\nLearn more about Canine Influenza Virus (CIV). \n* Registration not included. ** CIV requires a booster. Please make an appointment with your vet for the booster 2-4 weeks after initial vaccine.
URL:https://spcala.com/event/low-cost-vaccine-clinic-in-west-hollywood-2/
LOCATION:Plummer Park\, 7377 Santa Monica Boulevard\, West Hollywood\, CA\, 90046\, United States
CATEGORIES:Low Cost Vaccine & Microchip Clinic
GEO:34.0914637;-118.350834
X-APPLE-STRUCTURED-LOCATION;VALUE=URI;X-ADDRESS=Plummer Park 7377 Santa Monica Boulevard West Hollywood CA 90046 United States;X-APPLE-RADIUS=500;X-TITLE=7377 Santa Monica Boulevard:geo:-118.350834,34.0914637
END:VEVENT
END:VCALENDAR