BEGIN:VCALENDAR
VERSION:2.0
PRODID:-//spcaLA - ECPv6.15.18//NONSGML v1.0//EN
CALSCALE:GREGORIAN
METHOD:PUBLISH
X-ORIGINAL-URL:https://spcala.com
X-WR-CALDESC:Events for spcaLA
REFRESH-INTERVAL;VALUE=DURATION:PT1H
X-Robots-Tag:noindex
X-PUBLISHED-TTL:PT1H
BEGIN:VTIMEZONE
TZID:America/Los_Angeles
BEGIN:DAYLIGHT
TZOFFSETFROM:-0800
TZOFFSETTO:-0700
TZNAME:PDT
DTSTART:20230312T100000
END:DAYLIGHT
BEGIN:STANDARD
TZOFFSETFROM:-0700
TZOFFSETTO:-0800
TZNAME:PST
DTSTART:20231105T090000
END:STANDARD
BEGIN:DAYLIGHT
TZOFFSETFROM:-0800
TZOFFSETTO:-0700
TZNAME:PDT
DTSTART:20240310T100000
END:DAYLIGHT
BEGIN:STANDARD
TZOFFSETFROM:-0700
TZOFFSETTO:-0800
TZNAME:PST
DTSTART:20241103T090000
END:STANDARD
BEGIN:DAYLIGHT
TZOFFSETFROM:-0800
TZOFFSETTO:-0700
TZNAME:PDT
DTSTART:20250309T100000
END:DAYLIGHT
BEGIN:STANDARD
TZOFFSETFROM:-0700
TZOFFSETTO:-0800
TZNAME:PST
DTSTART:20251102T090000
END:STANDARD
END:VTIMEZONE
BEGIN:VEVENT
DTSTART;TZID=America/Los_Angeles:20240918T110000
DTEND;TZID=America/Los_Angeles:20240918T220000
DTSTAMP:20260425T112141
CREATED:20240828T193149Z
LAST-MODIFIED:20240904T233111Z
UID:153031-1726657200-1726696800@spcala.com
SUMMARY:Dine & Donate: Prime Pizza - Fairfax
DESCRIPTION:Join us for a Prime Fundraiser for spcaLA! \nAll day long enjoy delicious pizza\, salads\, and more from a Los Angeles favorite\, Prime Pizza in the Fairfax district and they will donate 20% of your bill to help homeless pets. To participate use code SPCALA when ordering online or show this flyer when ordering in person. \nVegan/vegetarian\, gluten-free options available.
URL:https://spcala.com/event/dine-donate-prime-pizza-fairfax/
LOCATION:Prime Pizza\, 446 N. Fairfax Ave.\, Los Angeles\, CA
CATEGORIES:Dine & Donate
END:VEVENT
END:VCALENDAR