BEGIN:VCALENDAR
VERSION:2.0
PRODID:-//spcaLA - ECPv6.15.18//NONSGML v1.0//EN
CALSCALE:GREGORIAN
METHOD:PUBLISH
X-WR-CALNAME:spcaLA
X-ORIGINAL-URL:https://spcala.com
X-WR-CALDESC:Events for spcaLA
REFRESH-INTERVAL;VALUE=DURATION:PT1H
X-Robots-Tag:noindex
X-PUBLISHED-TTL:PT1H
BEGIN:VTIMEZONE
TZID:America/Los_Angeles
BEGIN:DAYLIGHT
TZOFFSETFROM:-0800
TZOFFSETTO:-0700
TZNAME:PDT
DTSTART:20230312T100000
END:DAYLIGHT
BEGIN:STANDARD
TZOFFSETFROM:-0700
TZOFFSETTO:-0800
TZNAME:PST
DTSTART:20231105T090000
END:STANDARD
BEGIN:DAYLIGHT
TZOFFSETFROM:-0800
TZOFFSETTO:-0700
TZNAME:PDT
DTSTART:20240310T100000
END:DAYLIGHT
BEGIN:STANDARD
TZOFFSETFROM:-0700
TZOFFSETTO:-0800
TZNAME:PST
DTSTART:20241103T090000
END:STANDARD
BEGIN:DAYLIGHT
TZOFFSETFROM:-0800
TZOFFSETTO:-0700
TZNAME:PDT
DTSTART:20250309T100000
END:DAYLIGHT
BEGIN:STANDARD
TZOFFSETFROM:-0700
TZOFFSETTO:-0800
TZNAME:PST
DTSTART:20251102T090000
END:STANDARD
END:VTIMEZONE
BEGIN:VEVENT
DTSTART;TZID=America/Los_Angeles:20240824T103000
DTEND;TZID=America/Los_Angeles:20240824T220000
DTSTAMP:20260425T161057
CREATED:20240718T164257Z
LAST-MODIFIED:20240802T204528Z
UID:152699-1724495400-1724536800@spcala.com
SUMMARY:Dine & Donate: Shake Shack Culver City
DESCRIPTION:It’s a Dine & Donate at Shake Shack in Culver City on Saturday\, August 24th all day long! Show this flyer at the register or use code DONATE25 on the Shack App for pick up\, delivery or kiosk when checking out and Shake Shack will donate 25% of your total meal purchase to spcaLA. \nVegetarian/Vegan options available.
URL:https://spcala.com/event/dine-donate-shake-shack-culver-city/
LOCATION:Shake Shack – Culver City\, 9341 Culver Blvd.\, Culver City\, 90232
CATEGORIES:Dine & Donate
END:VEVENT
END:VCALENDAR