BEGIN:VCALENDAR
VERSION:2.0
PRODID:-//spcaLA - ECPv6.15.18//NONSGML v1.0//EN
CALSCALE:GREGORIAN
METHOD:PUBLISH
X-WR-CALNAME:spcaLA
X-ORIGINAL-URL:https://spcala.com
X-WR-CALDESC:Events for spcaLA
REFRESH-INTERVAL;VALUE=DURATION:PT1H
X-Robots-Tag:noindex
X-PUBLISHED-TTL:PT1H
BEGIN:VTIMEZONE
TZID:America/Los_Angeles
BEGIN:DAYLIGHT
TZOFFSETFROM:-0800
TZOFFSETTO:-0700
TZNAME:PDT
DTSTART:20150308T100000
END:DAYLIGHT
BEGIN:STANDARD
TZOFFSETFROM:-0700
TZOFFSETTO:-0800
TZNAME:PST
DTSTART:20151101T090000
END:STANDARD
BEGIN:DAYLIGHT
TZOFFSETFROM:-0800
TZOFFSETTO:-0700
TZNAME:PDT
DTSTART:20160313T100000
END:DAYLIGHT
BEGIN:STANDARD
TZOFFSETFROM:-0700
TZOFFSETTO:-0800
TZNAME:PST
DTSTART:20161106T090000
END:STANDARD
BEGIN:DAYLIGHT
TZOFFSETFROM:-0800
TZOFFSETTO:-0700
TZNAME:PDT
DTSTART:20170312T100000
END:DAYLIGHT
BEGIN:STANDARD
TZOFFSETFROM:-0700
TZOFFSETTO:-0800
TZNAME:PST
DTSTART:20171105T090000
END:STANDARD
BEGIN:DAYLIGHT
TZOFFSETFROM:-0800
TZOFFSETTO:-0700
TZNAME:PDT
DTSTART:20180311T100000
END:DAYLIGHT
BEGIN:STANDARD
TZOFFSETFROM:-0700
TZOFFSETTO:-0800
TZNAME:PST
DTSTART:20181104T090000
END:STANDARD
BEGIN:DAYLIGHT
TZOFFSETFROM:-0800
TZOFFSETTO:-0700
TZNAME:PDT
DTSTART:20190310T100000
END:DAYLIGHT
BEGIN:STANDARD
TZOFFSETFROM:-0700
TZOFFSETTO:-0800
TZNAME:PST
DTSTART:20191103T090000
END:STANDARD
BEGIN:DAYLIGHT
TZOFFSETFROM:-0800
TZOFFSETTO:-0700
TZNAME:PDT
DTSTART:20200308T100000
END:DAYLIGHT
BEGIN:STANDARD
TZOFFSETFROM:-0700
TZOFFSETTO:-0800
TZNAME:PST
DTSTART:20201101T090000
END:STANDARD
BEGIN:DAYLIGHT
TZOFFSETFROM:-0800
TZOFFSETTO:-0700
TZNAME:PDT
DTSTART:20210314T100000
END:DAYLIGHT
BEGIN:STANDARD
TZOFFSETFROM:-0700
TZOFFSETTO:-0800
TZNAME:PST
DTSTART:20211107T090000
END:STANDARD
BEGIN:DAYLIGHT
TZOFFSETFROM:-0800
TZOFFSETTO:-0700
TZNAME:PDT
DTSTART:20220313T100000
END:DAYLIGHT
BEGIN:STANDARD
TZOFFSETFROM:-0700
TZOFFSETTO:-0800
TZNAME:PST
DTSTART:20221106T090000
END:STANDARD
BEGIN:DAYLIGHT
TZOFFSETFROM:-0800
TZOFFSETTO:-0700
TZNAME:PDT
DTSTART:20230312T100000
END:DAYLIGHT
BEGIN:STANDARD
TZOFFSETFROM:-0700
TZOFFSETTO:-0800
TZNAME:PST
DTSTART:20231105T090000
END:STANDARD
BEGIN:DAYLIGHT
TZOFFSETFROM:-0800
TZOFFSETTO:-0700
TZNAME:PDT
DTSTART:20240310T100000
END:DAYLIGHT
BEGIN:STANDARD
TZOFFSETFROM:-0700
TZOFFSETTO:-0800
TZNAME:PST
DTSTART:20241103T090000
END:STANDARD
BEGIN:DAYLIGHT
TZOFFSETFROM:-0800
TZOFFSETTO:-0700
TZNAME:PDT
DTSTART:20250309T100000
END:DAYLIGHT
BEGIN:STANDARD
TZOFFSETFROM:-0700
TZOFFSETTO:-0800
TZNAME:PST
DTSTART:20251102T090000
END:STANDARD
BEGIN:DAYLIGHT
TZOFFSETFROM:-0800
TZOFFSETTO:-0700
TZNAME:PDT
DTSTART:20260308T100000
END:DAYLIGHT
BEGIN:STANDARD
TZOFFSETFROM:-0700
TZOFFSETTO:-0800
TZNAME:PST
DTSTART:20261101T090000
END:STANDARD
BEGIN:DAYLIGHT
TZOFFSETFROM:-0800
TZOFFSETTO:-0700
TZNAME:PDT
DTSTART:20270314T100000
END:DAYLIGHT
BEGIN:STANDARD
TZOFFSETFROM:-0700
TZOFFSETTO:-0800
TZNAME:PST
DTSTART:20271107T090000
END:STANDARD
END:VTIMEZONE
BEGIN:VEVENT
DTSTART;TZID=America/Los_Angeles:20260328T120000
DTEND;TZID=America/Los_Angeles:20260328T150000
DTSTAMP:20260425T163321
CREATED:20260218T210234Z
LAST-MODIFIED:20260309T194953Z
UID:160505-1774699200-1774710000@spcala.com
SUMMARY:Marketplace Springtime Party
DESCRIPTION:Join us on March 28th from 12:00 PM – 3:00 PM for a fun-filled afternoon at spcaLA’s Marketplace! \nHop on over with your four-legged friend and enjoy: \n\nPet Pictures with the Easter Bunny\nDoggie Egg Hunt in the Marketplace\nEgg-shaped Paw Print Keepsake\nDIY Spring Dog Treat Station\n\nWe can’t wait to celebrate with you!
URL:https://spcala.com/event/marketplace-spring-fun/
LOCATION:spcaLA Marketplace\, 7700 E. Spring St.\, Long Beach\, CA\, 90815\, United States
ATTACH;FMTTYPE=image/webp:https://eadn-wc04-6027823.nxedge.io/wp-content/uploads/2026/02/marketplace-springtime-party-2026-WebEvent.webp
GEO:33.8089723;-118.0824425
X-APPLE-STRUCTURED-LOCATION;VALUE=URI;X-ADDRESS=spcaLA Marketplace 7700 E. Spring St. Long Beach CA 90815 United States;X-APPLE-RADIUS=500;X-TITLE=7700 E. Spring St.:geo:-118.0824425,33.8089723
END:VEVENT
BEGIN:VEVENT
DTSTART;TZID=America/Los_Angeles:20251206T120000
DTEND;TZID=America/Los_Angeles:20251206T150000
DTSTAMP:20260425T163321
CREATED:20251016T230235Z
LAST-MODIFIED:20251119T193904Z
UID:159706-1765022400-1765033200@spcala.com
SUMMARY:2nd Annual Pawliday Party at the spcaLA Marketplace
DESCRIPTION:Roll up with your pup! December 6th\, we’re hosting a Pawliday Party for you and your canine bestie. \n Paw Painting Let your pup unleash their inner Pawcasso and create a one-of-a-kind masterpiece.\n Photos with Santa Paws Capture the holiday spirit with a snapshot alongside the jolliest pup around.\n Holiday Photo Booth Dress up with festive costumes and props\, and strike a pose in front of our holiday-themed photo stand!\n Holiday Treat Treat your good boy or girl to a delicious pup cup or Milk + Cookies treats.\n Reindeer Run Let your doggo dash through our low-impact agility course made for all levels. \nAcoustic musical performance by Wild Tunes. Friendly\, leashed dogs welcome! Free to attend. \nSaturday\, December 6th\, 12pm-3pm\nspcaLA PD Pitchford Companion Animal Village (in front of the Marketplace)\n7700 E Spring St\nLong Beach CA \nNo pup? No problem! The pet adoption center is open from 10am-3pm 😉
URL:https://spcala.com/event/2nd-annual-pawliday-party-at-the-spcala-marketplace/
LOCATION:spcaLA Marketplace\, 7700 E. Spring St.\, Long Beach\, CA\, 90815\, United States
GEO:33.8089723;-118.0824425
X-APPLE-STRUCTURED-LOCATION;VALUE=URI;X-ADDRESS=spcaLA Marketplace 7700 E. Spring St. Long Beach CA 90815 United States;X-APPLE-RADIUS=500;X-TITLE=7700 E. Spring St.:geo:-118.0824425,33.8089723
END:VEVENT
BEGIN:VEVENT
DTSTART;TZID=America/Los_Angeles:20241130T090000
DTEND;TZID=America/Los_Angeles:20241130T163000
DTSTAMP:20260425T163321
CREATED:20241120T224015Z
LAST-MODIFIED:20241122T163628Z
UID:157419-1732957200-1732984200@spcala.com
SUMMARY:Small Business Saturday
DESCRIPTION:Shop local and support small business! First 10 customers at the spcaLA Marketplace on on Saturday receive a FREE Kong dog toy and! Plus\, great deals on food\, treats\, toys & more. Download our coupon. \nShop the Marketplace Saturday\, November 30th from 9am to 4:30pm. \nTREATS\n•	$1.00 off all Plato Holiday Dog Treats\n•	$1.00 off all Himalayan Churro Sticks\n•	$1.00 off all Grandma Lucy’s Treats\n•	$2.00 off all YETI Dog Chews\n•	Buy 2 Red Barn Bully Slice Bags\, Get 1 FREE\nDOG FOOD\n•	$4.00 off Nature’s Logic Small Bags\n•	$10.00 off Red Barn Small Bags\n•	$15.00 off Red Barn Large Bags\n•	$20.00 off Dr. Marty 80oz Nature’s Blend\n•	$20.00 off Badlands Ranch 64oz\n•	Buy 1 Ziwipeak Air Dried 1lb Bag or 1.8lb Bag\, Get 1 FREE\n•	Buy Large Bag of Canidae Dog Food\, Get 2 Cans FREE\n•	Buy Large Bag of Natural Balance Dog Food\, Get 2 Cans FREE\nCAT FOOD\n•	Buy 2 Tiki Cat Cans\, Get 1 FREE\n•	Buy 2 Nulo 5lb Bags\, Get 1 10-count Nulo Puree FREE\n•	Buy Large Bag of Natural Balance Cat Food\, get 3 Cans FREE\n•	Buy Large Bag of Canidae Cat Food\, get 3 Cans FREE\nOTHER\n•	$4.00 off all Naturvet products: Bitter Yuck\, Melatonin Chews etc.\n•	$5.00 off all VeteriScience Supplements: Composure\, Glycoflex etc.\n•	Buy 2 Bear & Rat 4 pack Frozen Yogurts\, Get 1 4-pack FREE
URL:https://spcala.com/event/small-business-saturday-6/
LOCATION:spcaLA Marketplace\, 7700 E. Spring St.\, Long Beach\, CA\, 90815\, United States
GEO:33.8089723;-118.0824425
X-APPLE-STRUCTURED-LOCATION;VALUE=URI;X-ADDRESS=spcaLA Marketplace 7700 E. Spring St. Long Beach CA 90815 United States;X-APPLE-RADIUS=500;X-TITLE=7700 E. Spring St.:geo:-118.0824425,33.8089723
END:VEVENT
BEGIN:VEVENT
DTSTART;TZID=America/Los_Angeles:20240804T110000
DTEND;TZID=America/Los_Angeles:20240804T140000
DTSTAMP:20260425T163321
CREATED:20240718T213525Z
LAST-MODIFIED:20240718T231231Z
UID:152704-1722769200-1722780000@spcala.com
SUMMARY:Celebrate KONG Day at the spcaLA Marketplace!
DESCRIPTION:All Dogs (and cats!) Need to Play\, which is what KONG Day is all about! We’re celebrating with giveaways\, free gift with purchase PLUS KONG stuffing demonstrations at the spcaLA Marketplace in Long Beach. \nAlso\, take advantage of August sales while supplies last: \nTREATS \nThe Bear & Rat Yogurt Packs – $1.00 off per box\, all flavors\nSmall Batch Freeze Dried Sliders 14oz – $3.00 off per bag\nLotus Baked Dog Treats – $1.00 off\nIcelandic Plus – $1.00 off all packaged fish treats\nPlato – get $1.00 off any 2.5oz bites or $2.00 off any 6oz small bites or 16oz jerky bag\nPlato – get $4.00 off 10oz bags or $2.00 off 3.5oz bags of hunders crunch & minis\nPlato – get $1.00 off 8oz or $2.00 off 15.5oz/16oz or $3.00 off 32.oz bottles of Salmon oil\nBuy 3 bags of dog treats\, get 3 bags of chicken treats FREE\nBuy 3 bags of cat treats\, get 3 bags of catnip Greenies FREE \nFrozen Food\, Dog \nMy Perfect Pet Frozen Low Glycemic Recipes – $3.00 off \nProceeds from all purchases at the spcaLA Marketplace benefit shelter pets!
URL:https://spcala.com/event/celebrate-kong-day-at-the-spcala-marketplace/
LOCATION:spcaLA Marketplace\, 7700 E. Spring St.\, Long Beach\, CA\, 90815\, United States
GEO:33.8089723;-118.0824425
X-APPLE-STRUCTURED-LOCATION;VALUE=URI;X-ADDRESS=spcaLA Marketplace 7700 E. Spring St. Long Beach CA 90815 United States;X-APPLE-RADIUS=500;X-TITLE=7700 E. Spring St.:geo:-118.0824425,33.8089723
END:VEVENT
BEGIN:VEVENT
DTSTART;TZID=America/Los_Angeles:20240121T110000
DTEND;TZID=America/Los_Angeles:20240121T130000
DTSTAMP:20260425T163321
CREATED:20240119T184943Z
LAST-MODIFIED:20240121T162118Z
UID:151468-1705834800-1705842000@spcala.com
SUMMARY:Meet Pierre-Luc Dubois of the LA Kings
DESCRIPTION:Join us for an unforgettable event on Sunday\, January 21st as we welcome PL Dubois\, Los Angeles Kings hockey player and dog enthusiast\, for an exclusive autograph signing and meet-and-greet session! \nBut\, wait THERE’S MORE! PL is kicking off his new passion project\, PL’s Pups! PL’s Pups is dedicated to finding loving homes for dogs in need by sponsoring their adoption fees. Dog adoption fees at spcaLA will be FREE thanks to PL’s Pups On Sunday from 11am-1pm (for qualified adopters only\, exclusions may apply\, spay/neuter deposit may be required). \nStop by the spcaLA Marketplace at 12pm to meet PL Dubois\, Bailey\, LA Kings mascot\, and pick-up a copy of LA Kings We Are All K9’s & Fe-Lions 2024 Calendar featuring spcaLA shelter pets (all proceeds donated to spcaLA).
URL:https://spcala.com/event/meet-la-kings-hockey-player-pl-dubois-at-spcala/
LOCATION:spcaLA Marketplace\, 7700 E. Spring St.\, Long Beach\, CA\, 90815\, United States
GEO:33.8089723;-118.0824425
X-APPLE-STRUCTURED-LOCATION;VALUE=URI;X-ADDRESS=spcaLA Marketplace 7700 E. Spring St. Long Beach CA 90815 United States;X-APPLE-RADIUS=500;X-TITLE=7700 E. Spring St.:geo:-118.0824425,33.8089723
END:VEVENT
BEGIN:VEVENT
DTSTART;VALUE=DATE:20240101
DTEND;VALUE=DATE:20240201
DTSTAMP:20260425T163321
CREATED:20240103T170050Z
LAST-MODIFIED:20240103T202427Z
UID:151372-1704067200-1706745599@spcala.com
SUMMARY:LA Kings Calendar Fundraiser
DESCRIPTION:The time has come! Grab your copy of the 2024 Los Angeles Kings Calendar featuring mascot\, Bailey and spcaLA shelter cats and dogs! Calendars are available for purchase at the spcaLA Marketplace for $20. All proceeds benefit spcaLA shelter pets. Go Kings Go!
URL:https://spcala.com/event/la-kings-calendar-fundraiser/
LOCATION:spcaLA Marketplace\, 7700 E. Spring St.\, Long Beach\, CA\, 90815\, United States
GEO:33.8089723;-118.0824425
X-APPLE-STRUCTURED-LOCATION;VALUE=URI;X-ADDRESS=spcaLA Marketplace 7700 E. Spring St. Long Beach CA 90815 United States;X-APPLE-RADIUS=500;X-TITLE=7700 E. Spring St.:geo:-118.0824425,33.8089723
END:VEVENT
BEGIN:VEVENT
DTSTART;VALUE=DATE:20211201
DTEND;VALUE=DATE:20220101
DTSTAMP:20260425T163321
CREATED:20201202T232104Z
LAST-MODIFIED:20211124T001348Z
UID:89206-1638316800-1640995199@spcala.com
SUMMARY:Deck the Paws!
DESCRIPTION:Share the joy and sponsor a shelter pet this holiday season!  \nStop by the spcaLA Marketplace and select a pet to sponsor by choosing an ornament from the giving tree. Each ornament is customized for one of our shelter pets who are waiting for their forever home. Give a donation\, or purchase items from their wish list. The ornament is yours to keep! \nPrefer to give online? Deck the Paws in the amount of $5\, $10\, $25\, or $500.  \nDeck the Paws donation drive is December 1 – December 31. \n\n\n\n\n\n\n\n\n\nOrnaments handcrafted by spcaLA staff
URL:https://spcala.com/event/deck-the-paws/
LOCATION:spcaLA Marketplace\, 7700 E. Spring St.\, Long Beach\, CA\, 90815\, United States
ATTACH;FMTTYPE=image/jpeg:https://eadn-wc04-6027823.nxedge.io/wp-content/uploads/2020/12/DeckThePaws_Web-Event.600.jpg
GEO:33.8089723;-118.0824425
X-APPLE-STRUCTURED-LOCATION;VALUE=URI;X-ADDRESS=spcaLA Marketplace 7700 E. Spring St. Long Beach CA 90815 United States;X-APPLE-RADIUS=500;X-TITLE=7700 E. Spring St.:geo:-118.0824425,33.8089723
END:VEVENT
BEGIN:VEVENT
DTSTART;TZID=America/Los_Angeles:20201128T090000
DTEND;TZID=America/Los_Angeles:20201129T150000
DTSTAMP:20260425T163321
CREATED:20201124T200454Z
LAST-MODIFIED:20201125T010347Z
UID:89244-1606554000-1606662000@spcala.com
SUMMARY:Small Business Saturday
DESCRIPTION:Are you ready for SMALL BUSINESS SATURDAY? First 10 customers at the spcaLA Marketplace on on Saturday (and Sunday!) receive a FREE Kong toy! Plus\, deals on food\, treats\, toys & more. Recieve a free gift with any purchase of $25 or more. Prefer to shop online? Click here to shop.  \nShop the marketplace Wednesday – Sunday\, 9am-3pm\nReduced capacity\, masks required. Thank you for your support!
URL:https://spcala.com/event/small-business-saturday-5/
LOCATION:spcaLA Marketplace\, 7700 E. Spring St.\, Long Beach\, CA\, 90815\, United States
ATTACH;FMTTYPE=image/jpeg:https://eadn-wc04-6027823.nxedge.io/wp-content/uploads/2013/01/SmallBusinessSaturday_2017_WebNews_600x300.jpg
GEO:33.8089723;-118.0824425
X-APPLE-STRUCTURED-LOCATION;VALUE=URI;X-ADDRESS=spcaLA Marketplace 7700 E. Spring St. Long Beach CA 90815 United States;X-APPLE-RADIUS=500;X-TITLE=7700 E. Spring St.:geo:-118.0824425,33.8089723
END:VEVENT
BEGIN:VEVENT
DTSTART;VALUE=DATE:20191130
DTEND;VALUE=DATE:20191201
DTSTAMP:20260425T163321
CREATED:20191120T173023Z
LAST-MODIFIED:20191126T161752Z
UID:42074-1575072000-1575158399@spcala.com
SUMMARY:Small Business Saturday
DESCRIPTION:Shop at your local spcaLA Marketplace on Small Business Saturday! All proceeds support spcaLA shelter pets! \nDEALS: \n– FREE gift with a purchase of $25 or more \n– First 10 customers on Saturday\, November 30th\, GET A FREE KONG® dog toy (while supplies last!)
URL:https://spcala.com/event/small-business-saturday-4/
LOCATION:spcaLA Marketplace\, 7700 E. Spring St.\, Long Beach\, CA\, 90815\, United States
ATTACH;FMTTYPE=image/png:https://eadn-wc04-6027823.nxedge.io/wp-content/uploads/2017/11/Small-Business-Saturday_2019_Event-Page-Thumbnail_600x300.png
GEO:33.8089723;-118.0824425
X-APPLE-STRUCTURED-LOCATION;VALUE=URI;X-ADDRESS=spcaLA Marketplace 7700 E. Spring St. Long Beach CA 90815 United States;X-APPLE-RADIUS=500;X-TITLE=7700 E. Spring St.:geo:-118.0824425,33.8089723
END:VEVENT
BEGIN:VEVENT
DTSTART;TZID=America/Los_Angeles:20181124T090000
DTEND;TZID=America/Los_Angeles:20181124T163000
DTSTAMP:20260425T163321
CREATED:20181116T212921Z
LAST-MODIFIED:20181116T212921Z
UID:48433-1543050000-1543077000@spcala.com
SUMMARY:Small Business Saturday
DESCRIPTION:First 10 customers on Saturday\, November 24th\, GET A FREE KONG® dog toy (while supplies last!)\nIncludes a Free Recipe Card. \nDeals for you support spcaLA shelter pets! \nSaturday\, November 24th & Sunday\, November 25th:\nEntire Store is 20% OFF includes Collars\, Leads\, Toys\, Treats\, Shampoos\, Cat Litter & Scratchers. . .\n(EXCLUDES dry & wet food\, flea control and spcaLA Merchandise) \nBTGO — Buy 2\, Get 1 Free\n(Through November 30th – while supplies last)\n-Bags on Board Waste Bags (140 count)\n-Vetericyn Foam Shampoo\n-Crazy Dog Mini Treats (3.5 oz size)\n-Merrick Hero Banquet Power Bites (6 oz size)\n-Recovery E-collars (all sizes)
URL:https://spcala.com/event/small-business-saturday-3/
LOCATION:spcaLA Marketplace\, 7700 E. Spring St.\, Long Beach\, CA\, 90815\, United States
ATTACH;FMTTYPE=image/jpeg:https://eadn-wc04-6027823.nxedge.io/wp-content/uploads/2013/01/SmallBusinessSaturday_2017_WebNews_600x300.jpg
ORGANIZER;CN="spcaLA":MAILTO:info@spcala.com
GEO:33.8089723;-118.0824425
X-APPLE-STRUCTURED-LOCATION;VALUE=URI;X-ADDRESS=spcaLA Marketplace 7700 E. Spring St. Long Beach CA 90815 United States;X-APPLE-RADIUS=500;X-TITLE=7700 E. Spring St.:geo:-118.0824425,33.8089723
END:VEVENT
BEGIN:VEVENT
DTSTART;TZID=America/Los_Angeles:20171125T090000
DTEND;TZID=America/Los_Angeles:20171125T163000
DTSTAMP:20260425T163321
CREATED:20171122T191835Z
LAST-MODIFIED:20171122T191835Z
UID:42075-1511600400-1511627400@spcala.com
SUMMARY:Small Business Saturday
DESCRIPTION:Shop at the spcaLA Marketplace & save! \nFirst 25 customers receive a FREE Kong or Cat Toy on 11/25/17:  (limited to stock on hand) \nFREE gift with purchase of $25 or more (while supplies last):\nYou’ll get a tote bag stuffed with food bowls\, a deshedding brush\, a food scoop & claw clipper (Over $50 value) \nSave BIG on your favorites:\nStella&Chewy’s 3.5oz Meal Mixers $9.99 & Second one is 30% OFF\nStella&Chewy’s Raw Blend Dog Dry 22lb– $5.00 OFF (PLUS $5.00 Mail In Rebate) \nAvoderm Chicken Adult\, Senior Lamb Small Breed 4lb bags —NOW $5.00 OFF  \nBlue Buffalo Big Bags 24lb and larger—$10.00 OFF\nBlue Buffalo Treats-$1.00 OFF\nBlue Buffalo Small Bags\, Dog and Cat–$3.00 OFF \nAll Canidae Dog Treats–$1.00 OFF \nPLUS\nBlue Buffalo will in-store from 11am to 4pm for dog & cat food demo!
URL:https://spcala.com/event/small-business-saturday-2/
LOCATION:spcaLA Marketplace\, 7700 E. Spring St.\, Long Beach\, CA\, 90815\, United States
ATTACH;FMTTYPE=image/jpeg:https://eadn-wc04-6027823.nxedge.io/wp-content/uploads/2013/01/SmallBusinessSaturday_2017_WebNews_600x300.jpg
ORGANIZER;CN="spcaLA":MAILTO:info@spcala.com
GEO:33.8089723;-118.0824425
X-APPLE-STRUCTURED-LOCATION;VALUE=URI;X-ADDRESS=spcaLA Marketplace 7700 E. Spring St. Long Beach CA 90815 United States;X-APPLE-RADIUS=500;X-TITLE=7700 E. Spring St.:geo:-118.0824425,33.8089723
END:VEVENT
BEGIN:VEVENT
DTSTART;TZID=America/Los_Angeles:20161203T090000
DTEND;TZID=America/Los_Angeles:20161203T130000
DTSTAMP:20260425T163321
CREATED:20161117T195201Z
LAST-MODIFIED:20161129T232713Z
UID:36582-1480755600-1480770000@spcala.com
SUMMARY:spcaLA Rummage Sale
DESCRIPTION:Come hunt for treasures! We’re hosting a Rummage Sale at the spcaLA Marketplace with Morning Blossom Lenox® China\, serving dishes\, flatware\, stemware\, Christmastime glassware\, USC memorabilia\, art\, decor\, collectibles\, jewelry\, t-shirts\, household items\, and more. All proceeds benefit the programs and services of spcaLA. \n[ngg_images source=”galleries” container_ids=”27″ display_type=”photocrati-nextgen_basic_thumbnails” override_thumbnail_settings=”0″ thumbnail_width=”120″ thumbnail_height=”90″ thumbnail_crop=”1″ images_per_page=”20″ number_of_columns=”0″ ajax_pagination=”0″ show_all_in_lightbox=”0″ use_imagebrowser_effect=”0″ show_slideshow_link=”1″ slideshow_link_text=”[Show slideshow]” order_by=”sortorder” order_direction=”ASC” returns=”included” maximum_entity_count=”500″] \nNo early birds.\nCash\nCredit for purchases more than $5 \nWhile we appreciate your generosity\, we are not able to accommodate rummage items for donation. Thank you!
URL:https://spcala.com/event/spcala-rummage-sale/
LOCATION:spcaLA Marketplace\, 7700 E. Spring St.\, Long Beach\, CA\, 90815\, United States
GEO:33.8089723;-118.0824425
X-APPLE-STRUCTURED-LOCATION;VALUE=URI;X-ADDRESS=spcaLA Marketplace 7700 E. Spring St. Long Beach CA 90815 United States;X-APPLE-RADIUS=500;X-TITLE=7700 E. Spring St.:geo:-118.0824425,33.8089723
END:VEVENT
BEGIN:VEVENT
DTSTART;TZID=America/Los_Angeles:20161126T090000
DTEND;TZID=America/Los_Angeles:20161126T163000
DTSTAMP:20260425T163321
CREATED:20161123T201558Z
LAST-MODIFIED:20161123T213842Z
UID:36644-1480150800-1480177800@spcala.com
SUMMARY:Small Business Saturday
DESCRIPTION:TODAY is Small Business Saturday – a day when our holiday shopping can help to support our local communities. Make yours a double good deed – shop at the spcaLA Marketplace in Long Beach and your purchases will help shelter pets! It’s true\, 100% of profits at the Marketplace go right back into helping abandoned and abused pets. And\, as our special gift to you\, none of our Small Business Saturday or holiday deals require you to bring in or download a coupon. We open at 9:00am – see you soon!  \nFREE gift with purchase of $25 or more!\nFREE Vittle Vault for the first 4 people who buy a 30-lb bag of food!
URL:https://spcala.com/event/small-business-saturday/
LOCATION:spcaLA Marketplace\, 7700 E. Spring St.\, Long Beach\, CA\, 90815\, United States
ATTACH;FMTTYPE=image/jpeg:https://eadn-wc04-6027823.nxedge.io/wp-content/uploads/2016/11/SmallBusinessSaturday_2016_WebEventThumbnail_500x280.jpg
ORGANIZER;CN="spcaLA":MAILTO:info@spcala.com
GEO:33.8089723;-118.0824425
X-APPLE-STRUCTURED-LOCATION;VALUE=URI;X-ADDRESS=spcaLA Marketplace 7700 E. Spring St. Long Beach CA 90815 United States;X-APPLE-RADIUS=500;X-TITLE=7700 E. Spring St.:geo:-118.0824425,33.8089723
END:VEVENT
END:VCALENDAR