BEGIN:VCALENDAR
VERSION:2.0
PRODID:-//spcaLA - ECPv6.15.18//NONSGML v1.0//EN
CALSCALE:GREGORIAN
METHOD:PUBLISH
X-ORIGINAL-URL:https://spcala.com
X-WR-CALDESC:Events for spcaLA
REFRESH-INTERVAL;VALUE=DURATION:PT1H
X-Robots-Tag:noindex
X-PUBLISHED-TTL:PT1H
BEGIN:VTIMEZONE
TZID:America/Los_Angeles
BEGIN:DAYLIGHT
TZOFFSETFROM:-0800
TZOFFSETTO:-0700
TZNAME:PDT
DTSTART:20250309T100000
END:DAYLIGHT
BEGIN:STANDARD
TZOFFSETFROM:-0700
TZOFFSETTO:-0800
TZNAME:PST
DTSTART:20251102T090000
END:STANDARD
BEGIN:DAYLIGHT
TZOFFSETFROM:-0800
TZOFFSETTO:-0700
TZNAME:PDT
DTSTART:20260308T100000
END:DAYLIGHT
BEGIN:STANDARD
TZOFFSETFROM:-0700
TZOFFSETTO:-0800
TZNAME:PST
DTSTART:20261101T090000
END:STANDARD
BEGIN:DAYLIGHT
TZOFFSETFROM:-0800
TZOFFSETTO:-0700
TZNAME:PDT
DTSTART:20270314T100000
END:DAYLIGHT
BEGIN:STANDARD
TZOFFSETFROM:-0700
TZOFFSETTO:-0800
TZNAME:PST
DTSTART:20271107T090000
END:STANDARD
END:VTIMEZONE
BEGIN:VEVENT
DTSTART;TZID=America/Los_Angeles:20260620T100000
DTEND;TZID=America/Los_Angeles:20260620T113000
DTSTAMP:20260425T032601
CREATED:20260421T165711Z
LAST-MODIFIED:20260421T165711Z
UID:161140-1781949600-1781955000@spcala.com
SUMMARY:Foster Training Class - June 20th
DESCRIPTION:[vc_row][vc_column][vc_column_text css=””]Are you interested in becoming a foster volunteer? We are hosting a training class on June 20th from 10am to 11:30am at spcaLA P.D. Pitchford Companion Animal Village & Education Center. spcaLA covers all supplies and medical care and foster volunteers provide a home and TLC. Short and longer terms available. Application must be accepted prior to attending. Click here for more information and to submit an application.[/vc_column_text][/vc_column][/vc_row]
URL:https://spcala.com/event/foster-training-class-2026-2-2-2-2-2-2-2-2/
LOCATION:spcaLA PD Pitchford Companion Animal Village & Education Center\, 7700 E Spring St\, Long Beach\, CA\, 90815\, United States
CATEGORIES:Foster Class
ATTACH;FMTTYPE=image/jpeg:https://eadn-wc04-6027823.nxedge.io/wp-content/uploads/2026/04/June-20.jpg
GEO:33.8094986;-118.0826868
X-APPLE-STRUCTURED-LOCATION;VALUE=URI;X-ADDRESS=spcaLA PD Pitchford Companion Animal Village & Education Center 7700 E Spring St Long Beach CA 90815 United States;X-APPLE-RADIUS=500;X-TITLE=7700 E Spring St:geo:-118.0826868,33.8094986
END:VEVENT
BEGIN:VEVENT
DTSTART;TZID=America/Los_Angeles:20260627T100000
DTEND;TZID=America/Los_Angeles:20260627T150000
DTSTAMP:20260425T032601
CREATED:20260226T191633Z
LAST-MODIFIED:20260417T215754Z
UID:160545-1782554400-1782572400@spcala.com
SUMMARY:20th Annual Pet Adoption Day presented by 95.5 KLOS & VCA Animal Hospitals
DESCRIPTION:[vc_row][vc_column][vc_column_text css=””]SAVE THE DATE: JUNE 27\, 2026 \nSPONSORSHIP APPLICATION \nOver the past 20 years\, thousands of homeless\, abused\, and abandoned animals found their forever families at Pet Adoption Day. People from across Southern California converge at the spcaLA PD Pitchford Companion Animal Village & Education Center for a fun-filled day of pet adoptions\, interactive vendor booths\, giveaways and more. Stay tune for more information about the 20th Annual Pet Adoption Day\, presented by 95.5 KLOS & VCA Animal Hospitals! \n \nHeidi & Frank with adopter\, Pet Adoption Day 2013 \nWe offer sponsorship packages at varying levels\, and corporate group volunteer activities are available. Complete the sponsorship form or email sponsor@spcaLA.com to learn more.[/vc_column_text][/vc_column][/vc_row]
URL:https://spcala.com/event/klos/
LOCATION:spcaLA PD Pitchford Companion Animal Village & Education Center\, 7700 E Spring St\, Long Beach\, CA\, 90815\, United States
ATTACH;FMTTYPE=image/webp:https://eadn-wc04-6027823.nxedge.io/wp-content/uploads/2026/02/PAD-2026-WebEvent.webp
GEO:33.8094986;-118.0826868
X-APPLE-STRUCTURED-LOCATION;VALUE=URI;X-ADDRESS=spcaLA PD Pitchford Companion Animal Village & Education Center 7700 E Spring St Long Beach CA 90815 United States;X-APPLE-RADIUS=500;X-TITLE=7700 E Spring St:geo:-118.0826868,33.8094986
END:VEVENT
BEGIN:VEVENT
DTSTART;TZID=America/Los_Angeles:20260822T100000
DTEND;TZID=America/Los_Angeles:20260822T113000
DTSTAMP:20260425T032601
CREATED:20260421T172949Z
LAST-MODIFIED:20260421T172949Z
UID:161155-1787392800-1787398200@spcala.com
SUMMARY:Foster Training Class - August 22nd
DESCRIPTION:[vc_row][vc_column][vc_column_text css=””]Are you interested in becoming a foster volunteer? We are hosting a training class on August 22nd from 10am to 11:30am at spcaLA P.D. Pitchford Companion Animal Village & Education Center. spcaLA covers all supplies and medical care and foster volunteers provide a home and TLC. Short and longer terms available. Application must be accepted prior to attending. Click here for more information and to submit an application.[/vc_column_text][/vc_column][/vc_row]
URL:https://spcala.com/event/foster-training-class-2026-2-2-2-2-2-2-2-2-2-2-2-2/
LOCATION:spcaLA PD Pitchford Companion Animal Village & Education Center\, 7700 E Spring St\, Long Beach\, CA\, 90815\, United States
CATEGORIES:Foster Class
ATTACH;FMTTYPE=image/jpeg:https://eadn-wc04-6027823.nxedge.io/wp-content/uploads/2026/04/August-22.jpg
GEO:33.8094986;-118.0826868
X-APPLE-STRUCTURED-LOCATION;VALUE=URI;X-ADDRESS=spcaLA PD Pitchford Companion Animal Village & Education Center 7700 E Spring St Long Beach CA 90815 United States;X-APPLE-RADIUS=500;X-TITLE=7700 E Spring St:geo:-118.0826868,33.8094986
END:VEVENT
END:VCALENDAR