BEGIN:VCALENDAR
VERSION:2.0
PRODID:-//spcaLA - ECPv6.15.18//NONSGML v1.0//EN
CALSCALE:GREGORIAN
METHOD:PUBLISH
X-WR-CALNAME:spcaLA
X-ORIGINAL-URL:https://spcala.com
X-WR-CALDESC:Events for spcaLA
REFRESH-INTERVAL;VALUE=DURATION:PT1H
X-Robots-Tag:noindex
X-PUBLISHED-TTL:PT1H
BEGIN:VTIMEZONE
TZID:America/Los_Angeles
BEGIN:DAYLIGHT
TZOFFSETFROM:-0800
TZOFFSETTO:-0700
TZNAME:PDT
DTSTART:20250309T100000
END:DAYLIGHT
BEGIN:STANDARD
TZOFFSETFROM:-0700
TZOFFSETTO:-0800
TZNAME:PST
DTSTART:20251102T090000
END:STANDARD
BEGIN:DAYLIGHT
TZOFFSETFROM:-0800
TZOFFSETTO:-0700
TZNAME:PDT
DTSTART:20260308T100000
END:DAYLIGHT
BEGIN:STANDARD
TZOFFSETFROM:-0700
TZOFFSETTO:-0800
TZNAME:PST
DTSTART:20261101T090000
END:STANDARD
BEGIN:DAYLIGHT
TZOFFSETFROM:-0800
TZOFFSETTO:-0700
TZNAME:PDT
DTSTART:20270314T100000
END:DAYLIGHT
BEGIN:STANDARD
TZOFFSETFROM:-0700
TZOFFSETTO:-0800
TZNAME:PST
DTSTART:20271107T090000
END:STANDARD
END:VTIMEZONE
BEGIN:VEVENT
DTSTART;TZID=America/Los_Angeles:20260502T100000
DTEND;TZID=America/Los_Angeles:20260502T113000
DTSTAMP:20260425T094740
CREATED:20260421T164858Z
LAST-MODIFIED:20260421T164858Z
UID:161127-1777716000-1777721400@spcala.com
SUMMARY:Foster Training Class - May 2nd
DESCRIPTION:[vc_row][vc_column][vc_column_text css=””]Are you interested in becoming a foster volunteer? We are hosting a training class on May 2nd from 10am to 11:30am at spcaLA South Bay Pet Adoption Center. spcaLA covers all supplies and medical care and foster volunteers provide a home and TLC. Short and longer terms available. Application must be accepted prior to attending. Click here for more information and to submit an application.[/vc_column_text][/vc_column][/vc_row]
URL:https://spcala.com/event/foster-training-class-2026-2-2-2-2-2/
LOCATION:spcaLA South Bay Pet Adoption Center\, 12910 Yukon Ave.\, Hawthorne\, CA\, 90250\, United States
CATEGORIES:Foster Class
ATTACH;FMTTYPE=image/jpeg:https://eadn-wc04-6027823.nxedge.io/wp-content/uploads/2026/04/may-2.jpg
GEO:33.9150726;-118.3348676
X-APPLE-STRUCTURED-LOCATION;VALUE=URI;X-ADDRESS=spcaLA South Bay Pet Adoption Center 12910 Yukon Ave. Hawthorne CA 90250 United States;X-APPLE-RADIUS=500;X-TITLE=12910 Yukon Ave.:geo:-118.3348676,33.9150726
END:VEVENT
BEGIN:VEVENT
DTSTART;TZID=America/Los_Angeles:20260711T100000
DTEND;TZID=America/Los_Angeles:20260711T113000
DTSTAMP:20260425T094740
CREATED:20260421T165900Z
LAST-MODIFIED:20260421T165900Z
UID:161144-1783764000-1783769400@spcala.com
SUMMARY:Foster Training Class - July 11th
DESCRIPTION:[vc_row][vc_column][vc_column_text css=””]Are you interested in becoming a foster volunteer? We are hosting a training class on July 11th from 10am to 11:30am at spcaLA South Bay Pet Adoption Center. spcaLA covers all supplies and medical care and foster volunteers provide a home and TLC. Short and longer terms available. Application must be accepted prior to attending. Click here for more information and to submit an application.[/vc_column_text][/vc_column][/vc_row]
URL:https://spcala.com/event/foster-training-class-2026-2-2-2-2-2-2-2-2-2/
LOCATION:spcaLA South Bay Pet Adoption Center\, 12910 Yukon Ave.\, Hawthorne\, CA\, 90250\, United States
CATEGORIES:Foster Class
ATTACH;FMTTYPE=image/jpeg:https://eadn-wc04-6027823.nxedge.io/wp-content/uploads/2026/04/July-11th.jpg
GEO:33.9150726;-118.3348676
X-APPLE-STRUCTURED-LOCATION;VALUE=URI;X-ADDRESS=spcaLA South Bay Pet Adoption Center 12910 Yukon Ave. Hawthorne CA 90250 United States;X-APPLE-RADIUS=500;X-TITLE=12910 Yukon Ave.:geo:-118.3348676,33.9150726
END:VEVENT
END:VCALENDAR