BEGIN:VCALENDAR
VERSION:2.0
PRODID:-//spcaLA - ECPv6.15.18//NONSGML v1.0//EN
CALSCALE:GREGORIAN
METHOD:PUBLISH
X-ORIGINAL-URL:https://spcala.com
X-WR-CALDESC:Events for spcaLA
REFRESH-INTERVAL;VALUE=DURATION:PT1H
X-Robots-Tag:noindex
X-PUBLISHED-TTL:PT1H
BEGIN:VTIMEZONE
TZID:America/Los_Angeles
BEGIN:DAYLIGHT
TZOFFSETFROM:-0800
TZOFFSETTO:-0700
TZNAME:PDT
DTSTART:20210314T100000
END:DAYLIGHT
BEGIN:STANDARD
TZOFFSETFROM:-0700
TZOFFSETTO:-0800
TZNAME:PST
DTSTART:20211107T090000
END:STANDARD
BEGIN:DAYLIGHT
TZOFFSETFROM:-0800
TZOFFSETTO:-0700
TZNAME:PDT
DTSTART:20220313T100000
END:DAYLIGHT
BEGIN:STANDARD
TZOFFSETFROM:-0700
TZOFFSETTO:-0800
TZNAME:PST
DTSTART:20221106T090000
END:STANDARD
BEGIN:DAYLIGHT
TZOFFSETFROM:-0800
TZOFFSETTO:-0700
TZNAME:PDT
DTSTART:20230312T100000
END:DAYLIGHT
BEGIN:STANDARD
TZOFFSETFROM:-0700
TZOFFSETTO:-0800
TZNAME:PST
DTSTART:20231105T090000
END:STANDARD
END:VTIMEZONE
BEGIN:VEVENT
DTSTART;TZID=America/Los_Angeles:20220318T110000
DTEND;TZID=America/Los_Angeles:20220318T210000
DTSTAMP:20260425T173952
CREATED:20220303T231729Z
LAST-MODIFIED:20220309T001024Z
UID:115305-1647601200-1647637200@spcala.com
SUMMARY:Dine & Donate: Srey Vegan
DESCRIPTION:Support local business\, Srey Vegan and help animals! Friday\, March 18th from 11am – 9pm\, mention spcaLA and they’ll donate 15% of your bill! Srey Vegan is Cambodian inspired cuisine. Check out their menu! \nSrey Vegan\n4641 W. Washington Blvd.\nCulver City\, 90016
URL:https://spcala.com/event/dine-donate-srey-vegan/
LOCATION:Srey Vegan\, 4641 W. Washington Blvd.\, Culver City\, CA\, 90016
CATEGORIES:Dine & Donate
ATTACH;FMTTYPE=image/jpeg:https://eadn-wc04-6027823.nxedge.io/wp-content/uploads/2022/03/srey-vegan-WebEvent-600x300-1.jpg
END:VEVENT
END:VCALENDAR