BEGIN:VCALENDAR
VERSION:2.0
PRODID:-//spcaLA - ECPv6.15.18//NONSGML v1.0//EN
CALSCALE:GREGORIAN
METHOD:PUBLISH
X-WR-CALNAME:spcaLA
X-ORIGINAL-URL:https://spcala.com
X-WR-CALDESC:Events for spcaLA
REFRESH-INTERVAL;VALUE=DURATION:PT1H
X-Robots-Tag:noindex
X-PUBLISHED-TTL:PT1H
BEGIN:VTIMEZONE
TZID:America/Los_Angeles
BEGIN:DAYLIGHT
TZOFFSETFROM:-0800
TZOFFSETTO:-0700
TZNAME:PDT
DTSTART:20210314T100000
END:DAYLIGHT
BEGIN:STANDARD
TZOFFSETFROM:-0700
TZOFFSETTO:-0800
TZNAME:PST
DTSTART:20211107T090000
END:STANDARD
BEGIN:DAYLIGHT
TZOFFSETFROM:-0800
TZOFFSETTO:-0700
TZNAME:PDT
DTSTART:20220313T100000
END:DAYLIGHT
BEGIN:STANDARD
TZOFFSETFROM:-0700
TZOFFSETTO:-0800
TZNAME:PST
DTSTART:20221106T090000
END:STANDARD
BEGIN:DAYLIGHT
TZOFFSETFROM:-0800
TZOFFSETTO:-0700
TZNAME:PDT
DTSTART:20230312T100000
END:DAYLIGHT
BEGIN:STANDARD
TZOFFSETFROM:-0700
TZOFFSETTO:-0800
TZNAME:PST
DTSTART:20231105T090000
END:STANDARD
END:VTIMEZONE
BEGIN:VEVENT
DTSTART;VALUE=DATE:20220609
DTEND;VALUE=DATE:20220611
DTSTAMP:20260425T152024
CREATED:20200106T202531Z
LAST-MODIFIED:20220608T202127Z
UID:68369-1654732800-1654905599@spcala.com
SUMMARY:Kendra Gives Back to spcaLA
DESCRIPTION:Kendra Scott gives back to spcaLA! Shop online June 9 & 10 or June 9 in-person. \nMention spcaLA at checkout or enter code GIVEBACK-CBNBU online and spcaLA receives 20% of the purchase total! \nIn-Person:\nKendra Scott\nThe Point\n830 S CA-1 #114\nEl Segundo\, CA 90245
URL:https://spcala.com/event/kendra-gives-back-to-spcala/
LOCATION:The Point Shopping Center\, 850 S\, CA-1\, El Segundo\, CA\, 90245\, United States
ATTACH;FMTTYPE=image/png:https://eadn-wc04-6027823.nxedge.io/wp-content/uploads/2020/01/Kendra-Scott-event_Event-Page-Thumbnail_600x300.png
END:VEVENT
END:VCALENDAR