BEGIN:VCALENDAR
VERSION:2.0
PRODID:-//spcaLA - ECPv6.15.18//NONSGML v1.0//EN
CALSCALE:GREGORIAN
METHOD:PUBLISH
X-ORIGINAL-URL:https://spcala.com
X-WR-CALDESC:Events for spcaLA
REFRESH-INTERVAL;VALUE=DURATION:PT1H
X-Robots-Tag:noindex
X-PUBLISHED-TTL:PT1H
BEGIN:VTIMEZONE
TZID:America/Los_Angeles
BEGIN:DAYLIGHT
TZOFFSETFROM:-0800
TZOFFSETTO:-0700
TZNAME:PDT
DTSTART:20230312T100000
END:DAYLIGHT
BEGIN:STANDARD
TZOFFSETFROM:-0700
TZOFFSETTO:-0800
TZNAME:PST
DTSTART:20231105T090000
END:STANDARD
BEGIN:DAYLIGHT
TZOFFSETFROM:-0800
TZOFFSETTO:-0700
TZNAME:PDT
DTSTART:20240310T100000
END:DAYLIGHT
BEGIN:STANDARD
TZOFFSETFROM:-0700
TZOFFSETTO:-0800
TZNAME:PST
DTSTART:20241103T090000
END:STANDARD
BEGIN:DAYLIGHT
TZOFFSETFROM:-0800
TZOFFSETTO:-0700
TZNAME:PDT
DTSTART:20250309T100000
END:DAYLIGHT
BEGIN:STANDARD
TZOFFSETFROM:-0700
TZOFFSETTO:-0800
TZNAME:PST
DTSTART:20251102T090000
END:STANDARD
END:VTIMEZONE
BEGIN:VEVENT
DTSTART;TZID=America/Los_Angeles:20240519T120000
DTEND;TZID=America/Los_Angeles:20240519T130000
DTSTAMP:20260425T141254
CREATED:20240423T213828Z
LAST-MODIFIED:20240430T214646Z
UID:152196-1716120000-1716123600@spcala.com
SUMMARY:Kitten Yoga & Donation Drive
DESCRIPTION:Join us at West Coast Sweat in Long Beach on Sunday\, May 19th for a purrrfectly peaceful fundraiser yoga class. \nProceeds benefit spcaLA shelter pets\, including the kittens you’ll meet in the class! \nDonations for spcaLA’s Foster Kitten program happily accepted: non-clumping litter\, kitten food (wet/dry)\, cardboard cat scratchers\, and small toys needed. \nSign-up for Kitten Yoga using this link! No prior yoga experience or membership is required to attend class.
URL:https://spcala.com/event/kitten-yoga-donation-drive/
LOCATION:West Coast Sweat\, 6324 E. Pacific Coast Hwy E\, Long Beach\, CA\, 90803
END:VEVENT
END:VCALENDAR