BEGIN:VCALENDAR
VERSION:2.0
PRODID:-//spcaLA - ECPv6.15.18//NONSGML v1.0//EN
CALSCALE:GREGORIAN
METHOD:PUBLISH
X-ORIGINAL-URL:https://spcala.com
X-WR-CALDESC:Events for spcaLA
REFRESH-INTERVAL;VALUE=DURATION:PT1H
X-Robots-Tag:noindex
X-PUBLISHED-TTL:PT1H
BEGIN:VTIMEZONE
TZID:America/Los_Angeles
BEGIN:DAYLIGHT
TZOFFSETFROM:-0800
TZOFFSETTO:-0700
TZNAME:PDT
DTSTART:20250309T100000
END:DAYLIGHT
BEGIN:STANDARD
TZOFFSETFROM:-0700
TZOFFSETTO:-0800
TZNAME:PST
DTSTART:20251102T090000
END:STANDARD
BEGIN:DAYLIGHT
TZOFFSETFROM:-0800
TZOFFSETTO:-0700
TZNAME:PDT
DTSTART:20260308T100000
END:DAYLIGHT
BEGIN:STANDARD
TZOFFSETFROM:-0700
TZOFFSETTO:-0800
TZNAME:PST
DTSTART:20261101T090000
END:STANDARD
BEGIN:DAYLIGHT
TZOFFSETFROM:-0800
TZOFFSETTO:-0700
TZNAME:PDT
DTSTART:20270314T100000
END:DAYLIGHT
BEGIN:STANDARD
TZOFFSETFROM:-0700
TZOFFSETTO:-0800
TZNAME:PST
DTSTART:20271107T090000
END:STANDARD
END:VTIMEZONE
BEGIN:VEVENT
DTSTART;TZID=America/Los_Angeles:20260321T100000
DTEND;TZID=America/Los_Angeles:20260321T113000
DTSTAMP:20260425T160908
CREATED:20260217T222836Z
LAST-MODIFIED:20260309T185208Z
UID:160492-1774087200-1774092600@spcala.com
SUMMARY:Foster Training Class - March 21st
DESCRIPTION:[vc_row][vc_column][vc_column_text css=””]Are you interested in becoming a foster volunteer? We are hosting a training class on March 21st from 10am to 11:30am via Zoom. spcaLA covers all supplies and medical care and foster volunteers provide a home and TLC. Short and longer terms available. Application must be accepted prior to attending. Click here for more information and to submit an application.[/vc_column_text][/vc_column][/vc_row]
URL:https://spcala.com/event/foster-training-class-2026-2-2-2-2/
LOCATION:zoom
CATEGORIES:Foster Class
ATTACH;FMTTYPE=image/png:https://eadn-wc04-6027823.nxedge.io/wp-content/uploads/2026/02/2.png
END:VEVENT
BEGIN:VEVENT
DTSTART;TZID=America/Los_Angeles:20260124T100000
DTEND;TZID=America/Los_Angeles:20260124T113000
DTSTAMP:20260425T160908
CREATED:20260105T184411Z
LAST-MODIFIED:20260113T231851Z
UID:160165-1769248800-1769254200@spcala.com
SUMMARY:Foster Training Class - January 24th
DESCRIPTION:[vc_row][vc_column][vc_column_text css=””]Are you interested in becoming a foster volunteer? spcaLA is hosting a training class on January 24th from 10am to 11:30am on Zoom. spcaLA covers all supplies and medical care and foster volunteers provide a home and TLC. Short and longer terms available. Application must be accepted prior to attending Foster Class Training. Click here for more information and to submit an application.[/vc_column_text][/vc_column][/vc_row]
URL:https://spcala.com/event/foster-training-class-2026-2/
LOCATION:zoom
CATEGORIES:Foster Class
END:VEVENT
END:VCALENDAR