BEGIN:VCALENDAR
VERSION:2.0
PRODID:-//spcaLA - ECPv6.15.18//NONSGML v1.0//EN
CALSCALE:GREGORIAN
METHOD:PUBLISH
X-WR-CALNAME:spcaLA
X-ORIGINAL-URL:https://spcala.com
X-WR-CALDESC:Events for spcaLA
REFRESH-INTERVAL;VALUE=DURATION:PT1H
X-Robots-Tag:noindex
X-PUBLISHED-TTL:PT1H
BEGIN:VTIMEZONE
TZID:America/Los_Angeles
BEGIN:DAYLIGHT
TZOFFSETFROM:-0800
TZOFFSETTO:-0700
TZNAME:PDT
DTSTART:20250309T100000
END:DAYLIGHT
BEGIN:STANDARD
TZOFFSETFROM:-0700
TZOFFSETTO:-0800
TZNAME:PST
DTSTART:20251102T090000
END:STANDARD
BEGIN:DAYLIGHT
TZOFFSETFROM:-0800
TZOFFSETTO:-0700
TZNAME:PDT
DTSTART:20260308T100000
END:DAYLIGHT
BEGIN:STANDARD
TZOFFSETFROM:-0700
TZOFFSETTO:-0800
TZNAME:PST
DTSTART:20261101T090000
END:STANDARD
BEGIN:DAYLIGHT
TZOFFSETFROM:-0800
TZOFFSETTO:-0700
TZNAME:PDT
DTSTART:20270314T100000
END:DAYLIGHT
BEGIN:STANDARD
TZOFFSETFROM:-0700
TZOFFSETTO:-0800
TZNAME:PST
DTSTART:20271107T090000
END:STANDARD
END:VTIMEZONE
BEGIN:VEVENT
DTSTART;TZID=America/Los_Angeles:20260516T100000
DTEND;TZID=America/Los_Angeles:20260516T113000
DTSTAMP:20260425T144122
CREATED:20260421T165124Z
LAST-MODIFIED:20260421T165447Z
UID:161131-1778925600-1778931000@spcala.com
SUMMARY:Foster Training Class - May 16th
DESCRIPTION:[vc_row][vc_column][vc_column_text css=””]Are you interested in becoming a foster volunteer? We are hosting a training class on May 16th from 10am to 11:30am via Zoom. spcaLA covers all supplies and medical care and foster volunteers provide a home and TLC. Short and longer terms available. Application must be accepted prior to attending. Click here for more information and to submit an application.[/vc_column_text][/vc_column][/vc_row]
URL:https://spcala.com/event/foster-training-class-2026-2-2-2-2-2-2/
LOCATION:zoom
CATEGORIES:Foster Class
ATTACH;FMTTYPE=image/jpeg:https://eadn-wc04-6027823.nxedge.io/wp-content/uploads/2026/04/may-16.jpg
END:VEVENT
BEGIN:VEVENT
DTSTART;TZID=America/Los_Angeles:20260613T100000
DTEND;TZID=America/Los_Angeles:20260613T113000
DTSTAMP:20260425T144122
CREATED:20260421T165404Z
LAST-MODIFIED:20260421T165404Z
UID:161135-1781344800-1781350200@spcala.com
SUMMARY:Foster Training Class - June 13th
DESCRIPTION:[vc_row][vc_column][vc_column_text css=””]Are you interested in becoming a foster volunteer? We are hosting a training class on June 13th from 10am to 11:30am via Zoom. spcaLA covers all supplies and medical care and foster volunteers provide a home and TLC. Short and longer terms available. Application must be accepted prior to attending. Click here for more information and to submit an application.[/vc_column_text][/vc_column][/vc_row]
URL:https://spcala.com/event/foster-training-class-2026-2-2-2-2-2-2-2/
LOCATION:zoom
CATEGORIES:Foster Class
ATTACH;FMTTYPE=image/jpeg:https://eadn-wc04-6027823.nxedge.io/wp-content/uploads/2026/04/June-13.jpg
END:VEVENT
BEGIN:VEVENT
DTSTART;TZID=America/Los_Angeles:20260725T100000
DTEND;TZID=America/Los_Angeles:20260725T113000
DTSTAMP:20260425T144122
CREATED:20260421T171758Z
LAST-MODIFIED:20260421T171758Z
UID:161147-1784973600-1784979000@spcala.com
SUMMARY:Foster Training Class - July 25th
DESCRIPTION:[vc_row][vc_column][vc_column_text css=””]Are you interested in becoming a foster volunteer? We are hosting a training class on July 25th from 10am to 11:30am via Zoom. spcaLA covers all supplies and medical care and foster volunteers provide a home and TLC. Short and longer terms available. Application must be accepted prior to attending. Click here for more information and to submit an application.[/vc_column_text][/vc_column][/vc_row]
URL:https://spcala.com/event/foster-training-class-2026-2-2-2-2-2-2-2-2-2-2/
LOCATION:zoom
CATEGORIES:Foster Class
ATTACH;FMTTYPE=image/jpeg:https://eadn-wc04-6027823.nxedge.io/wp-content/uploads/2026/04/July-25.jpg
END:VEVENT
BEGIN:VEVENT
DTSTART;TZID=America/Los_Angeles:20260808T100000
DTEND;TZID=America/Los_Angeles:20260808T113000
DTSTAMP:20260425T144122
CREATED:20260421T172615Z
LAST-MODIFIED:20260421T172615Z
UID:161151-1786183200-1786188600@spcala.com
SUMMARY:Foster Training Class - August 8th
DESCRIPTION:[vc_row][vc_column][vc_column_text css=””]Are you interested in becoming a foster volunteer? We are hosting a training class on August 8th from 10am to 11:30am via Zoom. spcaLA covers all supplies and medical care and foster volunteers provide a home and TLC. Short and longer terms available. Application must be accepted prior to attending. Click here for more information and to submit an application.[/vc_column_text][/vc_column][/vc_row]
URL:https://spcala.com/event/foster-training-class-2026-2-2-2-2-2-2-2-2-2-2-2/
LOCATION:zoom
CATEGORIES:Foster Class
ATTACH;FMTTYPE=image/jpeg:https://eadn-wc04-6027823.nxedge.io/wp-content/uploads/2026/04/August-8th.jpg
END:VEVENT
END:VCALENDAR